BEGIN:VCALENDAR
VERSION:2.0
PRODID:-//Abundant Grace Church West Hills - ECPv6.15.13//NONSGML v1.0//EN
CALSCALE:GREGORIAN
METHOD:PUBLISH
X-ORIGINAL-URL:https://abundantgracechurchwh.org
X-WR-CALDESC:Events for Abundant Grace Church West Hills
REFRESH-INTERVAL;VALUE=DURATION:PT1H
X-Robots-Tag:noindex
X-PUBLISHED-TTL:PT1H
BEGIN:VTIMEZONE
TZID:America/New_York
BEGIN:DAYLIGHT
TZOFFSETFROM:-0500
TZOFFSETTO:-0400
TZNAME:EDT
DTSTART:20290311T070000
END:DAYLIGHT
BEGIN:STANDARD
TZOFFSETFROM:-0400
TZOFFSETTO:-0500
TZNAME:EST
DTSTART:20291104T060000
END:STANDARD
BEGIN:DAYLIGHT
TZOFFSETFROM:-0500
TZOFFSETTO:-0400
TZNAME:EDT
DTSTART:20300310T070000
END:DAYLIGHT
BEGIN:STANDARD
TZOFFSETFROM:-0400
TZOFFSETTO:-0500
TZNAME:EST
DTSTART:20301103T060000
END:STANDARD
BEGIN:DAYLIGHT
TZOFFSETFROM:-0500
TZOFFSETTO:-0400
TZNAME:EDT
DTSTART:20310309T070000
END:DAYLIGHT
BEGIN:STANDARD
TZOFFSETFROM:-0400
TZOFFSETTO:-0500
TZNAME:EST
DTSTART:20311102T060000
END:STANDARD
END:VTIMEZONE
BEGIN:VEVENT
DTSTART;TZID=America/New_York:20300515T090000
DTEND;TZID=America/New_York:20300515T100000
DTSTAMP:20260425T094059
CREATED:20251114T141209Z
LAST-MODIFIED:20251121T191131Z
UID:10001223-1905066000-1905069600@abundantgracechurchwh.org
SUMMARY:Morning Prayer Service
DESCRIPTION:Join us as we pray for our church\, neighborhoods\, cities\, state\, and our nation.
URL:https://abundantgracechurchwh.org/event/morning-prayer-service/2030-05-15/
LOCATION:Abundant Grace Church West Hills\, 1798 Brodhead Road\, Crescent\, 15046\, United States
CATEGORIES:Prayer Service
ORGANIZER;CN="Tracey Corso":MAILTO:pastortracey@abundantgracechurchwh.org
END:VEVENT
BEGIN:VEVENT
DTSTART;TZID=America/New_York:20300522T090000
DTEND;TZID=America/New_York:20300522T100000
DTSTAMP:20260425T094059
CREATED:20251114T141209Z
LAST-MODIFIED:20251121T191131Z
UID:10001224-1905670800-1905674400@abundantgracechurchwh.org
SUMMARY:Morning Prayer Service
DESCRIPTION:Join us as we pray for our church\, neighborhoods\, cities\, state\, and our nation.
URL:https://abundantgracechurchwh.org/event/morning-prayer-service/2030-05-22/
LOCATION:Abundant Grace Church West Hills\, 1798 Brodhead Road\, Crescent\, 15046\, United States
CATEGORIES:Prayer Service
ORGANIZER;CN="Tracey Corso":MAILTO:pastortracey@abundantgracechurchwh.org
END:VEVENT
BEGIN:VEVENT
DTSTART;TZID=America/New_York:20300529T090000
DTEND;TZID=America/New_York:20300529T100000
DTSTAMP:20260425T094059
CREATED:20251114T141209Z
LAST-MODIFIED:20251121T191131Z
UID:10001225-1906275600-1906279200@abundantgracechurchwh.org
SUMMARY:Morning Prayer Service
DESCRIPTION:Join us as we pray for our church\, neighborhoods\, cities\, state\, and our nation.
URL:https://abundantgracechurchwh.org/event/morning-prayer-service/2030-05-29/
LOCATION:Abundant Grace Church West Hills\, 1798 Brodhead Road\, Crescent\, 15046\, United States
CATEGORIES:Prayer Service
ORGANIZER;CN="Tracey Corso":MAILTO:pastortracey@abundantgracechurchwh.org
END:VEVENT
BEGIN:VEVENT
DTSTART;TZID=America/New_York:20300605T090000
DTEND;TZID=America/New_York:20300605T100000
DTSTAMP:20260425T094059
CREATED:20251114T141209Z
LAST-MODIFIED:20251121T191131Z
UID:10001226-1906880400-1906884000@abundantgracechurchwh.org
SUMMARY:Morning Prayer Service
DESCRIPTION:Join us as we pray for our church\, neighborhoods\, cities\, state\, and our nation.
URL:https://abundantgracechurchwh.org/event/morning-prayer-service/2030-06-05/
LOCATION:Abundant Grace Church West Hills\, 1798 Brodhead Road\, Crescent\, 15046\, United States
CATEGORIES:Prayer Service
ORGANIZER;CN="Tracey Corso":MAILTO:pastortracey@abundantgracechurchwh.org
END:VEVENT
BEGIN:VEVENT
DTSTART;TZID=America/New_York:20300612T090000
DTEND;TZID=America/New_York:20300612T100000
DTSTAMP:20260425T094059
CREATED:20251114T141209Z
LAST-MODIFIED:20251121T191131Z
UID:10001227-1907485200-1907488800@abundantgracechurchwh.org
SUMMARY:Morning Prayer Service
DESCRIPTION:Join us as we pray for our church\, neighborhoods\, cities\, state\, and our nation.
URL:https://abundantgracechurchwh.org/event/morning-prayer-service/2030-06-12/
LOCATION:Abundant Grace Church West Hills\, 1798 Brodhead Road\, Crescent\, 15046\, United States
CATEGORIES:Prayer Service
ORGANIZER;CN="Tracey Corso":MAILTO:pastortracey@abundantgracechurchwh.org
END:VEVENT
BEGIN:VEVENT
DTSTART;TZID=America/New_York:20300619T090000
DTEND;TZID=America/New_York:20300619T100000
DTSTAMP:20260425T094059
CREATED:20251114T141209Z
LAST-MODIFIED:20251121T191131Z
UID:10001228-1908090000-1908093600@abundantgracechurchwh.org
SUMMARY:Morning Prayer Service
DESCRIPTION:Join us as we pray for our church\, neighborhoods\, cities\, state\, and our nation.
URL:https://abundantgracechurchwh.org/event/morning-prayer-service/2030-06-19/
LOCATION:Abundant Grace Church West Hills\, 1798 Brodhead Road\, Crescent\, 15046\, United States
CATEGORIES:Prayer Service
ORGANIZER;CN="Tracey Corso":MAILTO:pastortracey@abundantgracechurchwh.org
END:VEVENT
BEGIN:VEVENT
DTSTART;TZID=America/New_York:20300626T090000
DTEND;TZID=America/New_York:20300626T100000
DTSTAMP:20260425T094059
CREATED:20251114T141209Z
LAST-MODIFIED:20251121T191131Z
UID:10001229-1908694800-1908698400@abundantgracechurchwh.org
SUMMARY:Morning Prayer Service
DESCRIPTION:Join us as we pray for our church\, neighborhoods\, cities\, state\, and our nation.
URL:https://abundantgracechurchwh.org/event/morning-prayer-service/2030-06-26/
LOCATION:Abundant Grace Church West Hills\, 1798 Brodhead Road\, Crescent\, 15046\, United States
CATEGORIES:Prayer Service
ORGANIZER;CN="Tracey Corso":MAILTO:pastortracey@abundantgracechurchwh.org
END:VEVENT
BEGIN:VEVENT
DTSTART;TZID=America/New_York:20300703T090000
DTEND;TZID=America/New_York:20300703T100000
DTSTAMP:20260425T094059
CREATED:20251114T141209Z
LAST-MODIFIED:20251121T191131Z
UID:10001230-1909299600-1909303200@abundantgracechurchwh.org
SUMMARY:Morning Prayer Service
DESCRIPTION:Join us as we pray for our church\, neighborhoods\, cities\, state\, and our nation.
URL:https://abundantgracechurchwh.org/event/morning-prayer-service/2030-07-03/
LOCATION:Abundant Grace Church West Hills\, 1798 Brodhead Road\, Crescent\, 15046\, United States
CATEGORIES:Prayer Service
ORGANIZER;CN="Tracey Corso":MAILTO:pastortracey@abundantgracechurchwh.org
END:VEVENT
BEGIN:VEVENT
DTSTART;TZID=America/New_York:20300710T090000
DTEND;TZID=America/New_York:20300710T100000
DTSTAMP:20260425T094059
CREATED:20251114T141209Z
LAST-MODIFIED:20251121T191131Z
UID:10001231-1909904400-1909908000@abundantgracechurchwh.org
SUMMARY:Morning Prayer Service
DESCRIPTION:Join us as we pray for our church\, neighborhoods\, cities\, state\, and our nation.
URL:https://abundantgracechurchwh.org/event/morning-prayer-service/2030-07-10/
LOCATION:Abundant Grace Church West Hills\, 1798 Brodhead Road\, Crescent\, 15046\, United States
CATEGORIES:Prayer Service
ORGANIZER;CN="Tracey Corso":MAILTO:pastortracey@abundantgracechurchwh.org
END:VEVENT
BEGIN:VEVENT
DTSTART;TZID=America/New_York:20300717T090000
DTEND;TZID=America/New_York:20300717T100000
DTSTAMP:20260425T094059
CREATED:20251114T141209Z
LAST-MODIFIED:20251121T191131Z
UID:10001232-1910509200-1910512800@abundantgracechurchwh.org
SUMMARY:Morning Prayer Service
DESCRIPTION:Join us as we pray for our church\, neighborhoods\, cities\, state\, and our nation.
URL:https://abundantgracechurchwh.org/event/morning-prayer-service/2030-07-17/
LOCATION:Abundant Grace Church West Hills\, 1798 Brodhead Road\, Crescent\, 15046\, United States
CATEGORIES:Prayer Service
ORGANIZER;CN="Tracey Corso":MAILTO:pastortracey@abundantgracechurchwh.org
END:VEVENT
BEGIN:VEVENT
DTSTART;TZID=America/New_York:20300724T090000
DTEND;TZID=America/New_York:20300724T100000
DTSTAMP:20260425T094059
CREATED:20251114T141209Z
LAST-MODIFIED:20251121T191131Z
UID:10001233-1911114000-1911117600@abundantgracechurchwh.org
SUMMARY:Morning Prayer Service
DESCRIPTION:Join us as we pray for our church\, neighborhoods\, cities\, state\, and our nation.
URL:https://abundantgracechurchwh.org/event/morning-prayer-service/2030-07-24/
LOCATION:Abundant Grace Church West Hills\, 1798 Brodhead Road\, Crescent\, 15046\, United States
CATEGORIES:Prayer Service
ORGANIZER;CN="Tracey Corso":MAILTO:pastortracey@abundantgracechurchwh.org
END:VEVENT
BEGIN:VEVENT
DTSTART;TZID=America/New_York:20300731T090000
DTEND;TZID=America/New_York:20300731T100000
DTSTAMP:20260425T094059
CREATED:20251114T141209Z
LAST-MODIFIED:20251121T191131Z
UID:10001234-1911718800-1911722400@abundantgracechurchwh.org
SUMMARY:Morning Prayer Service
DESCRIPTION:Join us as we pray for our church\, neighborhoods\, cities\, state\, and our nation.
URL:https://abundantgracechurchwh.org/event/morning-prayer-service/2030-07-31/
LOCATION:Abundant Grace Church West Hills\, 1798 Brodhead Road\, Crescent\, 15046\, United States
CATEGORIES:Prayer Service
ORGANIZER;CN="Tracey Corso":MAILTO:pastortracey@abundantgracechurchwh.org
END:VEVENT
BEGIN:VEVENT
DTSTART;TZID=America/New_York:20300807T090000
DTEND;TZID=America/New_York:20300807T100000
DTSTAMP:20260425T094059
CREATED:20251114T141209Z
LAST-MODIFIED:20251121T191131Z
UID:10001235-1912323600-1912327200@abundantgracechurchwh.org
SUMMARY:Morning Prayer Service
DESCRIPTION:Join us as we pray for our church\, neighborhoods\, cities\, state\, and our nation.
URL:https://abundantgracechurchwh.org/event/morning-prayer-service/2030-08-07/
LOCATION:Abundant Grace Church West Hills\, 1798 Brodhead Road\, Crescent\, 15046\, United States
CATEGORIES:Prayer Service
ORGANIZER;CN="Tracey Corso":MAILTO:pastortracey@abundantgracechurchwh.org
END:VEVENT
BEGIN:VEVENT
DTSTART;TZID=America/New_York:20300814T090000
DTEND;TZID=America/New_York:20300814T100000
DTSTAMP:20260425T094059
CREATED:20251114T141209Z
LAST-MODIFIED:20251121T191131Z
UID:10001236-1912928400-1912932000@abundantgracechurchwh.org
SUMMARY:Morning Prayer Service
DESCRIPTION:Join us as we pray for our church\, neighborhoods\, cities\, state\, and our nation.
URL:https://abundantgracechurchwh.org/event/morning-prayer-service/2030-08-14/
LOCATION:Abundant Grace Church West Hills\, 1798 Brodhead Road\, Crescent\, 15046\, United States
CATEGORIES:Prayer Service
ORGANIZER;CN="Tracey Corso":MAILTO:pastortracey@abundantgracechurchwh.org
END:VEVENT
BEGIN:VEVENT
DTSTART;TZID=America/New_York:20300821T090000
DTEND;TZID=America/New_York:20300821T100000
DTSTAMP:20260425T094059
CREATED:20251114T141209Z
LAST-MODIFIED:20251121T191131Z
UID:10001237-1913533200-1913536800@abundantgracechurchwh.org
SUMMARY:Morning Prayer Service
DESCRIPTION:Join us as we pray for our church\, neighborhoods\, cities\, state\, and our nation.
URL:https://abundantgracechurchwh.org/event/morning-prayer-service/2030-08-21/
LOCATION:Abundant Grace Church West Hills\, 1798 Brodhead Road\, Crescent\, 15046\, United States
CATEGORIES:Prayer Service
ORGANIZER;CN="Tracey Corso":MAILTO:pastortracey@abundantgracechurchwh.org
END:VEVENT
BEGIN:VEVENT
DTSTART;TZID=America/New_York:20300828T090000
DTEND;TZID=America/New_York:20300828T100000
DTSTAMP:20260425T094059
CREATED:20251114T141209Z
LAST-MODIFIED:20251121T191131Z
UID:10001238-1914138000-1914141600@abundantgracechurchwh.org
SUMMARY:Morning Prayer Service
DESCRIPTION:Join us as we pray for our church\, neighborhoods\, cities\, state\, and our nation.
URL:https://abundantgracechurchwh.org/event/morning-prayer-service/2030-08-28/
LOCATION:Abundant Grace Church West Hills\, 1798 Brodhead Road\, Crescent\, 15046\, United States
CATEGORIES:Prayer Service
ORGANIZER;CN="Tracey Corso":MAILTO:pastortracey@abundantgracechurchwh.org
END:VEVENT
BEGIN:VEVENT
DTSTART;TZID=America/New_York:20300904T090000
DTEND;TZID=America/New_York:20300904T100000
DTSTAMP:20260425T094059
CREATED:20251114T141209Z
LAST-MODIFIED:20251121T191131Z
UID:10001239-1914742800-1914746400@abundantgracechurchwh.org
SUMMARY:Morning Prayer Service
DESCRIPTION:Join us as we pray for our church\, neighborhoods\, cities\, state\, and our nation.
URL:https://abundantgracechurchwh.org/event/morning-prayer-service/2030-09-04/
LOCATION:Abundant Grace Church West Hills\, 1798 Brodhead Road\, Crescent\, 15046\, United States
CATEGORIES:Prayer Service
ORGANIZER;CN="Tracey Corso":MAILTO:pastortracey@abundantgracechurchwh.org
END:VEVENT
BEGIN:VEVENT
DTSTART;TZID=America/New_York:20300911T090000
DTEND;TZID=America/New_York:20300911T100000
DTSTAMP:20260425T094059
CREATED:20251114T141209Z
LAST-MODIFIED:20251121T191131Z
UID:10001240-1915347600-1915351200@abundantgracechurchwh.org
SUMMARY:Morning Prayer Service
DESCRIPTION:Join us as we pray for our church\, neighborhoods\, cities\, state\, and our nation.
URL:https://abundantgracechurchwh.org/event/morning-prayer-service/2030-09-11/
LOCATION:Abundant Grace Church West Hills\, 1798 Brodhead Road\, Crescent\, 15046\, United States
CATEGORIES:Prayer Service
ORGANIZER;CN="Tracey Corso":MAILTO:pastortracey@abundantgracechurchwh.org
END:VEVENT
BEGIN:VEVENT
DTSTART;TZID=America/New_York:20300918T090000
DTEND;TZID=America/New_York:20300918T100000
DTSTAMP:20260425T094059
CREATED:20251114T141209Z
LAST-MODIFIED:20251121T191131Z
UID:10001241-1915952400-1915956000@abundantgracechurchwh.org
SUMMARY:Morning Prayer Service
DESCRIPTION:Join us as we pray for our church\, neighborhoods\, cities\, state\, and our nation.
URL:https://abundantgracechurchwh.org/event/morning-prayer-service/2030-09-18/
LOCATION:Abundant Grace Church West Hills\, 1798 Brodhead Road\, Crescent\, 15046\, United States
CATEGORIES:Prayer Service
ORGANIZER;CN="Tracey Corso":MAILTO:pastortracey@abundantgracechurchwh.org
END:VEVENT
BEGIN:VEVENT
DTSTART;TZID=America/New_York:20300925T090000
DTEND;TZID=America/New_York:20300925T100000
DTSTAMP:20260425T094059
CREATED:20251114T141209Z
LAST-MODIFIED:20251121T191131Z
UID:10001242-1916557200-1916560800@abundantgracechurchwh.org
SUMMARY:Morning Prayer Service
DESCRIPTION:Join us as we pray for our church\, neighborhoods\, cities\, state\, and our nation.
URL:https://abundantgracechurchwh.org/event/morning-prayer-service/2030-09-25/
LOCATION:Abundant Grace Church West Hills\, 1798 Brodhead Road\, Crescent\, 15046\, United States
CATEGORIES:Prayer Service
ORGANIZER;CN="Tracey Corso":MAILTO:pastortracey@abundantgracechurchwh.org
END:VEVENT
BEGIN:VEVENT
DTSTART;TZID=America/New_York:20301002T090000
DTEND;TZID=America/New_York:20301002T100000
DTSTAMP:20260425T094059
CREATED:20251114T141209Z
LAST-MODIFIED:20251121T191131Z
UID:10001243-1917162000-1917165600@abundantgracechurchwh.org
SUMMARY:Morning Prayer Service
DESCRIPTION:Join us as we pray for our church\, neighborhoods\, cities\, state\, and our nation.
URL:https://abundantgracechurchwh.org/event/morning-prayer-service/2030-10-02/
LOCATION:Abundant Grace Church West Hills\, 1798 Brodhead Road\, Crescent\, 15046\, United States
CATEGORIES:Prayer Service
ORGANIZER;CN="Tracey Corso":MAILTO:pastortracey@abundantgracechurchwh.org
END:VEVENT
BEGIN:VEVENT
DTSTART;TZID=America/New_York:20301009T090000
DTEND;TZID=America/New_York:20301009T100000
DTSTAMP:20260425T094059
CREATED:20251114T141209Z
LAST-MODIFIED:20251121T191131Z
UID:10001244-1917766800-1917770400@abundantgracechurchwh.org
SUMMARY:Morning Prayer Service
DESCRIPTION:Join us as we pray for our church\, neighborhoods\, cities\, state\, and our nation.
URL:https://abundantgracechurchwh.org/event/morning-prayer-service/2030-10-09/
LOCATION:Abundant Grace Church West Hills\, 1798 Brodhead Road\, Crescent\, 15046\, United States
CATEGORIES:Prayer Service
ORGANIZER;CN="Tracey Corso":MAILTO:pastortracey@abundantgracechurchwh.org
END:VEVENT
BEGIN:VEVENT
DTSTART;TZID=America/New_York:20301016T090000
DTEND;TZID=America/New_York:20301016T100000
DTSTAMP:20260425T094059
CREATED:20251114T141209Z
LAST-MODIFIED:20251121T191131Z
UID:10001245-1918371600-1918375200@abundantgracechurchwh.org
SUMMARY:Morning Prayer Service
DESCRIPTION:Join us as we pray for our church\, neighborhoods\, cities\, state\, and our nation.
URL:https://abundantgracechurchwh.org/event/morning-prayer-service/2030-10-16/
LOCATION:Abundant Grace Church West Hills\, 1798 Brodhead Road\, Crescent\, 15046\, United States
CATEGORIES:Prayer Service
ORGANIZER;CN="Tracey Corso":MAILTO:pastortracey@abundantgracechurchwh.org
END:VEVENT
BEGIN:VEVENT
DTSTART;TZID=America/New_York:20301023T090000
DTEND;TZID=America/New_York:20301023T100000
DTSTAMP:20260425T094059
CREATED:20251114T141209Z
LAST-MODIFIED:20251121T191131Z
UID:10001246-1918976400-1918980000@abundantgracechurchwh.org
SUMMARY:Morning Prayer Service
DESCRIPTION:Join us as we pray for our church\, neighborhoods\, cities\, state\, and our nation.
URL:https://abundantgracechurchwh.org/event/morning-prayer-service/2030-10-23/
LOCATION:Abundant Grace Church West Hills\, 1798 Brodhead Road\, Crescent\, 15046\, United States
CATEGORIES:Prayer Service
ORGANIZER;CN="Tracey Corso":MAILTO:pastortracey@abundantgracechurchwh.org
END:VEVENT
BEGIN:VEVENT
DTSTART;TZID=America/New_York:20301030T090000
DTEND;TZID=America/New_York:20301030T100000
DTSTAMP:20260425T094059
CREATED:20251114T141209Z
LAST-MODIFIED:20251121T191131Z
UID:10001247-1919581200-1919584800@abundantgracechurchwh.org
SUMMARY:Morning Prayer Service
DESCRIPTION:Join us as we pray for our church\, neighborhoods\, cities\, state\, and our nation.
URL:https://abundantgracechurchwh.org/event/morning-prayer-service/2030-10-30/
LOCATION:Abundant Grace Church West Hills\, 1798 Brodhead Road\, Crescent\, 15046\, United States
CATEGORIES:Prayer Service
ORGANIZER;CN="Tracey Corso":MAILTO:pastortracey@abundantgracechurchwh.org
END:VEVENT
BEGIN:VEVENT
DTSTART;TZID=America/New_York:20301106T090000
DTEND;TZID=America/New_York:20301106T100000
DTSTAMP:20260425T094059
CREATED:20251114T141209Z
LAST-MODIFIED:20251121T191131Z
UID:10001248-1920186000-1920189600@abundantgracechurchwh.org
SUMMARY:Morning Prayer Service
DESCRIPTION:Join us as we pray for our church\, neighborhoods\, cities\, state\, and our nation.
URL:https://abundantgracechurchwh.org/event/morning-prayer-service/2030-11-06/
LOCATION:Abundant Grace Church West Hills\, 1798 Brodhead Road\, Crescent\, 15046\, United States
CATEGORIES:Prayer Service
ORGANIZER;CN="Tracey Corso":MAILTO:pastortracey@abundantgracechurchwh.org
END:VEVENT
BEGIN:VEVENT
DTSTART;TZID=America/New_York:20301113T090000
DTEND;TZID=America/New_York:20301113T100000
DTSTAMP:20260425T094059
CREATED:20251114T141209Z
LAST-MODIFIED:20251121T191131Z
UID:10001249-1920790800-1920794400@abundantgracechurchwh.org
SUMMARY:Morning Prayer Service
DESCRIPTION:Join us as we pray for our church\, neighborhoods\, cities\, state\, and our nation.
URL:https://abundantgracechurchwh.org/event/morning-prayer-service/2030-11-13/
LOCATION:Abundant Grace Church West Hills\, 1798 Brodhead Road\, Crescent\, 15046\, United States
CATEGORIES:Prayer Service
ORGANIZER;CN="Tracey Corso":MAILTO:pastortracey@abundantgracechurchwh.org
END:VEVENT
BEGIN:VEVENT
DTSTART;TZID=America/New_York:20301120T090000
DTEND;TZID=America/New_York:20301120T100000
DTSTAMP:20260425T094059
CREATED:20251114T141209Z
LAST-MODIFIED:20251121T191131Z
UID:10001634-1921395600-1921399200@abundantgracechurchwh.org
SUMMARY:Morning Prayer Service
DESCRIPTION:Join us as we pray for our church\, neighborhoods\, cities\, state\, and our nation.
URL:https://abundantgracechurchwh.org/event/morning-prayer-service/2030-11-20/
LOCATION:Abundant Grace Church West Hills\, 1798 Brodhead Road\, Crescent\, 15046\, United States
CATEGORIES:Prayer Service
ORGANIZER;CN="Tracey Corso":MAILTO:pastortracey@abundantgracechurchwh.org
END:VEVENT
END:VCALENDAR