BEGIN:VCALENDAR
VERSION:2.0
PRODID:-//Abundant Grace Church West Hills - ECPv6.15.13//NONSGML v1.0//EN
CALSCALE:GREGORIAN
METHOD:PUBLISH
X-WR-CALNAME:Abundant Grace Church West Hills
X-ORIGINAL-URL:https://abundantgracechurchwh.org
X-WR-CALDESC:Events for Abundant Grace Church West Hills
REFRESH-INTERVAL;VALUE=DURATION:PT1H
X-Robots-Tag:noindex
X-PUBLISHED-TTL:PT1H
BEGIN:VTIMEZONE
TZID:America/New_York
BEGIN:DAYLIGHT
TZOFFSETFROM:-0500
TZOFFSETTO:-0400
TZNAME:EDT
DTSTART:20250309T070000
END:DAYLIGHT
BEGIN:STANDARD
TZOFFSETFROM:-0400
TZOFFSETTO:-0500
TZNAME:EST
DTSTART:20251102T060000
END:STANDARD
BEGIN:DAYLIGHT
TZOFFSETFROM:-0500
TZOFFSETTO:-0400
TZNAME:EDT
DTSTART:20260308T070000
END:DAYLIGHT
BEGIN:STANDARD
TZOFFSETFROM:-0400
TZOFFSETTO:-0500
TZNAME:EST
DTSTART:20261101T060000
END:STANDARD
BEGIN:DAYLIGHT
TZOFFSETFROM:-0500
TZOFFSETTO:-0400
TZNAME:EDT
DTSTART:20270314T070000
END:DAYLIGHT
BEGIN:STANDARD
TZOFFSETFROM:-0400
TZOFFSETTO:-0500
TZNAME:EST
DTSTART:20271107T060000
END:STANDARD
BEGIN:DAYLIGHT
TZOFFSETFROM:-0500
TZOFFSETTO:-0400
TZNAME:EDT
DTSTART:20280312T070000
END:DAYLIGHT
BEGIN:STANDARD
TZOFFSETFROM:-0400
TZOFFSETTO:-0500
TZNAME:EST
DTSTART:20281105T060000
END:STANDARD
END:VTIMEZONE
BEGIN:VEVENT
DTSTART;TZID=America/New_York:20260701T090000
DTEND;TZID=America/New_York:20260701T100000
DTSTAMP:20260423T201848
CREATED:20251114T141209Z
LAST-MODIFIED:20251121T191131Z
UID:10001021-1782896400-1782900000@abundantgracechurchwh.org
SUMMARY:Morning Prayer Service
DESCRIPTION:Join us as we pray for our church\, neighborhoods\, cities\, state\, and our nation.
URL:https://abundantgracechurchwh.org/event/morning-prayer-service/2026-07-01/
LOCATION:Abundant Grace Church West Hills\, 1798 Brodhead Road\, Crescent\, 15046\, United States
CATEGORIES:Prayer Service
ORGANIZER;CN="Tracey Corso":MAILTO:pastortracey@abundantgracechurchwh.org
END:VEVENT
BEGIN:VEVENT
DTSTART;TZID=America/New_York:20260708T090000
DTEND;TZID=America/New_York:20260708T100000
DTSTAMP:20260423T201848
CREATED:20251114T141209Z
LAST-MODIFIED:20251121T191131Z
UID:10001022-1783501200-1783504800@abundantgracechurchwh.org
SUMMARY:Morning Prayer Service
DESCRIPTION:Join us as we pray for our church\, neighborhoods\, cities\, state\, and our nation.
URL:https://abundantgracechurchwh.org/event/morning-prayer-service/2026-07-08/
LOCATION:Abundant Grace Church West Hills\, 1798 Brodhead Road\, Crescent\, 15046\, United States
CATEGORIES:Prayer Service
ORGANIZER;CN="Tracey Corso":MAILTO:pastortracey@abundantgracechurchwh.org
END:VEVENT
BEGIN:VEVENT
DTSTART;TZID=America/New_York:20260715T090000
DTEND;TZID=America/New_York:20260715T100000
DTSTAMP:20260423T201848
CREATED:20251114T141209Z
LAST-MODIFIED:20251121T191131Z
UID:10001023-1784106000-1784109600@abundantgracechurchwh.org
SUMMARY:Morning Prayer Service
DESCRIPTION:Join us as we pray for our church\, neighborhoods\, cities\, state\, and our nation.
URL:https://abundantgracechurchwh.org/event/morning-prayer-service/2026-07-15/
LOCATION:Abundant Grace Church West Hills\, 1798 Brodhead Road\, Crescent\, 15046\, United States
CATEGORIES:Prayer Service
ORGANIZER;CN="Tracey Corso":MAILTO:pastortracey@abundantgracechurchwh.org
END:VEVENT
BEGIN:VEVENT
DTSTART;TZID=America/New_York:20260722T090000
DTEND;TZID=America/New_York:20260722T100000
DTSTAMP:20260423T201848
CREATED:20251114T141209Z
LAST-MODIFIED:20251121T191131Z
UID:10001024-1784710800-1784714400@abundantgracechurchwh.org
SUMMARY:Morning Prayer Service
DESCRIPTION:Join us as we pray for our church\, neighborhoods\, cities\, state\, and our nation.
URL:https://abundantgracechurchwh.org/event/morning-prayer-service/2026-07-22/
LOCATION:Abundant Grace Church West Hills\, 1798 Brodhead Road\, Crescent\, 15046\, United States
CATEGORIES:Prayer Service
ORGANIZER;CN="Tracey Corso":MAILTO:pastortracey@abundantgracechurchwh.org
END:VEVENT
BEGIN:VEVENT
DTSTART;TZID=America/New_York:20260729T090000
DTEND;TZID=America/New_York:20260729T100000
DTSTAMP:20260423T201848
CREATED:20251114T141209Z
LAST-MODIFIED:20251121T191131Z
UID:10001025-1785315600-1785319200@abundantgracechurchwh.org
SUMMARY:Morning Prayer Service
DESCRIPTION:Join us as we pray for our church\, neighborhoods\, cities\, state\, and our nation.
URL:https://abundantgracechurchwh.org/event/morning-prayer-service/2026-07-29/
LOCATION:Abundant Grace Church West Hills\, 1798 Brodhead Road\, Crescent\, 15046\, United States
CATEGORIES:Prayer Service
ORGANIZER;CN="Tracey Corso":MAILTO:pastortracey@abundantgracechurchwh.org
END:VEVENT
BEGIN:VEVENT
DTSTART;TZID=America/New_York:20260805T090000
DTEND;TZID=America/New_York:20260805T100000
DTSTAMP:20260423T201848
CREATED:20251114T141209Z
LAST-MODIFIED:20251121T191131Z
UID:10001026-1785920400-1785924000@abundantgracechurchwh.org
SUMMARY:Morning Prayer Service
DESCRIPTION:Join us as we pray for our church\, neighborhoods\, cities\, state\, and our nation.
URL:https://abundantgracechurchwh.org/event/morning-prayer-service/2026-08-05/
LOCATION:Abundant Grace Church West Hills\, 1798 Brodhead Road\, Crescent\, 15046\, United States
CATEGORIES:Prayer Service
ORGANIZER;CN="Tracey Corso":MAILTO:pastortracey@abundantgracechurchwh.org
END:VEVENT
BEGIN:VEVENT
DTSTART;TZID=America/New_York:20260812T090000
DTEND;TZID=America/New_York:20260812T100000
DTSTAMP:20260423T201848
CREATED:20251114T141209Z
LAST-MODIFIED:20251121T191131Z
UID:10001027-1786525200-1786528800@abundantgracechurchwh.org
SUMMARY:Morning Prayer Service
DESCRIPTION:Join us as we pray for our church\, neighborhoods\, cities\, state\, and our nation.
URL:https://abundantgracechurchwh.org/event/morning-prayer-service/2026-08-12/
LOCATION:Abundant Grace Church West Hills\, 1798 Brodhead Road\, Crescent\, 15046\, United States
CATEGORIES:Prayer Service
ORGANIZER;CN="Tracey Corso":MAILTO:pastortracey@abundantgracechurchwh.org
END:VEVENT
BEGIN:VEVENT
DTSTART;TZID=America/New_York:20260819T090000
DTEND;TZID=America/New_York:20260819T100000
DTSTAMP:20260423T201848
CREATED:20251114T141209Z
LAST-MODIFIED:20251121T191131Z
UID:10001028-1787130000-1787133600@abundantgracechurchwh.org
SUMMARY:Morning Prayer Service
DESCRIPTION:Join us as we pray for our church\, neighborhoods\, cities\, state\, and our nation.
URL:https://abundantgracechurchwh.org/event/morning-prayer-service/2026-08-19/
LOCATION:Abundant Grace Church West Hills\, 1798 Brodhead Road\, Crescent\, 15046\, United States
CATEGORIES:Prayer Service
ORGANIZER;CN="Tracey Corso":MAILTO:pastortracey@abundantgracechurchwh.org
END:VEVENT
BEGIN:VEVENT
DTSTART;TZID=America/New_York:20260826T090000
DTEND;TZID=America/New_York:20260826T100000
DTSTAMP:20260423T201848
CREATED:20251114T141209Z
LAST-MODIFIED:20251121T191131Z
UID:10001029-1787734800-1787738400@abundantgracechurchwh.org
SUMMARY:Morning Prayer Service
DESCRIPTION:Join us as we pray for our church\, neighborhoods\, cities\, state\, and our nation.
URL:https://abundantgracechurchwh.org/event/morning-prayer-service/2026-08-26/
LOCATION:Abundant Grace Church West Hills\, 1798 Brodhead Road\, Crescent\, 15046\, United States
CATEGORIES:Prayer Service
ORGANIZER;CN="Tracey Corso":MAILTO:pastortracey@abundantgracechurchwh.org
END:VEVENT
BEGIN:VEVENT
DTSTART;TZID=America/New_York:20260902T090000
DTEND;TZID=America/New_York:20260902T100000
DTSTAMP:20260423T201848
CREATED:20251114T141209Z
LAST-MODIFIED:20251121T191131Z
UID:10001030-1788339600-1788343200@abundantgracechurchwh.org
SUMMARY:Morning Prayer Service
DESCRIPTION:Join us as we pray for our church\, neighborhoods\, cities\, state\, and our nation.
URL:https://abundantgracechurchwh.org/event/morning-prayer-service/2026-09-02/
LOCATION:Abundant Grace Church West Hills\, 1798 Brodhead Road\, Crescent\, 15046\, United States
CATEGORIES:Prayer Service
ORGANIZER;CN="Tracey Corso":MAILTO:pastortracey@abundantgracechurchwh.org
END:VEVENT
BEGIN:VEVENT
DTSTART;TZID=America/New_York:20260909T090000
DTEND;TZID=America/New_York:20260909T100000
DTSTAMP:20260423T201848
CREATED:20251114T141209Z
LAST-MODIFIED:20251121T191131Z
UID:10001031-1788944400-1788948000@abundantgracechurchwh.org
SUMMARY:Morning Prayer Service
DESCRIPTION:Join us as we pray for our church\, neighborhoods\, cities\, state\, and our nation.
URL:https://abundantgracechurchwh.org/event/morning-prayer-service/2026-09-09/
LOCATION:Abundant Grace Church West Hills\, 1798 Brodhead Road\, Crescent\, 15046\, United States
CATEGORIES:Prayer Service
ORGANIZER;CN="Tracey Corso":MAILTO:pastortracey@abundantgracechurchwh.org
END:VEVENT
BEGIN:VEVENT
DTSTART;TZID=America/New_York:20260916T090000
DTEND;TZID=America/New_York:20260916T100000
DTSTAMP:20260423T201848
CREATED:20251114T141209Z
LAST-MODIFIED:20251121T191131Z
UID:10001032-1789549200-1789552800@abundantgracechurchwh.org
SUMMARY:Morning Prayer Service
DESCRIPTION:Join us as we pray for our church\, neighborhoods\, cities\, state\, and our nation.
URL:https://abundantgracechurchwh.org/event/morning-prayer-service/2026-09-16/
LOCATION:Abundant Grace Church West Hills\, 1798 Brodhead Road\, Crescent\, 15046\, United States
CATEGORIES:Prayer Service
ORGANIZER;CN="Tracey Corso":MAILTO:pastortracey@abundantgracechurchwh.org
END:VEVENT
BEGIN:VEVENT
DTSTART;TZID=America/New_York:20260923T090000
DTEND;TZID=America/New_York:20260923T100000
DTSTAMP:20260423T201848
CREATED:20251114T141209Z
LAST-MODIFIED:20251121T191131Z
UID:10001033-1790154000-1790157600@abundantgracechurchwh.org
SUMMARY:Morning Prayer Service
DESCRIPTION:Join us as we pray for our church\, neighborhoods\, cities\, state\, and our nation.
URL:https://abundantgracechurchwh.org/event/morning-prayer-service/2026-09-23/
LOCATION:Abundant Grace Church West Hills\, 1798 Brodhead Road\, Crescent\, 15046\, United States
CATEGORIES:Prayer Service
ORGANIZER;CN="Tracey Corso":MAILTO:pastortracey@abundantgracechurchwh.org
END:VEVENT
BEGIN:VEVENT
DTSTART;TZID=America/New_York:20260930T090000
DTEND;TZID=America/New_York:20260930T100000
DTSTAMP:20260423T201848
CREATED:20251114T141209Z
LAST-MODIFIED:20251121T191131Z
UID:10001034-1790758800-1790762400@abundantgracechurchwh.org
SUMMARY:Morning Prayer Service
DESCRIPTION:Join us as we pray for our church\, neighborhoods\, cities\, state\, and our nation.
URL:https://abundantgracechurchwh.org/event/morning-prayer-service/2026-09-30/
LOCATION:Abundant Grace Church West Hills\, 1798 Brodhead Road\, Crescent\, 15046\, United States
CATEGORIES:Prayer Service
ORGANIZER;CN="Tracey Corso":MAILTO:pastortracey@abundantgracechurchwh.org
END:VEVENT
BEGIN:VEVENT
DTSTART;TZID=America/New_York:20261007T090000
DTEND;TZID=America/New_York:20261007T100000
DTSTAMP:20260423T201848
CREATED:20251114T141209Z
LAST-MODIFIED:20251121T191131Z
UID:10001035-1791363600-1791367200@abundantgracechurchwh.org
SUMMARY:Morning Prayer Service
DESCRIPTION:Join us as we pray for our church\, neighborhoods\, cities\, state\, and our nation.
URL:https://abundantgracechurchwh.org/event/morning-prayer-service/2026-10-07/
LOCATION:Abundant Grace Church West Hills\, 1798 Brodhead Road\, Crescent\, 15046\, United States
CATEGORIES:Prayer Service
ORGANIZER;CN="Tracey Corso":MAILTO:pastortracey@abundantgracechurchwh.org
END:VEVENT
BEGIN:VEVENT
DTSTART;TZID=America/New_York:20261014T090000
DTEND;TZID=America/New_York:20261014T100000
DTSTAMP:20260423T201848
CREATED:20251114T141209Z
LAST-MODIFIED:20251121T191131Z
UID:10001036-1791968400-1791972000@abundantgracechurchwh.org
SUMMARY:Morning Prayer Service
DESCRIPTION:Join us as we pray for our church\, neighborhoods\, cities\, state\, and our nation.
URL:https://abundantgracechurchwh.org/event/morning-prayer-service/2026-10-14/
LOCATION:Abundant Grace Church West Hills\, 1798 Brodhead Road\, Crescent\, 15046\, United States
CATEGORIES:Prayer Service
ORGANIZER;CN="Tracey Corso":MAILTO:pastortracey@abundantgracechurchwh.org
END:VEVENT
BEGIN:VEVENT
DTSTART;TZID=America/New_York:20261021T090000
DTEND;TZID=America/New_York:20261021T100000
DTSTAMP:20260423T201848
CREATED:20251114T141209Z
LAST-MODIFIED:20251121T191131Z
UID:10001037-1792573200-1792576800@abundantgracechurchwh.org
SUMMARY:Morning Prayer Service
DESCRIPTION:Join us as we pray for our church\, neighborhoods\, cities\, state\, and our nation.
URL:https://abundantgracechurchwh.org/event/morning-prayer-service/2026-10-21/
LOCATION:Abundant Grace Church West Hills\, 1798 Brodhead Road\, Crescent\, 15046\, United States
CATEGORIES:Prayer Service
ORGANIZER;CN="Tracey Corso":MAILTO:pastortracey@abundantgracechurchwh.org
END:VEVENT
BEGIN:VEVENT
DTSTART;TZID=America/New_York:20261028T090000
DTEND;TZID=America/New_York:20261028T100000
DTSTAMP:20260423T201848
CREATED:20251114T141209Z
LAST-MODIFIED:20251121T191131Z
UID:10001038-1793178000-1793181600@abundantgracechurchwh.org
SUMMARY:Morning Prayer Service
DESCRIPTION:Join us as we pray for our church\, neighborhoods\, cities\, state\, and our nation.
URL:https://abundantgracechurchwh.org/event/morning-prayer-service/2026-10-28/
LOCATION:Abundant Grace Church West Hills\, 1798 Brodhead Road\, Crescent\, 15046\, United States
CATEGORIES:Prayer Service
ORGANIZER;CN="Tracey Corso":MAILTO:pastortracey@abundantgracechurchwh.org
END:VEVENT
BEGIN:VEVENT
DTSTART;TZID=America/New_York:20261104T090000
DTEND;TZID=America/New_York:20261104T100000
DTSTAMP:20260423T201848
CREATED:20251114T141209Z
LAST-MODIFIED:20251121T191131Z
UID:10001039-1793782800-1793786400@abundantgracechurchwh.org
SUMMARY:Morning Prayer Service
DESCRIPTION:Join us as we pray for our church\, neighborhoods\, cities\, state\, and our nation.
URL:https://abundantgracechurchwh.org/event/morning-prayer-service/2026-11-04/
LOCATION:Abundant Grace Church West Hills\, 1798 Brodhead Road\, Crescent\, 15046\, United States
CATEGORIES:Prayer Service
ORGANIZER;CN="Tracey Corso":MAILTO:pastortracey@abundantgracechurchwh.org
END:VEVENT
BEGIN:VEVENT
DTSTART;TZID=America/New_York:20261111T090000
DTEND;TZID=America/New_York:20261111T100000
DTSTAMP:20260423T201848
CREATED:20251114T141209Z
LAST-MODIFIED:20251121T191131Z
UID:10001040-1794387600-1794391200@abundantgracechurchwh.org
SUMMARY:Morning Prayer Service
DESCRIPTION:Join us as we pray for our church\, neighborhoods\, cities\, state\, and our nation.
URL:https://abundantgracechurchwh.org/event/morning-prayer-service/2026-11-11/
LOCATION:Abundant Grace Church West Hills\, 1798 Brodhead Road\, Crescent\, 15046\, United States
CATEGORIES:Prayer Service
ORGANIZER;CN="Tracey Corso":MAILTO:pastortracey@abundantgracechurchwh.org
END:VEVENT
BEGIN:VEVENT
DTSTART;TZID=America/New_York:20261118T090000
DTEND;TZID=America/New_York:20261118T100000
DTSTAMP:20260423T201848
CREATED:20251114T141209Z
LAST-MODIFIED:20251121T191131Z
UID:10001041-1794992400-1794996000@abundantgracechurchwh.org
SUMMARY:Morning Prayer Service
DESCRIPTION:Join us as we pray for our church\, neighborhoods\, cities\, state\, and our nation.
URL:https://abundantgracechurchwh.org/event/morning-prayer-service/2026-11-18/
LOCATION:Abundant Grace Church West Hills\, 1798 Brodhead Road\, Crescent\, 15046\, United States
CATEGORIES:Prayer Service
ORGANIZER;CN="Tracey Corso":MAILTO:pastortracey@abundantgracechurchwh.org
END:VEVENT
BEGIN:VEVENT
DTSTART;TZID=America/New_York:20261125T090000
DTEND;TZID=America/New_York:20261125T100000
DTSTAMP:20260423T201848
CREATED:20251114T141209Z
LAST-MODIFIED:20251121T191131Z
UID:10001042-1795597200-1795600800@abundantgracechurchwh.org
SUMMARY:Morning Prayer Service
DESCRIPTION:Join us as we pray for our church\, neighborhoods\, cities\, state\, and our nation.
URL:https://abundantgracechurchwh.org/event/morning-prayer-service/2026-11-25/
LOCATION:Abundant Grace Church West Hills\, 1798 Brodhead Road\, Crescent\, 15046\, United States
CATEGORIES:Prayer Service
ORGANIZER;CN="Tracey Corso":MAILTO:pastortracey@abundantgracechurchwh.org
END:VEVENT
BEGIN:VEVENT
DTSTART;TZID=America/New_York:20261202T090000
DTEND;TZID=America/New_York:20261202T100000
DTSTAMP:20260423T201848
CREATED:20251114T141209Z
LAST-MODIFIED:20251121T191131Z
UID:10001043-1796202000-1796205600@abundantgracechurchwh.org
SUMMARY:Morning Prayer Service
DESCRIPTION:Join us as we pray for our church\, neighborhoods\, cities\, state\, and our nation.
URL:https://abundantgracechurchwh.org/event/morning-prayer-service/2026-12-02/
LOCATION:Abundant Grace Church West Hills\, 1798 Brodhead Road\, Crescent\, 15046\, United States
CATEGORIES:Prayer Service
ORGANIZER;CN="Tracey Corso":MAILTO:pastortracey@abundantgracechurchwh.org
END:VEVENT
BEGIN:VEVENT
DTSTART;TZID=America/New_York:20261209T090000
DTEND;TZID=America/New_York:20261209T100000
DTSTAMP:20260423T201848
CREATED:20251114T141209Z
LAST-MODIFIED:20251121T191131Z
UID:10001044-1796806800-1796810400@abundantgracechurchwh.org
SUMMARY:Morning Prayer Service
DESCRIPTION:Join us as we pray for our church\, neighborhoods\, cities\, state\, and our nation.
URL:https://abundantgracechurchwh.org/event/morning-prayer-service/2026-12-09/
LOCATION:Abundant Grace Church West Hills\, 1798 Brodhead Road\, Crescent\, 15046\, United States
CATEGORIES:Prayer Service
ORGANIZER;CN="Tracey Corso":MAILTO:pastortracey@abundantgracechurchwh.org
END:VEVENT
BEGIN:VEVENT
DTSTART;TZID=America/New_York:20261216T090000
DTEND;TZID=America/New_York:20261216T100000
DTSTAMP:20260423T201848
CREATED:20251114T141209Z
LAST-MODIFIED:20251121T191131Z
UID:10001045-1797411600-1797415200@abundantgracechurchwh.org
SUMMARY:Morning Prayer Service
DESCRIPTION:Join us as we pray for our church\, neighborhoods\, cities\, state\, and our nation.
URL:https://abundantgracechurchwh.org/event/morning-prayer-service/2026-12-16/
LOCATION:Abundant Grace Church West Hills\, 1798 Brodhead Road\, Crescent\, 15046\, United States
CATEGORIES:Prayer Service
ORGANIZER;CN="Tracey Corso":MAILTO:pastortracey@abundantgracechurchwh.org
END:VEVENT
BEGIN:VEVENT
DTSTART;TZID=America/New_York:20261223T090000
DTEND;TZID=America/New_York:20261223T100000
DTSTAMP:20260423T201848
CREATED:20251114T141209Z
LAST-MODIFIED:20251121T191131Z
UID:10001046-1798016400-1798020000@abundantgracechurchwh.org
SUMMARY:Morning Prayer Service
DESCRIPTION:Join us as we pray for our church\, neighborhoods\, cities\, state\, and our nation.
URL:https://abundantgracechurchwh.org/event/morning-prayer-service/2026-12-23/
LOCATION:Abundant Grace Church West Hills\, 1798 Brodhead Road\, Crescent\, 15046\, United States
CATEGORIES:Prayer Service
ORGANIZER;CN="Tracey Corso":MAILTO:pastortracey@abundantgracechurchwh.org
END:VEVENT
BEGIN:VEVENT
DTSTART;TZID=America/New_York:20261230T090000
DTEND;TZID=America/New_York:20261230T100000
DTSTAMP:20260423T201848
CREATED:20251114T141209Z
LAST-MODIFIED:20251121T191131Z
UID:10001047-1798621200-1798624800@abundantgracechurchwh.org
SUMMARY:Morning Prayer Service
DESCRIPTION:Join us as we pray for our church\, neighborhoods\, cities\, state\, and our nation.
URL:https://abundantgracechurchwh.org/event/morning-prayer-service/2026-12-30/
LOCATION:Abundant Grace Church West Hills\, 1798 Brodhead Road\, Crescent\, 15046\, United States
CATEGORIES:Prayer Service
ORGANIZER;CN="Tracey Corso":MAILTO:pastortracey@abundantgracechurchwh.org
END:VEVENT
BEGIN:VEVENT
DTSTART;TZID=America/New_York:20270106T090000
DTEND;TZID=America/New_York:20270106T100000
DTSTAMP:20260423T201848
CREATED:20251114T141209Z
LAST-MODIFIED:20251121T191131Z
UID:10001048-1799226000-1799229600@abundantgracechurchwh.org
SUMMARY:Morning Prayer Service
DESCRIPTION:Join us as we pray for our church\, neighborhoods\, cities\, state\, and our nation.
URL:https://abundantgracechurchwh.org/event/morning-prayer-service/2027-01-06/
LOCATION:Abundant Grace Church West Hills\, 1798 Brodhead Road\, Crescent\, 15046\, United States
CATEGORIES:Prayer Service
ORGANIZER;CN="Tracey Corso":MAILTO:pastortracey@abundantgracechurchwh.org
END:VEVENT
BEGIN:VEVENT
DTSTART;TZID=America/New_York:20270113T090000
DTEND;TZID=America/New_York:20270113T100000
DTSTAMP:20260423T201848
CREATED:20251114T141209Z
LAST-MODIFIED:20251121T191131Z
UID:10001049-1799830800-1799834400@abundantgracechurchwh.org
SUMMARY:Morning Prayer Service
DESCRIPTION:Join us as we pray for our church\, neighborhoods\, cities\, state\, and our nation.
URL:https://abundantgracechurchwh.org/event/morning-prayer-service/2027-01-13/
LOCATION:Abundant Grace Church West Hills\, 1798 Brodhead Road\, Crescent\, 15046\, United States
CATEGORIES:Prayer Service
ORGANIZER;CN="Tracey Corso":MAILTO:pastortracey@abundantgracechurchwh.org
END:VEVENT
BEGIN:VEVENT
DTSTART;TZID=America/New_York:20270120T090000
DTEND;TZID=America/New_York:20270120T100000
DTSTAMP:20260423T201848
CREATED:20251114T141209Z
LAST-MODIFIED:20251121T191131Z
UID:10001050-1800435600-1800439200@abundantgracechurchwh.org
SUMMARY:Morning Prayer Service
DESCRIPTION:Join us as we pray for our church\, neighborhoods\, cities\, state\, and our nation.
URL:https://abundantgracechurchwh.org/event/morning-prayer-service/2027-01-20/
LOCATION:Abundant Grace Church West Hills\, 1798 Brodhead Road\, Crescent\, 15046\, United States
CATEGORIES:Prayer Service
ORGANIZER;CN="Tracey Corso":MAILTO:pastortracey@abundantgracechurchwh.org
END:VEVENT
END:VCALENDAR