BEGIN:VCALENDAR
VERSION:2.0
PRODID:-//Abundant Grace Church West Hills - ECPv6.15.13//NONSGML v1.0//EN
CALSCALE:GREGORIAN
METHOD:PUBLISH
X-ORIGINAL-URL:https://abundantgracechurchwh.org
X-WR-CALDESC:Events for Abundant Grace Church West Hills
REFRESH-INTERVAL;VALUE=DURATION:PT1H
X-Robots-Tag:noindex
X-PUBLISHED-TTL:PT1H
BEGIN:VTIMEZONE
TZID:America/New_York
BEGIN:DAYLIGHT
TZOFFSETFROM:-0500
TZOFFSETTO:-0400
TZNAME:EDT
DTSTART:20280312T070000
END:DAYLIGHT
BEGIN:STANDARD
TZOFFSETFROM:-0400
TZOFFSETTO:-0500
TZNAME:EST
DTSTART:20281105T060000
END:STANDARD
BEGIN:DAYLIGHT
TZOFFSETFROM:-0500
TZOFFSETTO:-0400
TZNAME:EDT
DTSTART:20290311T070000
END:DAYLIGHT
BEGIN:STANDARD
TZOFFSETFROM:-0400
TZOFFSETTO:-0500
TZNAME:EST
DTSTART:20291104T060000
END:STANDARD
BEGIN:DAYLIGHT
TZOFFSETFROM:-0500
TZOFFSETTO:-0400
TZNAME:EDT
DTSTART:20300310T070000
END:DAYLIGHT
BEGIN:STANDARD
TZOFFSETFROM:-0400
TZOFFSETTO:-0500
TZNAME:EST
DTSTART:20301103T060000
END:STANDARD
BEGIN:DAYLIGHT
TZOFFSETFROM:-0500
TZOFFSETTO:-0400
TZNAME:EDT
DTSTART:20310309T070000
END:DAYLIGHT
BEGIN:STANDARD
TZOFFSETFROM:-0400
TZOFFSETTO:-0500
TZNAME:EST
DTSTART:20311102T060000
END:STANDARD
END:VTIMEZONE
BEGIN:VEVENT
DTSTART;TZID=America/New_York:20291007T100000
DTEND;TZID=America/New_York:20291007T110000
DTSTAMP:20260424T144039
CREATED:20251114T141806Z
LAST-MODIFIED:20251114T141806Z
UID:10001454-1886061600-1886065200@abundantgracechurchwh.org
SUMMARY:Sunday Worship Service
DESCRIPTION:Our worship service lasts approximately 60 minutes and includes contemporary music\, prayer\, scripture reading\, frequent communion\, and a message.
URL:https://abundantgracechurchwh.org/event/sunday-worship-service/2029-10-07/
LOCATION:Abundant Grace Church West Hills\, 1798 Brodhead Road\, Crescent\, 15046\, United States
CATEGORIES:Worship Service
ORGANIZER;CN="Tracey Corso":MAILTO:pastortracey@abundantgracechurchwh.org
END:VEVENT
BEGIN:VEVENT
DTSTART;TZID=America/New_York:20291014T100000
DTEND;TZID=America/New_York:20291014T110000
DTSTAMP:20260424T144039
CREATED:20251114T141806Z
LAST-MODIFIED:20251114T141806Z
UID:10001455-1886666400-1886670000@abundantgracechurchwh.org
SUMMARY:Sunday Worship Service
DESCRIPTION:Our worship service lasts approximately 60 minutes and includes contemporary music\, prayer\, scripture reading\, frequent communion\, and a message.
URL:https://abundantgracechurchwh.org/event/sunday-worship-service/2029-10-14/
LOCATION:Abundant Grace Church West Hills\, 1798 Brodhead Road\, Crescent\, 15046\, United States
CATEGORIES:Worship Service
ORGANIZER;CN="Tracey Corso":MAILTO:pastortracey@abundantgracechurchwh.org
END:VEVENT
BEGIN:VEVENT
DTSTART;TZID=America/New_York:20291021T100000
DTEND;TZID=America/New_York:20291021T110000
DTSTAMP:20260424T144039
CREATED:20251114T141806Z
LAST-MODIFIED:20251114T141806Z
UID:10001456-1887271200-1887274800@abundantgracechurchwh.org
SUMMARY:Sunday Worship Service
DESCRIPTION:Our worship service lasts approximately 60 minutes and includes contemporary music\, prayer\, scripture reading\, frequent communion\, and a message.
URL:https://abundantgracechurchwh.org/event/sunday-worship-service/2029-10-21/
LOCATION:Abundant Grace Church West Hills\, 1798 Brodhead Road\, Crescent\, 15046\, United States
CATEGORIES:Worship Service
ORGANIZER;CN="Tracey Corso":MAILTO:pastortracey@abundantgracechurchwh.org
END:VEVENT
BEGIN:VEVENT
DTSTART;TZID=America/New_York:20291028T100000
DTEND;TZID=America/New_York:20291028T110000
DTSTAMP:20260424T144039
CREATED:20251114T141806Z
LAST-MODIFIED:20251114T141806Z
UID:10001457-1887876000-1887879600@abundantgracechurchwh.org
SUMMARY:Sunday Worship Service
DESCRIPTION:Our worship service lasts approximately 60 minutes and includes contemporary music\, prayer\, scripture reading\, frequent communion\, and a message.
URL:https://abundantgracechurchwh.org/event/sunday-worship-service/2029-10-28/
LOCATION:Abundant Grace Church West Hills\, 1798 Brodhead Road\, Crescent\, 15046\, United States
CATEGORIES:Worship Service
ORGANIZER;CN="Tracey Corso":MAILTO:pastortracey@abundantgracechurchwh.org
END:VEVENT
BEGIN:VEVENT
DTSTART;TZID=America/New_York:20291104T100000
DTEND;TZID=America/New_York:20291104T110000
DTSTAMP:20260424T144039
CREATED:20251114T141806Z
LAST-MODIFIED:20251114T141806Z
UID:10001458-1888480800-1888484400@abundantgracechurchwh.org
SUMMARY:Sunday Worship Service
DESCRIPTION:Our worship service lasts approximately 60 minutes and includes contemporary music\, prayer\, scripture reading\, frequent communion\, and a message.
URL:https://abundantgracechurchwh.org/event/sunday-worship-service/2029-11-04/
LOCATION:Abundant Grace Church West Hills\, 1798 Brodhead Road\, Crescent\, 15046\, United States
CATEGORIES:Worship Service
ORGANIZER;CN="Tracey Corso":MAILTO:pastortracey@abundantgracechurchwh.org
END:VEVENT
BEGIN:VEVENT
DTSTART;TZID=America/New_York:20291111T100000
DTEND;TZID=America/New_York:20291111T110000
DTSTAMP:20260424T144039
CREATED:20251114T141806Z
LAST-MODIFIED:20251114T141806Z
UID:10001459-1889085600-1889089200@abundantgracechurchwh.org
SUMMARY:Sunday Worship Service
DESCRIPTION:Our worship service lasts approximately 60 minutes and includes contemporary music\, prayer\, scripture reading\, frequent communion\, and a message.
URL:https://abundantgracechurchwh.org/event/sunday-worship-service/2029-11-11/
LOCATION:Abundant Grace Church West Hills\, 1798 Brodhead Road\, Crescent\, 15046\, United States
CATEGORIES:Worship Service
ORGANIZER;CN="Tracey Corso":MAILTO:pastortracey@abundantgracechurchwh.org
END:VEVENT
BEGIN:VEVENT
DTSTART;TZID=America/New_York:20291118T100000
DTEND;TZID=America/New_York:20291118T110000
DTSTAMP:20260424T144039
CREATED:20251114T141806Z
LAST-MODIFIED:20251114T141806Z
UID:10001460-1889690400-1889694000@abundantgracechurchwh.org
SUMMARY:Sunday Worship Service
DESCRIPTION:Our worship service lasts approximately 60 minutes and includes contemporary music\, prayer\, scripture reading\, frequent communion\, and a message.
URL:https://abundantgracechurchwh.org/event/sunday-worship-service/2029-11-18/
LOCATION:Abundant Grace Church West Hills\, 1798 Brodhead Road\, Crescent\, 15046\, United States
CATEGORIES:Worship Service
ORGANIZER;CN="Tracey Corso":MAILTO:pastortracey@abundantgracechurchwh.org
END:VEVENT
BEGIN:VEVENT
DTSTART;TZID=America/New_York:20291125T100000
DTEND;TZID=America/New_York:20291125T110000
DTSTAMP:20260424T144039
CREATED:20251114T141806Z
LAST-MODIFIED:20251114T141806Z
UID:10001461-1890295200-1890298800@abundantgracechurchwh.org
SUMMARY:Sunday Worship Service
DESCRIPTION:Our worship service lasts approximately 60 minutes and includes contemporary music\, prayer\, scripture reading\, frequent communion\, and a message.
URL:https://abundantgracechurchwh.org/event/sunday-worship-service/2029-11-25/
LOCATION:Abundant Grace Church West Hills\, 1798 Brodhead Road\, Crescent\, 15046\, United States
CATEGORIES:Worship Service
ORGANIZER;CN="Tracey Corso":MAILTO:pastortracey@abundantgracechurchwh.org
END:VEVENT
BEGIN:VEVENT
DTSTART;TZID=America/New_York:20291202T100000
DTEND;TZID=America/New_York:20291202T110000
DTSTAMP:20260424T144039
CREATED:20251114T141806Z
LAST-MODIFIED:20251114T141806Z
UID:10001462-1890900000-1890903600@abundantgracechurchwh.org
SUMMARY:Sunday Worship Service
DESCRIPTION:Our worship service lasts approximately 60 minutes and includes contemporary music\, prayer\, scripture reading\, frequent communion\, and a message.
URL:https://abundantgracechurchwh.org/event/sunday-worship-service/2029-12-02/
LOCATION:Abundant Grace Church West Hills\, 1798 Brodhead Road\, Crescent\, 15046\, United States
CATEGORIES:Worship Service
ORGANIZER;CN="Tracey Corso":MAILTO:pastortracey@abundantgracechurchwh.org
END:VEVENT
BEGIN:VEVENT
DTSTART;TZID=America/New_York:20291209T100000
DTEND;TZID=America/New_York:20291209T110000
DTSTAMP:20260424T144039
CREATED:20251114T141806Z
LAST-MODIFIED:20251114T141806Z
UID:10001463-1891504800-1891508400@abundantgracechurchwh.org
SUMMARY:Sunday Worship Service
DESCRIPTION:Our worship service lasts approximately 60 minutes and includes contemporary music\, prayer\, scripture reading\, frequent communion\, and a message.
URL:https://abundantgracechurchwh.org/event/sunday-worship-service/2029-12-09/
LOCATION:Abundant Grace Church West Hills\, 1798 Brodhead Road\, Crescent\, 15046\, United States
CATEGORIES:Worship Service
ORGANIZER;CN="Tracey Corso":MAILTO:pastortracey@abundantgracechurchwh.org
END:VEVENT
BEGIN:VEVENT
DTSTART;TZID=America/New_York:20291216T100000
DTEND;TZID=America/New_York:20291216T110000
DTSTAMP:20260424T144039
CREATED:20251114T141806Z
LAST-MODIFIED:20251114T141806Z
UID:10001464-1892109600-1892113200@abundantgracechurchwh.org
SUMMARY:Sunday Worship Service
DESCRIPTION:Our worship service lasts approximately 60 minutes and includes contemporary music\, prayer\, scripture reading\, frequent communion\, and a message.
URL:https://abundantgracechurchwh.org/event/sunday-worship-service/2029-12-16/
LOCATION:Abundant Grace Church West Hills\, 1798 Brodhead Road\, Crescent\, 15046\, United States
CATEGORIES:Worship Service
ORGANIZER;CN="Tracey Corso":MAILTO:pastortracey@abundantgracechurchwh.org
END:VEVENT
BEGIN:VEVENT
DTSTART;TZID=America/New_York:20291223T100000
DTEND;TZID=America/New_York:20291223T110000
DTSTAMP:20260424T144039
CREATED:20251114T141806Z
LAST-MODIFIED:20251114T141806Z
UID:10001465-1892714400-1892718000@abundantgracechurchwh.org
SUMMARY:Sunday Worship Service
DESCRIPTION:Our worship service lasts approximately 60 minutes and includes contemporary music\, prayer\, scripture reading\, frequent communion\, and a message.
URL:https://abundantgracechurchwh.org/event/sunday-worship-service/2029-12-23/
LOCATION:Abundant Grace Church West Hills\, 1798 Brodhead Road\, Crescent\, 15046\, United States
CATEGORIES:Worship Service
ORGANIZER;CN="Tracey Corso":MAILTO:pastortracey@abundantgracechurchwh.org
END:VEVENT
BEGIN:VEVENT
DTSTART;TZID=America/New_York:20291230T100000
DTEND;TZID=America/New_York:20291230T110000
DTSTAMP:20260424T144039
CREATED:20251114T141806Z
LAST-MODIFIED:20251114T141806Z
UID:10001466-1893319200-1893322800@abundantgracechurchwh.org
SUMMARY:Sunday Worship Service
DESCRIPTION:Our worship service lasts approximately 60 minutes and includes contemporary music\, prayer\, scripture reading\, frequent communion\, and a message.
URL:https://abundantgracechurchwh.org/event/sunday-worship-service/2029-12-30/
LOCATION:Abundant Grace Church West Hills\, 1798 Brodhead Road\, Crescent\, 15046\, United States
CATEGORIES:Worship Service
ORGANIZER;CN="Tracey Corso":MAILTO:pastortracey@abundantgracechurchwh.org
END:VEVENT
BEGIN:VEVENT
DTSTART;TZID=America/New_York:20300106T100000
DTEND;TZID=America/New_York:20300106T110000
DTSTAMP:20260424T144039
CREATED:20251114T141806Z
LAST-MODIFIED:20251114T141806Z
UID:10001467-1893924000-1893927600@abundantgracechurchwh.org
SUMMARY:Sunday Worship Service
DESCRIPTION:Our worship service lasts approximately 60 minutes and includes contemporary music\, prayer\, scripture reading\, frequent communion\, and a message.
URL:https://abundantgracechurchwh.org/event/sunday-worship-service/2030-01-06/
LOCATION:Abundant Grace Church West Hills\, 1798 Brodhead Road\, Crescent\, 15046\, United States
CATEGORIES:Worship Service
ORGANIZER;CN="Tracey Corso":MAILTO:pastortracey@abundantgracechurchwh.org
END:VEVENT
BEGIN:VEVENT
DTSTART;TZID=America/New_York:20300113T100000
DTEND;TZID=America/New_York:20300113T110000
DTSTAMP:20260424T144039
CREATED:20251114T141806Z
LAST-MODIFIED:20251114T141806Z
UID:10001468-1894528800-1894532400@abundantgracechurchwh.org
SUMMARY:Sunday Worship Service
DESCRIPTION:Our worship service lasts approximately 60 minutes and includes contemporary music\, prayer\, scripture reading\, frequent communion\, and a message.
URL:https://abundantgracechurchwh.org/event/sunday-worship-service/2030-01-13/
LOCATION:Abundant Grace Church West Hills\, 1798 Brodhead Road\, Crescent\, 15046\, United States
CATEGORIES:Worship Service
ORGANIZER;CN="Tracey Corso":MAILTO:pastortracey@abundantgracechurchwh.org
END:VEVENT
BEGIN:VEVENT
DTSTART;TZID=America/New_York:20300120T100000
DTEND;TZID=America/New_York:20300120T110000
DTSTAMP:20260424T144039
CREATED:20251114T141806Z
LAST-MODIFIED:20251114T141806Z
UID:10001469-1895133600-1895137200@abundantgracechurchwh.org
SUMMARY:Sunday Worship Service
DESCRIPTION:Our worship service lasts approximately 60 minutes and includes contemporary music\, prayer\, scripture reading\, frequent communion\, and a message.
URL:https://abundantgracechurchwh.org/event/sunday-worship-service/2030-01-20/
LOCATION:Abundant Grace Church West Hills\, 1798 Brodhead Road\, Crescent\, 15046\, United States
CATEGORIES:Worship Service
ORGANIZER;CN="Tracey Corso":MAILTO:pastortracey@abundantgracechurchwh.org
END:VEVENT
BEGIN:VEVENT
DTSTART;TZID=America/New_York:20300127T100000
DTEND;TZID=America/New_York:20300127T110000
DTSTAMP:20260424T144039
CREATED:20251114T141806Z
LAST-MODIFIED:20251114T141806Z
UID:10001470-1895738400-1895742000@abundantgracechurchwh.org
SUMMARY:Sunday Worship Service
DESCRIPTION:Our worship service lasts approximately 60 minutes and includes contemporary music\, prayer\, scripture reading\, frequent communion\, and a message.
URL:https://abundantgracechurchwh.org/event/sunday-worship-service/2030-01-27/
LOCATION:Abundant Grace Church West Hills\, 1798 Brodhead Road\, Crescent\, 15046\, United States
CATEGORIES:Worship Service
ORGANIZER;CN="Tracey Corso":MAILTO:pastortracey@abundantgracechurchwh.org
END:VEVENT
BEGIN:VEVENT
DTSTART;TZID=America/New_York:20300203T100000
DTEND;TZID=America/New_York:20300203T110000
DTSTAMP:20260424T144039
CREATED:20251114T141806Z
LAST-MODIFIED:20251114T141806Z
UID:10001471-1896343200-1896346800@abundantgracechurchwh.org
SUMMARY:Sunday Worship Service
DESCRIPTION:Our worship service lasts approximately 60 minutes and includes contemporary music\, prayer\, scripture reading\, frequent communion\, and a message.
URL:https://abundantgracechurchwh.org/event/sunday-worship-service/2030-02-03/
LOCATION:Abundant Grace Church West Hills\, 1798 Brodhead Road\, Crescent\, 15046\, United States
CATEGORIES:Worship Service
ORGANIZER;CN="Tracey Corso":MAILTO:pastortracey@abundantgracechurchwh.org
END:VEVENT
BEGIN:VEVENT
DTSTART;TZID=America/New_York:20300210T100000
DTEND;TZID=America/New_York:20300210T110000
DTSTAMP:20260424T144039
CREATED:20251114T141806Z
LAST-MODIFIED:20251114T141806Z
UID:10001472-1896948000-1896951600@abundantgracechurchwh.org
SUMMARY:Sunday Worship Service
DESCRIPTION:Our worship service lasts approximately 60 minutes and includes contemporary music\, prayer\, scripture reading\, frequent communion\, and a message.
URL:https://abundantgracechurchwh.org/event/sunday-worship-service/2030-02-10/
LOCATION:Abundant Grace Church West Hills\, 1798 Brodhead Road\, Crescent\, 15046\, United States
CATEGORIES:Worship Service
ORGANIZER;CN="Tracey Corso":MAILTO:pastortracey@abundantgracechurchwh.org
END:VEVENT
BEGIN:VEVENT
DTSTART;TZID=America/New_York:20300217T100000
DTEND;TZID=America/New_York:20300217T110000
DTSTAMP:20260424T144039
CREATED:20251114T141806Z
LAST-MODIFIED:20251114T141806Z
UID:10001473-1897552800-1897556400@abundantgracechurchwh.org
SUMMARY:Sunday Worship Service
DESCRIPTION:Our worship service lasts approximately 60 minutes and includes contemporary music\, prayer\, scripture reading\, frequent communion\, and a message.
URL:https://abundantgracechurchwh.org/event/sunday-worship-service/2030-02-17/
LOCATION:Abundant Grace Church West Hills\, 1798 Brodhead Road\, Crescent\, 15046\, United States
CATEGORIES:Worship Service
ORGANIZER;CN="Tracey Corso":MAILTO:pastortracey@abundantgracechurchwh.org
END:VEVENT
BEGIN:VEVENT
DTSTART;TZID=America/New_York:20300224T100000
DTEND;TZID=America/New_York:20300224T110000
DTSTAMP:20260424T144039
CREATED:20251114T141806Z
LAST-MODIFIED:20251114T141806Z
UID:10001474-1898157600-1898161200@abundantgracechurchwh.org
SUMMARY:Sunday Worship Service
DESCRIPTION:Our worship service lasts approximately 60 minutes and includes contemporary music\, prayer\, scripture reading\, frequent communion\, and a message.
URL:https://abundantgracechurchwh.org/event/sunday-worship-service/2030-02-24/
LOCATION:Abundant Grace Church West Hills\, 1798 Brodhead Road\, Crescent\, 15046\, United States
CATEGORIES:Worship Service
ORGANIZER;CN="Tracey Corso":MAILTO:pastortracey@abundantgracechurchwh.org
END:VEVENT
BEGIN:VEVENT
DTSTART;TZID=America/New_York:20300303T100000
DTEND;TZID=America/New_York:20300303T110000
DTSTAMP:20260424T144039
CREATED:20251114T141806Z
LAST-MODIFIED:20251114T141806Z
UID:10001475-1898762400-1898766000@abundantgracechurchwh.org
SUMMARY:Sunday Worship Service
DESCRIPTION:Our worship service lasts approximately 60 minutes and includes contemporary music\, prayer\, scripture reading\, frequent communion\, and a message.
URL:https://abundantgracechurchwh.org/event/sunday-worship-service/2030-03-03/
LOCATION:Abundant Grace Church West Hills\, 1798 Brodhead Road\, Crescent\, 15046\, United States
CATEGORIES:Worship Service
ORGANIZER;CN="Tracey Corso":MAILTO:pastortracey@abundantgracechurchwh.org
END:VEVENT
BEGIN:VEVENT
DTSTART;TZID=America/New_York:20300310T100000
DTEND;TZID=America/New_York:20300310T110000
DTSTAMP:20260424T144039
CREATED:20251114T141806Z
LAST-MODIFIED:20251114T141806Z
UID:10001476-1899367200-1899370800@abundantgracechurchwh.org
SUMMARY:Sunday Worship Service
DESCRIPTION:Our worship service lasts approximately 60 minutes and includes contemporary music\, prayer\, scripture reading\, frequent communion\, and a message.
URL:https://abundantgracechurchwh.org/event/sunday-worship-service/2030-03-10/
LOCATION:Abundant Grace Church West Hills\, 1798 Brodhead Road\, Crescent\, 15046\, United States
CATEGORIES:Worship Service
ORGANIZER;CN="Tracey Corso":MAILTO:pastortracey@abundantgracechurchwh.org
END:VEVENT
BEGIN:VEVENT
DTSTART;TZID=America/New_York:20300317T100000
DTEND;TZID=America/New_York:20300317T110000
DTSTAMP:20260424T144039
CREATED:20251114T141806Z
LAST-MODIFIED:20251114T141806Z
UID:10001477-1899972000-1899975600@abundantgracechurchwh.org
SUMMARY:Sunday Worship Service
DESCRIPTION:Our worship service lasts approximately 60 minutes and includes contemporary music\, prayer\, scripture reading\, frequent communion\, and a message.
URL:https://abundantgracechurchwh.org/event/sunday-worship-service/2030-03-17/
LOCATION:Abundant Grace Church West Hills\, 1798 Brodhead Road\, Crescent\, 15046\, United States
CATEGORIES:Worship Service
ORGANIZER;CN="Tracey Corso":MAILTO:pastortracey@abundantgracechurchwh.org
END:VEVENT
BEGIN:VEVENT
DTSTART;TZID=America/New_York:20300324T100000
DTEND;TZID=America/New_York:20300324T110000
DTSTAMP:20260424T144039
CREATED:20251114T141806Z
LAST-MODIFIED:20251114T141806Z
UID:10001478-1900576800-1900580400@abundantgracechurchwh.org
SUMMARY:Sunday Worship Service
DESCRIPTION:Our worship service lasts approximately 60 minutes and includes contemporary music\, prayer\, scripture reading\, frequent communion\, and a message.
URL:https://abundantgracechurchwh.org/event/sunday-worship-service/2030-03-24/
LOCATION:Abundant Grace Church West Hills\, 1798 Brodhead Road\, Crescent\, 15046\, United States
CATEGORIES:Worship Service
ORGANIZER;CN="Tracey Corso":MAILTO:pastortracey@abundantgracechurchwh.org
END:VEVENT
BEGIN:VEVENT
DTSTART;TZID=America/New_York:20300331T100000
DTEND;TZID=America/New_York:20300331T110000
DTSTAMP:20260424T144039
CREATED:20251114T141806Z
LAST-MODIFIED:20251114T141806Z
UID:10001479-1901181600-1901185200@abundantgracechurchwh.org
SUMMARY:Sunday Worship Service
DESCRIPTION:Our worship service lasts approximately 60 minutes and includes contemporary music\, prayer\, scripture reading\, frequent communion\, and a message.
URL:https://abundantgracechurchwh.org/event/sunday-worship-service/2030-03-31/
LOCATION:Abundant Grace Church West Hills\, 1798 Brodhead Road\, Crescent\, 15046\, United States
CATEGORIES:Worship Service
ORGANIZER;CN="Tracey Corso":MAILTO:pastortracey@abundantgracechurchwh.org
END:VEVENT
BEGIN:VEVENT
DTSTART;TZID=America/New_York:20300407T100000
DTEND;TZID=America/New_York:20300407T110000
DTSTAMP:20260424T144039
CREATED:20251114T141806Z
LAST-MODIFIED:20251114T141806Z
UID:10001480-1901786400-1901790000@abundantgracechurchwh.org
SUMMARY:Sunday Worship Service
DESCRIPTION:Our worship service lasts approximately 60 minutes and includes contemporary music\, prayer\, scripture reading\, frequent communion\, and a message.
URL:https://abundantgracechurchwh.org/event/sunday-worship-service/2030-04-07/
LOCATION:Abundant Grace Church West Hills\, 1798 Brodhead Road\, Crescent\, 15046\, United States
CATEGORIES:Worship Service
ORGANIZER;CN="Tracey Corso":MAILTO:pastortracey@abundantgracechurchwh.org
END:VEVENT
BEGIN:VEVENT
DTSTART;TZID=America/New_York:20300414T100000
DTEND;TZID=America/New_York:20300414T110000
DTSTAMP:20260424T144039
CREATED:20251114T141806Z
LAST-MODIFIED:20251114T141806Z
UID:10001481-1902391200-1902394800@abundantgracechurchwh.org
SUMMARY:Sunday Worship Service
DESCRIPTION:Our worship service lasts approximately 60 minutes and includes contemporary music\, prayer\, scripture reading\, frequent communion\, and a message.
URL:https://abundantgracechurchwh.org/event/sunday-worship-service/2030-04-14/
LOCATION:Abundant Grace Church West Hills\, 1798 Brodhead Road\, Crescent\, 15046\, United States
CATEGORIES:Worship Service
ORGANIZER;CN="Tracey Corso":MAILTO:pastortracey@abundantgracechurchwh.org
END:VEVENT
BEGIN:VEVENT
DTSTART;TZID=America/New_York:20300421T100000
DTEND;TZID=America/New_York:20300421T110000
DTSTAMP:20260424T144039
CREATED:20251114T141806Z
LAST-MODIFIED:20251114T141806Z
UID:10001482-1902996000-1902999600@abundantgracechurchwh.org
SUMMARY:Sunday Worship Service
DESCRIPTION:Our worship service lasts approximately 60 minutes and includes contemporary music\, prayer\, scripture reading\, frequent communion\, and a message.
URL:https://abundantgracechurchwh.org/event/sunday-worship-service/2030-04-21/
LOCATION:Abundant Grace Church West Hills\, 1798 Brodhead Road\, Crescent\, 15046\, United States
CATEGORIES:Worship Service
ORGANIZER;CN="Tracey Corso":MAILTO:pastortracey@abundantgracechurchwh.org
END:VEVENT
BEGIN:VEVENT
DTSTART;TZID=America/New_York:20300428T100000
DTEND;TZID=America/New_York:20300428T110000
DTSTAMP:20260424T144039
CREATED:20251114T141806Z
LAST-MODIFIED:20251114T141806Z
UID:10001483-1903600800-1903604400@abundantgracechurchwh.org
SUMMARY:Sunday Worship Service
DESCRIPTION:Our worship service lasts approximately 60 minutes and includes contemporary music\, prayer\, scripture reading\, frequent communion\, and a message.
URL:https://abundantgracechurchwh.org/event/sunday-worship-service/2030-04-28/
LOCATION:Abundant Grace Church West Hills\, 1798 Brodhead Road\, Crescent\, 15046\, United States
CATEGORIES:Worship Service
ORGANIZER;CN="Tracey Corso":MAILTO:pastortracey@abundantgracechurchwh.org
END:VEVENT
END:VCALENDAR