BEGIN:VCALENDAR
VERSION:2.0
PRODID:-//Abundant Grace Church West Hills - ECPv6.15.13//NONSGML v1.0//EN
CALSCALE:GREGORIAN
METHOD:PUBLISH
X-WR-CALNAME:Abundant Grace Church West Hills
X-ORIGINAL-URL:https://abundantgracechurchwh.org
X-WR-CALDESC:Events for Abundant Grace Church West Hills
REFRESH-INTERVAL;VALUE=DURATION:PT1H
X-Robots-Tag:noindex
X-PUBLISHED-TTL:PT1H
BEGIN:VTIMEZONE
TZID:America/New_York
BEGIN:DAYLIGHT
TZOFFSETFROM:-0500
TZOFFSETTO:-0400
TZNAME:EDT
DTSTART:20260308T070000
END:DAYLIGHT
BEGIN:STANDARD
TZOFFSETFROM:-0400
TZOFFSETTO:-0500
TZNAME:EST
DTSTART:20261101T060000
END:STANDARD
BEGIN:DAYLIGHT
TZOFFSETFROM:-0500
TZOFFSETTO:-0400
TZNAME:EDT
DTSTART:20270314T070000
END:DAYLIGHT
BEGIN:STANDARD
TZOFFSETFROM:-0400
TZOFFSETTO:-0500
TZNAME:EST
DTSTART:20271107T060000
END:STANDARD
BEGIN:DAYLIGHT
TZOFFSETFROM:-0500
TZOFFSETTO:-0400
TZNAME:EDT
DTSTART:20280312T070000
END:DAYLIGHT
BEGIN:STANDARD
TZOFFSETFROM:-0400
TZOFFSETTO:-0500
TZNAME:EST
DTSTART:20281105T060000
END:STANDARD
BEGIN:DAYLIGHT
TZOFFSETFROM:-0500
TZOFFSETTO:-0400
TZNAME:EDT
DTSTART:20290311T070000
END:DAYLIGHT
BEGIN:STANDARD
TZOFFSETFROM:-0400
TZOFFSETTO:-0500
TZNAME:EST
DTSTART:20291104T060000
END:STANDARD
END:VTIMEZONE
BEGIN:VEVENT
DTSTART;TZID=America/New_York:20270620T100000
DTEND;TZID=America/New_York:20270620T110000
DTSTAMP:20260423T225107
CREATED:20251114T141806Z
LAST-MODIFIED:20251114T141806Z
UID:10001334-1813485600-1813489200@abundantgracechurchwh.org
SUMMARY:Sunday Worship Service
DESCRIPTION:Our worship service lasts approximately 60 minutes and includes contemporary music\, prayer\, scripture reading\, frequent communion\, and a message.
URL:https://abundantgracechurchwh.org/event/sunday-worship-service/2027-06-20/
LOCATION:Abundant Grace Church West Hills\, 1798 Brodhead Road\, Crescent\, 15046\, United States
CATEGORIES:Worship Service
ORGANIZER;CN="Tracey Corso":MAILTO:pastortracey@abundantgracechurchwh.org
END:VEVENT
BEGIN:VEVENT
DTSTART;TZID=America/New_York:20270627T100000
DTEND;TZID=America/New_York:20270627T110000
DTSTAMP:20260423T225107
CREATED:20251114T141806Z
LAST-MODIFIED:20251114T141806Z
UID:10001335-1814090400-1814094000@abundantgracechurchwh.org
SUMMARY:Sunday Worship Service
DESCRIPTION:Our worship service lasts approximately 60 minutes and includes contemporary music\, prayer\, scripture reading\, frequent communion\, and a message.
URL:https://abundantgracechurchwh.org/event/sunday-worship-service/2027-06-27/
LOCATION:Abundant Grace Church West Hills\, 1798 Brodhead Road\, Crescent\, 15046\, United States
CATEGORIES:Worship Service
ORGANIZER;CN="Tracey Corso":MAILTO:pastortracey@abundantgracechurchwh.org
END:VEVENT
BEGIN:VEVENT
DTSTART;TZID=America/New_York:20270704T100000
DTEND;TZID=America/New_York:20270704T110000
DTSTAMP:20260423T225107
CREATED:20251114T141806Z
LAST-MODIFIED:20251114T141806Z
UID:10001336-1814695200-1814698800@abundantgracechurchwh.org
SUMMARY:Sunday Worship Service
DESCRIPTION:Our worship service lasts approximately 60 minutes and includes contemporary music\, prayer\, scripture reading\, frequent communion\, and a message.
URL:https://abundantgracechurchwh.org/event/sunday-worship-service/2027-07-04/
LOCATION:Abundant Grace Church West Hills\, 1798 Brodhead Road\, Crescent\, 15046\, United States
CATEGORIES:Worship Service
ORGANIZER;CN="Tracey Corso":MAILTO:pastortracey@abundantgracechurchwh.org
END:VEVENT
BEGIN:VEVENT
DTSTART;TZID=America/New_York:20270711T100000
DTEND;TZID=America/New_York:20270711T110000
DTSTAMP:20260423T225107
CREATED:20251114T141806Z
LAST-MODIFIED:20251114T141806Z
UID:10001337-1815300000-1815303600@abundantgracechurchwh.org
SUMMARY:Sunday Worship Service
DESCRIPTION:Our worship service lasts approximately 60 minutes and includes contemporary music\, prayer\, scripture reading\, frequent communion\, and a message.
URL:https://abundantgracechurchwh.org/event/sunday-worship-service/2027-07-11/
LOCATION:Abundant Grace Church West Hills\, 1798 Brodhead Road\, Crescent\, 15046\, United States
CATEGORIES:Worship Service
ORGANIZER;CN="Tracey Corso":MAILTO:pastortracey@abundantgracechurchwh.org
END:VEVENT
BEGIN:VEVENT
DTSTART;TZID=America/New_York:20270718T100000
DTEND;TZID=America/New_York:20270718T110000
DTSTAMP:20260423T225107
CREATED:20251114T141806Z
LAST-MODIFIED:20251114T141806Z
UID:10001338-1815904800-1815908400@abundantgracechurchwh.org
SUMMARY:Sunday Worship Service
DESCRIPTION:Our worship service lasts approximately 60 minutes and includes contemporary music\, prayer\, scripture reading\, frequent communion\, and a message.
URL:https://abundantgracechurchwh.org/event/sunday-worship-service/2027-07-18/
LOCATION:Abundant Grace Church West Hills\, 1798 Brodhead Road\, Crescent\, 15046\, United States
CATEGORIES:Worship Service
ORGANIZER;CN="Tracey Corso":MAILTO:pastortracey@abundantgracechurchwh.org
END:VEVENT
BEGIN:VEVENT
DTSTART;TZID=America/New_York:20270725T100000
DTEND;TZID=America/New_York:20270725T110000
DTSTAMP:20260423T225107
CREATED:20251114T141806Z
LAST-MODIFIED:20251114T141806Z
UID:10001339-1816509600-1816513200@abundantgracechurchwh.org
SUMMARY:Sunday Worship Service
DESCRIPTION:Our worship service lasts approximately 60 minutes and includes contemporary music\, prayer\, scripture reading\, frequent communion\, and a message.
URL:https://abundantgracechurchwh.org/event/sunday-worship-service/2027-07-25/
LOCATION:Abundant Grace Church West Hills\, 1798 Brodhead Road\, Crescent\, 15046\, United States
CATEGORIES:Worship Service
ORGANIZER;CN="Tracey Corso":MAILTO:pastortracey@abundantgracechurchwh.org
END:VEVENT
BEGIN:VEVENT
DTSTART;TZID=America/New_York:20270801T100000
DTEND;TZID=America/New_York:20270801T110000
DTSTAMP:20260423T225107
CREATED:20251114T141806Z
LAST-MODIFIED:20251114T141806Z
UID:10001340-1817114400-1817118000@abundantgracechurchwh.org
SUMMARY:Sunday Worship Service
DESCRIPTION:Our worship service lasts approximately 60 minutes and includes contemporary music\, prayer\, scripture reading\, frequent communion\, and a message.
URL:https://abundantgracechurchwh.org/event/sunday-worship-service/2027-08-01/
LOCATION:Abundant Grace Church West Hills\, 1798 Brodhead Road\, Crescent\, 15046\, United States
CATEGORIES:Worship Service
ORGANIZER;CN="Tracey Corso":MAILTO:pastortracey@abundantgracechurchwh.org
END:VEVENT
BEGIN:VEVENT
DTSTART;TZID=America/New_York:20270808T100000
DTEND;TZID=America/New_York:20270808T110000
DTSTAMP:20260423T225107
CREATED:20251114T141806Z
LAST-MODIFIED:20251114T141806Z
UID:10001341-1817719200-1817722800@abundantgracechurchwh.org
SUMMARY:Sunday Worship Service
DESCRIPTION:Our worship service lasts approximately 60 minutes and includes contemporary music\, prayer\, scripture reading\, frequent communion\, and a message.
URL:https://abundantgracechurchwh.org/event/sunday-worship-service/2027-08-08/
LOCATION:Abundant Grace Church West Hills\, 1798 Brodhead Road\, Crescent\, 15046\, United States
CATEGORIES:Worship Service
ORGANIZER;CN="Tracey Corso":MAILTO:pastortracey@abundantgracechurchwh.org
END:VEVENT
BEGIN:VEVENT
DTSTART;TZID=America/New_York:20270815T100000
DTEND;TZID=America/New_York:20270815T110000
DTSTAMP:20260423T225107
CREATED:20251114T141806Z
LAST-MODIFIED:20251114T141806Z
UID:10001342-1818324000-1818327600@abundantgracechurchwh.org
SUMMARY:Sunday Worship Service
DESCRIPTION:Our worship service lasts approximately 60 minutes and includes contemporary music\, prayer\, scripture reading\, frequent communion\, and a message.
URL:https://abundantgracechurchwh.org/event/sunday-worship-service/2027-08-15/
LOCATION:Abundant Grace Church West Hills\, 1798 Brodhead Road\, Crescent\, 15046\, United States
CATEGORIES:Worship Service
ORGANIZER;CN="Tracey Corso":MAILTO:pastortracey@abundantgracechurchwh.org
END:VEVENT
BEGIN:VEVENT
DTSTART;TZID=America/New_York:20270822T100000
DTEND;TZID=America/New_York:20270822T110000
DTSTAMP:20260423T225107
CREATED:20251114T141806Z
LAST-MODIFIED:20251114T141806Z
UID:10001343-1818928800-1818932400@abundantgracechurchwh.org
SUMMARY:Sunday Worship Service
DESCRIPTION:Our worship service lasts approximately 60 minutes and includes contemporary music\, prayer\, scripture reading\, frequent communion\, and a message.
URL:https://abundantgracechurchwh.org/event/sunday-worship-service/2027-08-22/
LOCATION:Abundant Grace Church West Hills\, 1798 Brodhead Road\, Crescent\, 15046\, United States
CATEGORIES:Worship Service
ORGANIZER;CN="Tracey Corso":MAILTO:pastortracey@abundantgracechurchwh.org
END:VEVENT
BEGIN:VEVENT
DTSTART;TZID=America/New_York:20270829T100000
DTEND;TZID=America/New_York:20270829T110000
DTSTAMP:20260423T225107
CREATED:20251114T141806Z
LAST-MODIFIED:20251114T141806Z
UID:10001344-1819533600-1819537200@abundantgracechurchwh.org
SUMMARY:Sunday Worship Service
DESCRIPTION:Our worship service lasts approximately 60 minutes and includes contemporary music\, prayer\, scripture reading\, frequent communion\, and a message.
URL:https://abundantgracechurchwh.org/event/sunday-worship-service/2027-08-29/
LOCATION:Abundant Grace Church West Hills\, 1798 Brodhead Road\, Crescent\, 15046\, United States
CATEGORIES:Worship Service
ORGANIZER;CN="Tracey Corso":MAILTO:pastortracey@abundantgracechurchwh.org
END:VEVENT
BEGIN:VEVENT
DTSTART;TZID=America/New_York:20270905T100000
DTEND;TZID=America/New_York:20270905T110000
DTSTAMP:20260423T225107
CREATED:20251114T141806Z
LAST-MODIFIED:20251114T141806Z
UID:10001345-1820138400-1820142000@abundantgracechurchwh.org
SUMMARY:Sunday Worship Service
DESCRIPTION:Our worship service lasts approximately 60 minutes and includes contemporary music\, prayer\, scripture reading\, frequent communion\, and a message.
URL:https://abundantgracechurchwh.org/event/sunday-worship-service/2027-09-05/
LOCATION:Abundant Grace Church West Hills\, 1798 Brodhead Road\, Crescent\, 15046\, United States
CATEGORIES:Worship Service
ORGANIZER;CN="Tracey Corso":MAILTO:pastortracey@abundantgracechurchwh.org
END:VEVENT
BEGIN:VEVENT
DTSTART;TZID=America/New_York:20270912T100000
DTEND;TZID=America/New_York:20270912T110000
DTSTAMP:20260423T225107
CREATED:20251114T141806Z
LAST-MODIFIED:20251114T141806Z
UID:10001346-1820743200-1820746800@abundantgracechurchwh.org
SUMMARY:Sunday Worship Service
DESCRIPTION:Our worship service lasts approximately 60 minutes and includes contemporary music\, prayer\, scripture reading\, frequent communion\, and a message.
URL:https://abundantgracechurchwh.org/event/sunday-worship-service/2027-09-12/
LOCATION:Abundant Grace Church West Hills\, 1798 Brodhead Road\, Crescent\, 15046\, United States
CATEGORIES:Worship Service
ORGANIZER;CN="Tracey Corso":MAILTO:pastortracey@abundantgracechurchwh.org
END:VEVENT
BEGIN:VEVENT
DTSTART;TZID=America/New_York:20270919T100000
DTEND;TZID=America/New_York:20270919T110000
DTSTAMP:20260423T225107
CREATED:20251114T141806Z
LAST-MODIFIED:20251114T141806Z
UID:10001347-1821348000-1821351600@abundantgracechurchwh.org
SUMMARY:Sunday Worship Service
DESCRIPTION:Our worship service lasts approximately 60 minutes and includes contemporary music\, prayer\, scripture reading\, frequent communion\, and a message.
URL:https://abundantgracechurchwh.org/event/sunday-worship-service/2027-09-19/
LOCATION:Abundant Grace Church West Hills\, 1798 Brodhead Road\, Crescent\, 15046\, United States
CATEGORIES:Worship Service
ORGANIZER;CN="Tracey Corso":MAILTO:pastortracey@abundantgracechurchwh.org
END:VEVENT
BEGIN:VEVENT
DTSTART;TZID=America/New_York:20270926T100000
DTEND;TZID=America/New_York:20270926T110000
DTSTAMP:20260423T225107
CREATED:20251114T141806Z
LAST-MODIFIED:20251114T141806Z
UID:10001348-1821952800-1821956400@abundantgracechurchwh.org
SUMMARY:Sunday Worship Service
DESCRIPTION:Our worship service lasts approximately 60 minutes and includes contemporary music\, prayer\, scripture reading\, frequent communion\, and a message.
URL:https://abundantgracechurchwh.org/event/sunday-worship-service/2027-09-26/
LOCATION:Abundant Grace Church West Hills\, 1798 Brodhead Road\, Crescent\, 15046\, United States
CATEGORIES:Worship Service
ORGANIZER;CN="Tracey Corso":MAILTO:pastortracey@abundantgracechurchwh.org
END:VEVENT
BEGIN:VEVENT
DTSTART;TZID=America/New_York:20271003T100000
DTEND;TZID=America/New_York:20271003T110000
DTSTAMP:20260423T225107
CREATED:20251114T141806Z
LAST-MODIFIED:20251114T141806Z
UID:10001349-1822557600-1822561200@abundantgracechurchwh.org
SUMMARY:Sunday Worship Service
DESCRIPTION:Our worship service lasts approximately 60 minutes and includes contemporary music\, prayer\, scripture reading\, frequent communion\, and a message.
URL:https://abundantgracechurchwh.org/event/sunday-worship-service/2027-10-03/
LOCATION:Abundant Grace Church West Hills\, 1798 Brodhead Road\, Crescent\, 15046\, United States
CATEGORIES:Worship Service
ORGANIZER;CN="Tracey Corso":MAILTO:pastortracey@abundantgracechurchwh.org
END:VEVENT
BEGIN:VEVENT
DTSTART;TZID=America/New_York:20271010T100000
DTEND;TZID=America/New_York:20271010T110000
DTSTAMP:20260423T225107
CREATED:20251114T141806Z
LAST-MODIFIED:20251114T141806Z
UID:10001350-1823162400-1823166000@abundantgracechurchwh.org
SUMMARY:Sunday Worship Service
DESCRIPTION:Our worship service lasts approximately 60 minutes and includes contemporary music\, prayer\, scripture reading\, frequent communion\, and a message.
URL:https://abundantgracechurchwh.org/event/sunday-worship-service/2027-10-10/
LOCATION:Abundant Grace Church West Hills\, 1798 Brodhead Road\, Crescent\, 15046\, United States
CATEGORIES:Worship Service
ORGANIZER;CN="Tracey Corso":MAILTO:pastortracey@abundantgracechurchwh.org
END:VEVENT
BEGIN:VEVENT
DTSTART;TZID=America/New_York:20271017T100000
DTEND;TZID=America/New_York:20271017T110000
DTSTAMP:20260423T225107
CREATED:20251114T141806Z
LAST-MODIFIED:20251114T141806Z
UID:10001351-1823767200-1823770800@abundantgracechurchwh.org
SUMMARY:Sunday Worship Service
DESCRIPTION:Our worship service lasts approximately 60 minutes and includes contemporary music\, prayer\, scripture reading\, frequent communion\, and a message.
URL:https://abundantgracechurchwh.org/event/sunday-worship-service/2027-10-17/
LOCATION:Abundant Grace Church West Hills\, 1798 Brodhead Road\, Crescent\, 15046\, United States
CATEGORIES:Worship Service
ORGANIZER;CN="Tracey Corso":MAILTO:pastortracey@abundantgracechurchwh.org
END:VEVENT
BEGIN:VEVENT
DTSTART;TZID=America/New_York:20271024T100000
DTEND;TZID=America/New_York:20271024T110000
DTSTAMP:20260423T225107
CREATED:20251114T141806Z
LAST-MODIFIED:20251114T141806Z
UID:10001352-1824372000-1824375600@abundantgracechurchwh.org
SUMMARY:Sunday Worship Service
DESCRIPTION:Our worship service lasts approximately 60 minutes and includes contemporary music\, prayer\, scripture reading\, frequent communion\, and a message.
URL:https://abundantgracechurchwh.org/event/sunday-worship-service/2027-10-24/
LOCATION:Abundant Grace Church West Hills\, 1798 Brodhead Road\, Crescent\, 15046\, United States
CATEGORIES:Worship Service
ORGANIZER;CN="Tracey Corso":MAILTO:pastortracey@abundantgracechurchwh.org
END:VEVENT
BEGIN:VEVENT
DTSTART;TZID=America/New_York:20271031T100000
DTEND;TZID=America/New_York:20271031T110000
DTSTAMP:20260423T225107
CREATED:20251114T141806Z
LAST-MODIFIED:20251114T141806Z
UID:10001353-1824976800-1824980400@abundantgracechurchwh.org
SUMMARY:Sunday Worship Service
DESCRIPTION:Our worship service lasts approximately 60 minutes and includes contemporary music\, prayer\, scripture reading\, frequent communion\, and a message.
URL:https://abundantgracechurchwh.org/event/sunday-worship-service/2027-10-31/
LOCATION:Abundant Grace Church West Hills\, 1798 Brodhead Road\, Crescent\, 15046\, United States
CATEGORIES:Worship Service
ORGANIZER;CN="Tracey Corso":MAILTO:pastortracey@abundantgracechurchwh.org
END:VEVENT
BEGIN:VEVENT
DTSTART;TZID=America/New_York:20271107T100000
DTEND;TZID=America/New_York:20271107T110000
DTSTAMP:20260423T225107
CREATED:20251114T141806Z
LAST-MODIFIED:20251114T141806Z
UID:10001354-1825581600-1825585200@abundantgracechurchwh.org
SUMMARY:Sunday Worship Service
DESCRIPTION:Our worship service lasts approximately 60 minutes and includes contemporary music\, prayer\, scripture reading\, frequent communion\, and a message.
URL:https://abundantgracechurchwh.org/event/sunday-worship-service/2027-11-07/
LOCATION:Abundant Grace Church West Hills\, 1798 Brodhead Road\, Crescent\, 15046\, United States
CATEGORIES:Worship Service
ORGANIZER;CN="Tracey Corso":MAILTO:pastortracey@abundantgracechurchwh.org
END:VEVENT
BEGIN:VEVENT
DTSTART;TZID=America/New_York:20271114T100000
DTEND;TZID=America/New_York:20271114T110000
DTSTAMP:20260423T225107
CREATED:20251114T141806Z
LAST-MODIFIED:20251114T141806Z
UID:10001355-1826186400-1826190000@abundantgracechurchwh.org
SUMMARY:Sunday Worship Service
DESCRIPTION:Our worship service lasts approximately 60 minutes and includes contemporary music\, prayer\, scripture reading\, frequent communion\, and a message.
URL:https://abundantgracechurchwh.org/event/sunday-worship-service/2027-11-14/
LOCATION:Abundant Grace Church West Hills\, 1798 Brodhead Road\, Crescent\, 15046\, United States
CATEGORIES:Worship Service
ORGANIZER;CN="Tracey Corso":MAILTO:pastortracey@abundantgracechurchwh.org
END:VEVENT
BEGIN:VEVENT
DTSTART;TZID=America/New_York:20271121T100000
DTEND;TZID=America/New_York:20271121T110000
DTSTAMP:20260423T225107
CREATED:20251114T141806Z
LAST-MODIFIED:20251114T141806Z
UID:10001356-1826791200-1826794800@abundantgracechurchwh.org
SUMMARY:Sunday Worship Service
DESCRIPTION:Our worship service lasts approximately 60 minutes and includes contemporary music\, prayer\, scripture reading\, frequent communion\, and a message.
URL:https://abundantgracechurchwh.org/event/sunday-worship-service/2027-11-21/
LOCATION:Abundant Grace Church West Hills\, 1798 Brodhead Road\, Crescent\, 15046\, United States
CATEGORIES:Worship Service
ORGANIZER;CN="Tracey Corso":MAILTO:pastortracey@abundantgracechurchwh.org
END:VEVENT
BEGIN:VEVENT
DTSTART;TZID=America/New_York:20271128T100000
DTEND;TZID=America/New_York:20271128T110000
DTSTAMP:20260423T225107
CREATED:20251114T141806Z
LAST-MODIFIED:20251114T141806Z
UID:10001357-1827396000-1827399600@abundantgracechurchwh.org
SUMMARY:Sunday Worship Service
DESCRIPTION:Our worship service lasts approximately 60 minutes and includes contemporary music\, prayer\, scripture reading\, frequent communion\, and a message.
URL:https://abundantgracechurchwh.org/event/sunday-worship-service/2027-11-28/
LOCATION:Abundant Grace Church West Hills\, 1798 Brodhead Road\, Crescent\, 15046\, United States
CATEGORIES:Worship Service
ORGANIZER;CN="Tracey Corso":MAILTO:pastortracey@abundantgracechurchwh.org
END:VEVENT
BEGIN:VEVENT
DTSTART;TZID=America/New_York:20271205T100000
DTEND;TZID=America/New_York:20271205T110000
DTSTAMP:20260423T225107
CREATED:20251114T141806Z
LAST-MODIFIED:20251114T141806Z
UID:10001358-1828000800-1828004400@abundantgracechurchwh.org
SUMMARY:Sunday Worship Service
DESCRIPTION:Our worship service lasts approximately 60 minutes and includes contemporary music\, prayer\, scripture reading\, frequent communion\, and a message.
URL:https://abundantgracechurchwh.org/event/sunday-worship-service/2027-12-05/
LOCATION:Abundant Grace Church West Hills\, 1798 Brodhead Road\, Crescent\, 15046\, United States
CATEGORIES:Worship Service
ORGANIZER;CN="Tracey Corso":MAILTO:pastortracey@abundantgracechurchwh.org
END:VEVENT
BEGIN:VEVENT
DTSTART;TZID=America/New_York:20271212T100000
DTEND;TZID=America/New_York:20271212T110000
DTSTAMP:20260423T225107
CREATED:20251114T141806Z
LAST-MODIFIED:20251114T141806Z
UID:10001359-1828605600-1828609200@abundantgracechurchwh.org
SUMMARY:Sunday Worship Service
DESCRIPTION:Our worship service lasts approximately 60 minutes and includes contemporary music\, prayer\, scripture reading\, frequent communion\, and a message.
URL:https://abundantgracechurchwh.org/event/sunday-worship-service/2027-12-12/
LOCATION:Abundant Grace Church West Hills\, 1798 Brodhead Road\, Crescent\, 15046\, United States
CATEGORIES:Worship Service
ORGANIZER;CN="Tracey Corso":MAILTO:pastortracey@abundantgracechurchwh.org
END:VEVENT
BEGIN:VEVENT
DTSTART;TZID=America/New_York:20271219T100000
DTEND;TZID=America/New_York:20271219T110000
DTSTAMP:20260423T225107
CREATED:20251114T141806Z
LAST-MODIFIED:20251114T141806Z
UID:10001360-1829210400-1829214000@abundantgracechurchwh.org
SUMMARY:Sunday Worship Service
DESCRIPTION:Our worship service lasts approximately 60 minutes and includes contemporary music\, prayer\, scripture reading\, frequent communion\, and a message.
URL:https://abundantgracechurchwh.org/event/sunday-worship-service/2027-12-19/
LOCATION:Abundant Grace Church West Hills\, 1798 Brodhead Road\, Crescent\, 15046\, United States
CATEGORIES:Worship Service
ORGANIZER;CN="Tracey Corso":MAILTO:pastortracey@abundantgracechurchwh.org
END:VEVENT
BEGIN:VEVENT
DTSTART;TZID=America/New_York:20271226T100000
DTEND;TZID=America/New_York:20271226T110000
DTSTAMP:20260423T225107
CREATED:20251114T141806Z
LAST-MODIFIED:20251114T141806Z
UID:10001361-1829815200-1829818800@abundantgracechurchwh.org
SUMMARY:Sunday Worship Service
DESCRIPTION:Our worship service lasts approximately 60 minutes and includes contemporary music\, prayer\, scripture reading\, frequent communion\, and a message.
URL:https://abundantgracechurchwh.org/event/sunday-worship-service/2027-12-26/
LOCATION:Abundant Grace Church West Hills\, 1798 Brodhead Road\, Crescent\, 15046\, United States
CATEGORIES:Worship Service
ORGANIZER;CN="Tracey Corso":MAILTO:pastortracey@abundantgracechurchwh.org
END:VEVENT
BEGIN:VEVENT
DTSTART;TZID=America/New_York:20280102T100000
DTEND;TZID=America/New_York:20280102T110000
DTSTAMP:20260423T225107
CREATED:20251114T141806Z
LAST-MODIFIED:20251114T141806Z
UID:10001362-1830420000-1830423600@abundantgracechurchwh.org
SUMMARY:Sunday Worship Service
DESCRIPTION:Our worship service lasts approximately 60 minutes and includes contemporary music\, prayer\, scripture reading\, frequent communion\, and a message.
URL:https://abundantgracechurchwh.org/event/sunday-worship-service/2028-01-02/
LOCATION:Abundant Grace Church West Hills\, 1798 Brodhead Road\, Crescent\, 15046\, United States
CATEGORIES:Worship Service
ORGANIZER;CN="Tracey Corso":MAILTO:pastortracey@abundantgracechurchwh.org
END:VEVENT
BEGIN:VEVENT
DTSTART;TZID=America/New_York:20280109T100000
DTEND;TZID=America/New_York:20280109T110000
DTSTAMP:20260423T225107
CREATED:20251114T141806Z
LAST-MODIFIED:20251114T141806Z
UID:10001363-1831024800-1831028400@abundantgracechurchwh.org
SUMMARY:Sunday Worship Service
DESCRIPTION:Our worship service lasts approximately 60 minutes and includes contemporary music\, prayer\, scripture reading\, frequent communion\, and a message.
URL:https://abundantgracechurchwh.org/event/sunday-worship-service/2028-01-09/
LOCATION:Abundant Grace Church West Hills\, 1798 Brodhead Road\, Crescent\, 15046\, United States
CATEGORIES:Worship Service
ORGANIZER;CN="Tracey Corso":MAILTO:pastortracey@abundantgracechurchwh.org
END:VEVENT
END:VCALENDAR