BEGIN:VCALENDAR
VERSION:2.0
PRODID:-//Abundant Grace Church West Hills - ECPv6.15.13//NONSGML v1.0//EN
CALSCALE:GREGORIAN
METHOD:PUBLISH
X-WR-CALNAME:Abundant Grace Church West Hills
X-ORIGINAL-URL:https://abundantgracechurchwh.org
X-WR-CALDESC:Events for Abundant Grace Church West Hills
REFRESH-INTERVAL;VALUE=DURATION:PT1H
X-Robots-Tag:noindex
X-PUBLISHED-TTL:PT1H
BEGIN:VTIMEZONE
TZID:America/New_York
BEGIN:DAYLIGHT
TZOFFSETFROM:-0500
TZOFFSETTO:-0400
TZNAME:EDT
DTSTART:20270314T070000
END:DAYLIGHT
BEGIN:STANDARD
TZOFFSETFROM:-0400
TZOFFSETTO:-0500
TZNAME:EST
DTSTART:20271107T060000
END:STANDARD
BEGIN:DAYLIGHT
TZOFFSETFROM:-0500
TZOFFSETTO:-0400
TZNAME:EDT
DTSTART:20280312T070000
END:DAYLIGHT
BEGIN:STANDARD
TZOFFSETFROM:-0400
TZOFFSETTO:-0500
TZNAME:EST
DTSTART:20281105T060000
END:STANDARD
BEGIN:DAYLIGHT
TZOFFSETFROM:-0500
TZOFFSETTO:-0400
TZNAME:EDT
DTSTART:20290311T070000
END:DAYLIGHT
BEGIN:STANDARD
TZOFFSETFROM:-0400
TZOFFSETTO:-0500
TZNAME:EST
DTSTART:20291104T060000
END:STANDARD
END:VTIMEZONE
BEGIN:VEVENT
DTSTART;TZID=America/New_York:20280227T100000
DTEND;TZID=America/New_York:20280227T110000
DTSTAMP:20260424T033630
CREATED:20251114T141806Z
LAST-MODIFIED:20251114T141806Z
UID:10001370-1835258400-1835262000@abundantgracechurchwh.org
SUMMARY:Sunday Worship Service
DESCRIPTION:Our worship service lasts approximately 60 minutes and includes contemporary music\, prayer\, scripture reading\, frequent communion\, and a message.
URL:https://abundantgracechurchwh.org/event/sunday-worship-service/2028-02-27/
LOCATION:Abundant Grace Church West Hills\, 1798 Brodhead Road\, Crescent\, 15046\, United States
CATEGORIES:Worship Service
ORGANIZER;CN="Tracey Corso":MAILTO:pastortracey@abundantgracechurchwh.org
END:VEVENT
BEGIN:VEVENT
DTSTART;TZID=America/New_York:20280305T100000
DTEND;TZID=America/New_York:20280305T110000
DTSTAMP:20260424T033630
CREATED:20251114T141806Z
LAST-MODIFIED:20251114T141806Z
UID:10001371-1835863200-1835866800@abundantgracechurchwh.org
SUMMARY:Sunday Worship Service
DESCRIPTION:Our worship service lasts approximately 60 minutes and includes contemporary music\, prayer\, scripture reading\, frequent communion\, and a message.
URL:https://abundantgracechurchwh.org/event/sunday-worship-service/2028-03-05/
LOCATION:Abundant Grace Church West Hills\, 1798 Brodhead Road\, Crescent\, 15046\, United States
CATEGORIES:Worship Service
ORGANIZER;CN="Tracey Corso":MAILTO:pastortracey@abundantgracechurchwh.org
END:VEVENT
BEGIN:VEVENT
DTSTART;TZID=America/New_York:20280312T100000
DTEND;TZID=America/New_York:20280312T110000
DTSTAMP:20260424T033630
CREATED:20251114T141806Z
LAST-MODIFIED:20251114T141806Z
UID:10001372-1836468000-1836471600@abundantgracechurchwh.org
SUMMARY:Sunday Worship Service
DESCRIPTION:Our worship service lasts approximately 60 minutes and includes contemporary music\, prayer\, scripture reading\, frequent communion\, and a message.
URL:https://abundantgracechurchwh.org/event/sunday-worship-service/2028-03-12/
LOCATION:Abundant Grace Church West Hills\, 1798 Brodhead Road\, Crescent\, 15046\, United States
CATEGORIES:Worship Service
ORGANIZER;CN="Tracey Corso":MAILTO:pastortracey@abundantgracechurchwh.org
END:VEVENT
BEGIN:VEVENT
DTSTART;TZID=America/New_York:20280319T100000
DTEND;TZID=America/New_York:20280319T110000
DTSTAMP:20260424T033630
CREATED:20251114T141806Z
LAST-MODIFIED:20251114T141806Z
UID:10001373-1837072800-1837076400@abundantgracechurchwh.org
SUMMARY:Sunday Worship Service
DESCRIPTION:Our worship service lasts approximately 60 minutes and includes contemporary music\, prayer\, scripture reading\, frequent communion\, and a message.
URL:https://abundantgracechurchwh.org/event/sunday-worship-service/2028-03-19/
LOCATION:Abundant Grace Church West Hills\, 1798 Brodhead Road\, Crescent\, 15046\, United States
CATEGORIES:Worship Service
ORGANIZER;CN="Tracey Corso":MAILTO:pastortracey@abundantgracechurchwh.org
END:VEVENT
BEGIN:VEVENT
DTSTART;TZID=America/New_York:20280326T100000
DTEND;TZID=America/New_York:20280326T110000
DTSTAMP:20260424T033630
CREATED:20251114T141806Z
LAST-MODIFIED:20251114T141806Z
UID:10001374-1837677600-1837681200@abundantgracechurchwh.org
SUMMARY:Sunday Worship Service
DESCRIPTION:Our worship service lasts approximately 60 minutes and includes contemporary music\, prayer\, scripture reading\, frequent communion\, and a message.
URL:https://abundantgracechurchwh.org/event/sunday-worship-service/2028-03-26/
LOCATION:Abundant Grace Church West Hills\, 1798 Brodhead Road\, Crescent\, 15046\, United States
CATEGORIES:Worship Service
ORGANIZER;CN="Tracey Corso":MAILTO:pastortracey@abundantgracechurchwh.org
END:VEVENT
BEGIN:VEVENT
DTSTART;TZID=America/New_York:20280402T100000
DTEND;TZID=America/New_York:20280402T110000
DTSTAMP:20260424T033630
CREATED:20251114T141806Z
LAST-MODIFIED:20251114T141806Z
UID:10001375-1838282400-1838286000@abundantgracechurchwh.org
SUMMARY:Sunday Worship Service
DESCRIPTION:Our worship service lasts approximately 60 minutes and includes contemporary music\, prayer\, scripture reading\, frequent communion\, and a message.
URL:https://abundantgracechurchwh.org/event/sunday-worship-service/2028-04-02/
LOCATION:Abundant Grace Church West Hills\, 1798 Brodhead Road\, Crescent\, 15046\, United States
CATEGORIES:Worship Service
ORGANIZER;CN="Tracey Corso":MAILTO:pastortracey@abundantgracechurchwh.org
END:VEVENT
BEGIN:VEVENT
DTSTART;TZID=America/New_York:20280409T100000
DTEND;TZID=America/New_York:20280409T110000
DTSTAMP:20260424T033630
CREATED:20251114T141806Z
LAST-MODIFIED:20251114T141806Z
UID:10001376-1838887200-1838890800@abundantgracechurchwh.org
SUMMARY:Sunday Worship Service
DESCRIPTION:Our worship service lasts approximately 60 minutes and includes contemporary music\, prayer\, scripture reading\, frequent communion\, and a message.
URL:https://abundantgracechurchwh.org/event/sunday-worship-service/2028-04-09/
LOCATION:Abundant Grace Church West Hills\, 1798 Brodhead Road\, Crescent\, 15046\, United States
CATEGORIES:Worship Service
ORGANIZER;CN="Tracey Corso":MAILTO:pastortracey@abundantgracechurchwh.org
END:VEVENT
BEGIN:VEVENT
DTSTART;TZID=America/New_York:20280416T100000
DTEND;TZID=America/New_York:20280416T110000
DTSTAMP:20260424T033630
CREATED:20251114T141806Z
LAST-MODIFIED:20251114T141806Z
UID:10001377-1839492000-1839495600@abundantgracechurchwh.org
SUMMARY:Sunday Worship Service
DESCRIPTION:Our worship service lasts approximately 60 minutes and includes contemporary music\, prayer\, scripture reading\, frequent communion\, and a message.
URL:https://abundantgracechurchwh.org/event/sunday-worship-service/2028-04-16/
LOCATION:Abundant Grace Church West Hills\, 1798 Brodhead Road\, Crescent\, 15046\, United States
CATEGORIES:Worship Service
ORGANIZER;CN="Tracey Corso":MAILTO:pastortracey@abundantgracechurchwh.org
END:VEVENT
BEGIN:VEVENT
DTSTART;TZID=America/New_York:20280423T100000
DTEND;TZID=America/New_York:20280423T110000
DTSTAMP:20260424T033630
CREATED:20251114T141806Z
LAST-MODIFIED:20251114T141806Z
UID:10001378-1840096800-1840100400@abundantgracechurchwh.org
SUMMARY:Sunday Worship Service
DESCRIPTION:Our worship service lasts approximately 60 minutes and includes contemporary music\, prayer\, scripture reading\, frequent communion\, and a message.
URL:https://abundantgracechurchwh.org/event/sunday-worship-service/2028-04-23/
LOCATION:Abundant Grace Church West Hills\, 1798 Brodhead Road\, Crescent\, 15046\, United States
CATEGORIES:Worship Service
ORGANIZER;CN="Tracey Corso":MAILTO:pastortracey@abundantgracechurchwh.org
END:VEVENT
BEGIN:VEVENT
DTSTART;TZID=America/New_York:20280430T100000
DTEND;TZID=America/New_York:20280430T110000
DTSTAMP:20260424T033630
CREATED:20251114T141806Z
LAST-MODIFIED:20251114T141806Z
UID:10001379-1840701600-1840705200@abundantgracechurchwh.org
SUMMARY:Sunday Worship Service
DESCRIPTION:Our worship service lasts approximately 60 minutes and includes contemporary music\, prayer\, scripture reading\, frequent communion\, and a message.
URL:https://abundantgracechurchwh.org/event/sunday-worship-service/2028-04-30/
LOCATION:Abundant Grace Church West Hills\, 1798 Brodhead Road\, Crescent\, 15046\, United States
CATEGORIES:Worship Service
ORGANIZER;CN="Tracey Corso":MAILTO:pastortracey@abundantgracechurchwh.org
END:VEVENT
BEGIN:VEVENT
DTSTART;TZID=America/New_York:20280507T100000
DTEND;TZID=America/New_York:20280507T110000
DTSTAMP:20260424T033630
CREATED:20251114T141806Z
LAST-MODIFIED:20251114T141806Z
UID:10001380-1841306400-1841310000@abundantgracechurchwh.org
SUMMARY:Sunday Worship Service
DESCRIPTION:Our worship service lasts approximately 60 minutes and includes contemporary music\, prayer\, scripture reading\, frequent communion\, and a message.
URL:https://abundantgracechurchwh.org/event/sunday-worship-service/2028-05-07/
LOCATION:Abundant Grace Church West Hills\, 1798 Brodhead Road\, Crescent\, 15046\, United States
CATEGORIES:Worship Service
ORGANIZER;CN="Tracey Corso":MAILTO:pastortracey@abundantgracechurchwh.org
END:VEVENT
BEGIN:VEVENT
DTSTART;TZID=America/New_York:20280514T100000
DTEND;TZID=America/New_York:20280514T110000
DTSTAMP:20260424T033630
CREATED:20251114T141806Z
LAST-MODIFIED:20251114T141806Z
UID:10001381-1841911200-1841914800@abundantgracechurchwh.org
SUMMARY:Sunday Worship Service
DESCRIPTION:Our worship service lasts approximately 60 minutes and includes contemporary music\, prayer\, scripture reading\, frequent communion\, and a message.
URL:https://abundantgracechurchwh.org/event/sunday-worship-service/2028-05-14/
LOCATION:Abundant Grace Church West Hills\, 1798 Brodhead Road\, Crescent\, 15046\, United States
CATEGORIES:Worship Service
ORGANIZER;CN="Tracey Corso":MAILTO:pastortracey@abundantgracechurchwh.org
END:VEVENT
BEGIN:VEVENT
DTSTART;TZID=America/New_York:20280521T100000
DTEND;TZID=America/New_York:20280521T110000
DTSTAMP:20260424T033630
CREATED:20251114T141806Z
LAST-MODIFIED:20251114T141806Z
UID:10001382-1842516000-1842519600@abundantgracechurchwh.org
SUMMARY:Sunday Worship Service
DESCRIPTION:Our worship service lasts approximately 60 minutes and includes contemporary music\, prayer\, scripture reading\, frequent communion\, and a message.
URL:https://abundantgracechurchwh.org/event/sunday-worship-service/2028-05-21/
LOCATION:Abundant Grace Church West Hills\, 1798 Brodhead Road\, Crescent\, 15046\, United States
CATEGORIES:Worship Service
ORGANIZER;CN="Tracey Corso":MAILTO:pastortracey@abundantgracechurchwh.org
END:VEVENT
BEGIN:VEVENT
DTSTART;TZID=America/New_York:20280528T100000
DTEND;TZID=America/New_York:20280528T110000
DTSTAMP:20260424T033630
CREATED:20251114T141806Z
LAST-MODIFIED:20251114T141806Z
UID:10001383-1843120800-1843124400@abundantgracechurchwh.org
SUMMARY:Sunday Worship Service
DESCRIPTION:Our worship service lasts approximately 60 minutes and includes contemporary music\, prayer\, scripture reading\, frequent communion\, and a message.
URL:https://abundantgracechurchwh.org/event/sunday-worship-service/2028-05-28/
LOCATION:Abundant Grace Church West Hills\, 1798 Brodhead Road\, Crescent\, 15046\, United States
CATEGORIES:Worship Service
ORGANIZER;CN="Tracey Corso":MAILTO:pastortracey@abundantgracechurchwh.org
END:VEVENT
BEGIN:VEVENT
DTSTART;TZID=America/New_York:20280604T100000
DTEND;TZID=America/New_York:20280604T110000
DTSTAMP:20260424T033630
CREATED:20251114T141806Z
LAST-MODIFIED:20251114T141806Z
UID:10001384-1843725600-1843729200@abundantgracechurchwh.org
SUMMARY:Sunday Worship Service
DESCRIPTION:Our worship service lasts approximately 60 minutes and includes contemporary music\, prayer\, scripture reading\, frequent communion\, and a message.
URL:https://abundantgracechurchwh.org/event/sunday-worship-service/2028-06-04/
LOCATION:Abundant Grace Church West Hills\, 1798 Brodhead Road\, Crescent\, 15046\, United States
CATEGORIES:Worship Service
ORGANIZER;CN="Tracey Corso":MAILTO:pastortracey@abundantgracechurchwh.org
END:VEVENT
BEGIN:VEVENT
DTSTART;TZID=America/New_York:20280611T100000
DTEND;TZID=America/New_York:20280611T110000
DTSTAMP:20260424T033630
CREATED:20251114T141806Z
LAST-MODIFIED:20251114T141806Z
UID:10001385-1844330400-1844334000@abundantgracechurchwh.org
SUMMARY:Sunday Worship Service
DESCRIPTION:Our worship service lasts approximately 60 minutes and includes contemporary music\, prayer\, scripture reading\, frequent communion\, and a message.
URL:https://abundantgracechurchwh.org/event/sunday-worship-service/2028-06-11/
LOCATION:Abundant Grace Church West Hills\, 1798 Brodhead Road\, Crescent\, 15046\, United States
CATEGORIES:Worship Service
ORGANIZER;CN="Tracey Corso":MAILTO:pastortracey@abundantgracechurchwh.org
END:VEVENT
BEGIN:VEVENT
DTSTART;TZID=America/New_York:20280618T100000
DTEND;TZID=America/New_York:20280618T110000
DTSTAMP:20260424T033630
CREATED:20251114T141806Z
LAST-MODIFIED:20251114T141806Z
UID:10001386-1844935200-1844938800@abundantgracechurchwh.org
SUMMARY:Sunday Worship Service
DESCRIPTION:Our worship service lasts approximately 60 minutes and includes contemporary music\, prayer\, scripture reading\, frequent communion\, and a message.
URL:https://abundantgracechurchwh.org/event/sunday-worship-service/2028-06-18/
LOCATION:Abundant Grace Church West Hills\, 1798 Brodhead Road\, Crescent\, 15046\, United States
CATEGORIES:Worship Service
ORGANIZER;CN="Tracey Corso":MAILTO:pastortracey@abundantgracechurchwh.org
END:VEVENT
BEGIN:VEVENT
DTSTART;TZID=America/New_York:20280625T100000
DTEND;TZID=America/New_York:20280625T110000
DTSTAMP:20260424T033630
CREATED:20251114T141806Z
LAST-MODIFIED:20251114T141806Z
UID:10001387-1845540000-1845543600@abundantgracechurchwh.org
SUMMARY:Sunday Worship Service
DESCRIPTION:Our worship service lasts approximately 60 minutes and includes contemporary music\, prayer\, scripture reading\, frequent communion\, and a message.
URL:https://abundantgracechurchwh.org/event/sunday-worship-service/2028-06-25/
LOCATION:Abundant Grace Church West Hills\, 1798 Brodhead Road\, Crescent\, 15046\, United States
CATEGORIES:Worship Service
ORGANIZER;CN="Tracey Corso":MAILTO:pastortracey@abundantgracechurchwh.org
END:VEVENT
BEGIN:VEVENT
DTSTART;TZID=America/New_York:20280702T100000
DTEND;TZID=America/New_York:20280702T110000
DTSTAMP:20260424T033630
CREATED:20251114T141806Z
LAST-MODIFIED:20251114T141806Z
UID:10001388-1846144800-1846148400@abundantgracechurchwh.org
SUMMARY:Sunday Worship Service
DESCRIPTION:Our worship service lasts approximately 60 minutes and includes contemporary music\, prayer\, scripture reading\, frequent communion\, and a message.
URL:https://abundantgracechurchwh.org/event/sunday-worship-service/2028-07-02/
LOCATION:Abundant Grace Church West Hills\, 1798 Brodhead Road\, Crescent\, 15046\, United States
CATEGORIES:Worship Service
ORGANIZER;CN="Tracey Corso":MAILTO:pastortracey@abundantgracechurchwh.org
END:VEVENT
BEGIN:VEVENT
DTSTART;TZID=America/New_York:20280709T100000
DTEND;TZID=America/New_York:20280709T110000
DTSTAMP:20260424T033630
CREATED:20251114T141806Z
LAST-MODIFIED:20251114T141806Z
UID:10001389-1846749600-1846753200@abundantgracechurchwh.org
SUMMARY:Sunday Worship Service
DESCRIPTION:Our worship service lasts approximately 60 minutes and includes contemporary music\, prayer\, scripture reading\, frequent communion\, and a message.
URL:https://abundantgracechurchwh.org/event/sunday-worship-service/2028-07-09/
LOCATION:Abundant Grace Church West Hills\, 1798 Brodhead Road\, Crescent\, 15046\, United States
CATEGORIES:Worship Service
ORGANIZER;CN="Tracey Corso":MAILTO:pastortracey@abundantgracechurchwh.org
END:VEVENT
BEGIN:VEVENT
DTSTART;TZID=America/New_York:20280716T100000
DTEND;TZID=America/New_York:20280716T110000
DTSTAMP:20260424T033630
CREATED:20251114T141806Z
LAST-MODIFIED:20251114T141806Z
UID:10001390-1847354400-1847358000@abundantgracechurchwh.org
SUMMARY:Sunday Worship Service
DESCRIPTION:Our worship service lasts approximately 60 minutes and includes contemporary music\, prayer\, scripture reading\, frequent communion\, and a message.
URL:https://abundantgracechurchwh.org/event/sunday-worship-service/2028-07-16/
LOCATION:Abundant Grace Church West Hills\, 1798 Brodhead Road\, Crescent\, 15046\, United States
CATEGORIES:Worship Service
ORGANIZER;CN="Tracey Corso":MAILTO:pastortracey@abundantgracechurchwh.org
END:VEVENT
BEGIN:VEVENT
DTSTART;TZID=America/New_York:20280723T100000
DTEND;TZID=America/New_York:20280723T110000
DTSTAMP:20260424T033630
CREATED:20251114T141806Z
LAST-MODIFIED:20251114T141806Z
UID:10001391-1847959200-1847962800@abundantgracechurchwh.org
SUMMARY:Sunday Worship Service
DESCRIPTION:Our worship service lasts approximately 60 minutes and includes contemporary music\, prayer\, scripture reading\, frequent communion\, and a message.
URL:https://abundantgracechurchwh.org/event/sunday-worship-service/2028-07-23/
LOCATION:Abundant Grace Church West Hills\, 1798 Brodhead Road\, Crescent\, 15046\, United States
CATEGORIES:Worship Service
ORGANIZER;CN="Tracey Corso":MAILTO:pastortracey@abundantgracechurchwh.org
END:VEVENT
BEGIN:VEVENT
DTSTART;TZID=America/New_York:20280730T100000
DTEND;TZID=America/New_York:20280730T110000
DTSTAMP:20260424T033630
CREATED:20251114T141806Z
LAST-MODIFIED:20251114T141806Z
UID:10001392-1848564000-1848567600@abundantgracechurchwh.org
SUMMARY:Sunday Worship Service
DESCRIPTION:Our worship service lasts approximately 60 minutes and includes contemporary music\, prayer\, scripture reading\, frequent communion\, and a message.
URL:https://abundantgracechurchwh.org/event/sunday-worship-service/2028-07-30/
LOCATION:Abundant Grace Church West Hills\, 1798 Brodhead Road\, Crescent\, 15046\, United States
CATEGORIES:Worship Service
ORGANIZER;CN="Tracey Corso":MAILTO:pastortracey@abundantgracechurchwh.org
END:VEVENT
BEGIN:VEVENT
DTSTART;TZID=America/New_York:20280806T100000
DTEND;TZID=America/New_York:20280806T110000
DTSTAMP:20260424T033630
CREATED:20251114T141806Z
LAST-MODIFIED:20251114T141806Z
UID:10001393-1849168800-1849172400@abundantgracechurchwh.org
SUMMARY:Sunday Worship Service
DESCRIPTION:Our worship service lasts approximately 60 minutes and includes contemporary music\, prayer\, scripture reading\, frequent communion\, and a message.
URL:https://abundantgracechurchwh.org/event/sunday-worship-service/2028-08-06/
LOCATION:Abundant Grace Church West Hills\, 1798 Brodhead Road\, Crescent\, 15046\, United States
CATEGORIES:Worship Service
ORGANIZER;CN="Tracey Corso":MAILTO:pastortracey@abundantgracechurchwh.org
END:VEVENT
BEGIN:VEVENT
DTSTART;TZID=America/New_York:20280813T100000
DTEND;TZID=America/New_York:20280813T110000
DTSTAMP:20260424T033630
CREATED:20251114T141806Z
LAST-MODIFIED:20251114T141806Z
UID:10001394-1849773600-1849777200@abundantgracechurchwh.org
SUMMARY:Sunday Worship Service
DESCRIPTION:Our worship service lasts approximately 60 minutes and includes contemporary music\, prayer\, scripture reading\, frequent communion\, and a message.
URL:https://abundantgracechurchwh.org/event/sunday-worship-service/2028-08-13/
LOCATION:Abundant Grace Church West Hills\, 1798 Brodhead Road\, Crescent\, 15046\, United States
CATEGORIES:Worship Service
ORGANIZER;CN="Tracey Corso":MAILTO:pastortracey@abundantgracechurchwh.org
END:VEVENT
BEGIN:VEVENT
DTSTART;TZID=America/New_York:20280820T100000
DTEND;TZID=America/New_York:20280820T110000
DTSTAMP:20260424T033630
CREATED:20251114T141806Z
LAST-MODIFIED:20251114T141806Z
UID:10001395-1850378400-1850382000@abundantgracechurchwh.org
SUMMARY:Sunday Worship Service
DESCRIPTION:Our worship service lasts approximately 60 minutes and includes contemporary music\, prayer\, scripture reading\, frequent communion\, and a message.
URL:https://abundantgracechurchwh.org/event/sunday-worship-service/2028-08-20/
LOCATION:Abundant Grace Church West Hills\, 1798 Brodhead Road\, Crescent\, 15046\, United States
CATEGORIES:Worship Service
ORGANIZER;CN="Tracey Corso":MAILTO:pastortracey@abundantgracechurchwh.org
END:VEVENT
BEGIN:VEVENT
DTSTART;TZID=America/New_York:20280827T100000
DTEND;TZID=America/New_York:20280827T110000
DTSTAMP:20260424T033630
CREATED:20251114T141806Z
LAST-MODIFIED:20251114T141806Z
UID:10001396-1850983200-1850986800@abundantgracechurchwh.org
SUMMARY:Sunday Worship Service
DESCRIPTION:Our worship service lasts approximately 60 minutes and includes contemporary music\, prayer\, scripture reading\, frequent communion\, and a message.
URL:https://abundantgracechurchwh.org/event/sunday-worship-service/2028-08-27/
LOCATION:Abundant Grace Church West Hills\, 1798 Brodhead Road\, Crescent\, 15046\, United States
CATEGORIES:Worship Service
ORGANIZER;CN="Tracey Corso":MAILTO:pastortracey@abundantgracechurchwh.org
END:VEVENT
BEGIN:VEVENT
DTSTART;TZID=America/New_York:20280903T100000
DTEND;TZID=America/New_York:20280903T110000
DTSTAMP:20260424T033630
CREATED:20251114T141806Z
LAST-MODIFIED:20251114T141806Z
UID:10001397-1851588000-1851591600@abundantgracechurchwh.org
SUMMARY:Sunday Worship Service
DESCRIPTION:Our worship service lasts approximately 60 minutes and includes contemporary music\, prayer\, scripture reading\, frequent communion\, and a message.
URL:https://abundantgracechurchwh.org/event/sunday-worship-service/2028-09-03/
LOCATION:Abundant Grace Church West Hills\, 1798 Brodhead Road\, Crescent\, 15046\, United States
CATEGORIES:Worship Service
ORGANIZER;CN="Tracey Corso":MAILTO:pastortracey@abundantgracechurchwh.org
END:VEVENT
BEGIN:VEVENT
DTSTART;TZID=America/New_York:20280910T100000
DTEND;TZID=America/New_York:20280910T110000
DTSTAMP:20260424T033630
CREATED:20251114T141806Z
LAST-MODIFIED:20251114T141806Z
UID:10001398-1852192800-1852196400@abundantgracechurchwh.org
SUMMARY:Sunday Worship Service
DESCRIPTION:Our worship service lasts approximately 60 minutes and includes contemporary music\, prayer\, scripture reading\, frequent communion\, and a message.
URL:https://abundantgracechurchwh.org/event/sunday-worship-service/2028-09-10/
LOCATION:Abundant Grace Church West Hills\, 1798 Brodhead Road\, Crescent\, 15046\, United States
CATEGORIES:Worship Service
ORGANIZER;CN="Tracey Corso":MAILTO:pastortracey@abundantgracechurchwh.org
END:VEVENT
BEGIN:VEVENT
DTSTART;TZID=America/New_York:20280917T100000
DTEND;TZID=America/New_York:20280917T110000
DTSTAMP:20260424T033630
CREATED:20251114T141806Z
LAST-MODIFIED:20251114T141806Z
UID:10001399-1852797600-1852801200@abundantgracechurchwh.org
SUMMARY:Sunday Worship Service
DESCRIPTION:Our worship service lasts approximately 60 minutes and includes contemporary music\, prayer\, scripture reading\, frequent communion\, and a message.
URL:https://abundantgracechurchwh.org/event/sunday-worship-service/2028-09-17/
LOCATION:Abundant Grace Church West Hills\, 1798 Brodhead Road\, Crescent\, 15046\, United States
CATEGORIES:Worship Service
ORGANIZER;CN="Tracey Corso":MAILTO:pastortracey@abundantgracechurchwh.org
END:VEVENT
END:VCALENDAR