BEGIN:VCALENDAR
VERSION:2.0
PRODID:-//Abundant Grace Church West Hills - ECPv6.15.13//NONSGML v1.0//EN
CALSCALE:GREGORIAN
METHOD:PUBLISH
X-WR-CALNAME:Abundant Grace Church West Hills
X-ORIGINAL-URL:https://abundantgracechurchwh.org
X-WR-CALDESC:Events for Abundant Grace Church West Hills
REFRESH-INTERVAL;VALUE=DURATION:PT1H
X-Robots-Tag:noindex
X-PUBLISHED-TTL:PT1H
BEGIN:VTIMEZONE
TZID:America/New_York
BEGIN:DAYLIGHT
TZOFFSETFROM:-0500
TZOFFSETTO:-0400
TZNAME:EDT
DTSTART:20240310T070000
END:DAYLIGHT
BEGIN:STANDARD
TZOFFSETFROM:-0400
TZOFFSETTO:-0500
TZNAME:EST
DTSTART:20241103T060000
END:STANDARD
BEGIN:DAYLIGHT
TZOFFSETFROM:-0500
TZOFFSETTO:-0400
TZNAME:EDT
DTSTART:20250309T070000
END:DAYLIGHT
BEGIN:STANDARD
TZOFFSETFROM:-0400
TZOFFSETTO:-0500
TZNAME:EST
DTSTART:20251102T060000
END:STANDARD
BEGIN:DAYLIGHT
TZOFFSETFROM:-0500
TZOFFSETTO:-0400
TZNAME:EDT
DTSTART:20260308T070000
END:DAYLIGHT
BEGIN:STANDARD
TZOFFSETFROM:-0400
TZOFFSETTO:-0500
TZNAME:EST
DTSTART:20261101T060000
END:STANDARD
BEGIN:DAYLIGHT
TZOFFSETFROM:-0500
TZOFFSETTO:-0400
TZNAME:EDT
DTSTART:20270314T070000
END:DAYLIGHT
BEGIN:STANDARD
TZOFFSETFROM:-0400
TZOFFSETTO:-0500
TZNAME:EST
DTSTART:20271107T060000
END:STANDARD
END:VTIMEZONE
BEGIN:VEVENT
DTSTART;TZID=America/New_York:20260104T100000
DTEND;TZID=America/New_York:20260104T110000
DTSTAMP:20260423T195125
CREATED:20251114T141806Z
LAST-MODIFIED:20251114T141806Z
UID:10001258-1767520800-1767524400@abundantgracechurchwh.org
SUMMARY:Sunday Worship Service
DESCRIPTION:Our worship service lasts approximately 60 minutes and includes contemporary music\, prayer\, scripture reading\, frequent communion\, and a message.
URL:https://abundantgracechurchwh.org/event/sunday-worship-service/2026-01-04/
LOCATION:Abundant Grace Church West Hills\, 1798 Brodhead Road\, Crescent\, 15046\, United States
CATEGORIES:Worship Service
ORGANIZER;CN="Tracey Corso":MAILTO:pastortracey@abundantgracechurchwh.org
END:VEVENT
BEGIN:VEVENT
DTSTART;TZID=America/New_York:20260102T180000
DTEND;TZID=America/New_York:20260102T203000
DTSTAMP:20260423T195125
CREATED:20251114T142226Z
LAST-MODIFIED:20251114T142226Z
UID:10001514-1767376800-1767385800@abundantgracechurchwh.org
SUMMARY:Light Your World (First Friday)
DESCRIPTION:Light Your World is a ministry that provides food\, clothing\, and toiletries to the homeless near the Boulevard of the Allies bridge in Pittsburgh. In addition to physical necessities\, Light Your World provides fellowship by sharing the love\, hope\, and abundant grace of Jesus Christ.
URL:https://abundantgracechurchwh.org/event/light-your-world-first-friday/2026-01-02/
LOCATION:Abundant Grace Church West Hills\, 1798 Brodhead Road\, Crescent\, 15046\, United States
CATEGORIES:Ministry
ORGANIZER;CN="Tracey Corso":MAILTO:pastortracey@abundantgracechurchwh.org
END:VEVENT
BEGIN:VEVENT
DTSTART;TZID=America/New_York:20251231T090000
DTEND;TZID=America/New_York:20251231T100000
DTSTAMP:20260423T195125
CREATED:20251114T141209Z
LAST-MODIFIED:20251121T191131Z
UID:10000995-1767171600-1767175200@abundantgracechurchwh.org
SUMMARY:Morning Prayer Service
DESCRIPTION:Join us as we pray for our church\, neighborhoods\, cities\, state\, and our nation.
URL:https://abundantgracechurchwh.org/event/morning-prayer-service/2025-12-31/
LOCATION:Abundant Grace Church West Hills\, 1798 Brodhead Road\, Crescent\, 15046\, United States
CATEGORIES:Prayer Service
ORGANIZER;CN="Tracey Corso":MAILTO:pastortracey@abundantgracechurchwh.org
END:VEVENT
BEGIN:VEVENT
DTSTART;TZID=America/New_York:20251229T180000
DTEND;TZID=America/New_York:20251229T200000
DTSTAMP:20260423T195125
CREATED:20251113T011933Z
LAST-MODIFIED:20251114T140508Z
UID:10000226-1767031200-1767038400@abundantgracechurchwh.org
SUMMARY:Student Ministry
DESCRIPTION:Join us for a time filled with energy\, games\, and genuine community. It’s a place to have lots of fun and feel like you belong. We take time to worship and explore who Jesus is and what He teaches.
URL:https://abundantgracechurchwh.org/event/student-ministry/2025-12-29/
LOCATION:Abundant Grace Church West Hills\, 1798 Brodhead Road\, Crescent\, 15046\, United States
CATEGORIES:Ministry
ATTACH;FMTTYPE=image/png:https://abundantgracechurchwh.org/wp-content/uploads/2025/11/Ignite-Thumbnail.png
ORGANIZER;CN="Nate Lesher":MAILTO:natelesheragcwh@gmail.com
END:VEVENT
BEGIN:VEVENT
DTSTART;TZID=America/New_York:20251228T100000
DTEND;TZID=America/New_York:20251228T110000
DTSTAMP:20260423T195125
CREATED:20251114T141806Z
LAST-MODIFIED:20251114T141806Z
UID:10001257-1766916000-1766919600@abundantgracechurchwh.org
SUMMARY:Sunday Worship Service
DESCRIPTION:Our worship service lasts approximately 60 minutes and includes contemporary music\, prayer\, scripture reading\, frequent communion\, and a message.
URL:https://abundantgracechurchwh.org/event/sunday-worship-service/2025-12-28/
LOCATION:Abundant Grace Church West Hills\, 1798 Brodhead Road\, Crescent\, 15046\, United States
CATEGORIES:Worship Service
ORGANIZER;CN="Tracey Corso":MAILTO:pastortracey@abundantgracechurchwh.org
END:VEVENT
BEGIN:VEVENT
DTSTART;TZID=America/New_York:20251225T100000
DTEND;TZID=America/New_York:20251225T113000
DTSTAMP:20260423T195125
CREATED:20251121T192019Z
LAST-MODIFIED:20251121T192019Z
UID:10001639-1766656800-1766662200@abundantgracechurchwh.org
SUMMARY:Christmas Service
DESCRIPTION:
URL:https://abundantgracechurchwh.org/event/christmas-service/
LOCATION:Abundant Grace Church West Hills\, 1798 Brodhead Road\, Crescent\, 15046\, United States
CATEGORIES:Worship Service
ATTACH;FMTTYPE=image/png:https://abundantgracechurchwh.org/wp-content/uploads/2025/11/Whimsical-Christmas-Tree-scaled.png
ORGANIZER;CN="Tracey Corso":MAILTO:pastortracey@abundantgracechurchwh.org
END:VEVENT
BEGIN:VEVENT
DTSTART;TZID=America/New_York:20251224T180000
DTEND;TZID=America/New_York:20251224T193000
DTSTAMP:20260423T195125
CREATED:20251121T191843Z
LAST-MODIFIED:20251121T191843Z
UID:10001638-1766599200-1766604600@abundantgracechurchwh.org
SUMMARY:Christmas Eve Service
DESCRIPTION:
URL:https://abundantgracechurchwh.org/event/christmas-eve-service/2025-12-24/2/
LOCATION:Abundant Grace Church West Hills\, 1798 Brodhead Road\, Crescent\, 15046\, United States
CATEGORIES:Worship Service
ATTACH;FMTTYPE=image/png:https://abundantgracechurchwh.org/wp-content/uploads/2025/11/Whimsical-Christmas-Tree-scaled.png
ORGANIZER;CN="Tracey Corso":MAILTO:pastortracey@abundantgracechurchwh.org
END:VEVENT
BEGIN:VEVENT
DTSTART;TZID=America/New_York:20251224T160000
DTEND;TZID=America/New_York:20251224T173000
DTSTAMP:20260423T195125
CREATED:20251121T191843Z
LAST-MODIFIED:20251121T191843Z
UID:10001637-1766592000-1766597400@abundantgracechurchwh.org
SUMMARY:Christmas Eve Service
DESCRIPTION:
URL:https://abundantgracechurchwh.org/event/christmas-eve-service/2025-12-24/1/
LOCATION:Abundant Grace Church West Hills\, 1798 Brodhead Road\, Crescent\, 15046\, United States
CATEGORIES:Worship Service
ATTACH;FMTTYPE=image/png:https://abundantgracechurchwh.org/wp-content/uploads/2025/11/Whimsical-Christmas-Tree-scaled.png
ORGANIZER;CN="Tracey Corso":MAILTO:pastortracey@abundantgracechurchwh.org
END:VEVENT
BEGIN:VEVENT
DTSTART;TZID=America/New_York:20251224T090000
DTEND;TZID=America/New_York:20251224T100000
DTSTAMP:20260423T195125
CREATED:20251114T141209Z
LAST-MODIFIED:20251121T191131Z
UID:10000994-1766566800-1766570400@abundantgracechurchwh.org
SUMMARY:Morning Prayer Service
DESCRIPTION:Join us as we pray for our church\, neighborhoods\, cities\, state\, and our nation.
URL:https://abundantgracechurchwh.org/event/morning-prayer-service/2025-12-24/
LOCATION:Abundant Grace Church West Hills\, 1798 Brodhead Road\, Crescent\, 15046\, United States
CATEGORIES:Prayer Service
ORGANIZER;CN="Tracey Corso":MAILTO:pastortracey@abundantgracechurchwh.org
END:VEVENT
BEGIN:VEVENT
DTSTART;TZID=America/New_York:20251223T181500
DTEND;TZID=America/New_York:20251223T200000
DTSTAMP:20260423T195125
CREATED:20251121T192444Z
LAST-MODIFIED:20251203T214029Z
UID:10001701-1766513700-1766520000@abundantgracechurchwh.org
SUMMARY:Women's Evening Bible Study (Fourth Tuesday)
DESCRIPTION:
URL:https://abundantgracechurchwh.org/event/womens-evening-bible-study-fourth-tuesday/2025-12-23/
LOCATION:Abundant Grace Church West Hills\, 1798 Brodhead Road\, Crescent\, 15046\, United States
CATEGORIES:Ministry
ORGANIZER;CN="Tracey Corso":MAILTO:pastortracey@abundantgracechurchwh.org
END:VEVENT
BEGIN:VEVENT
DTSTART;TZID=America/New_York:20251222T180000
DTEND;TZID=America/New_York:20251222T200000
DTSTAMP:20260423T195125
CREATED:20251113T011933Z
LAST-MODIFIED:20251114T140508Z
UID:10000225-1766426400-1766433600@abundantgracechurchwh.org
SUMMARY:Student Ministry
DESCRIPTION:Join us for a time filled with energy\, games\, and genuine community. It’s a place to have lots of fun and feel like you belong. We take time to worship and explore who Jesus is and what He teaches.
URL:https://abundantgracechurchwh.org/event/student-ministry/2025-12-22/
LOCATION:Abundant Grace Church West Hills\, 1798 Brodhead Road\, Crescent\, 15046\, United States
CATEGORIES:Ministry
ATTACH;FMTTYPE=image/png:https://abundantgracechurchwh.org/wp-content/uploads/2025/11/Ignite-Thumbnail.png
ORGANIZER;CN="Nate Lesher":MAILTO:natelesheragcwh@gmail.com
END:VEVENT
BEGIN:VEVENT
DTSTART;TZID=America/New_York:20251221T100000
DTEND;TZID=America/New_York:20251221T110000
DTSTAMP:20260423T195125
CREATED:20251114T141806Z
LAST-MODIFIED:20251114T141806Z
UID:10001256-1766311200-1766314800@abundantgracechurchwh.org
SUMMARY:Sunday Worship Service
DESCRIPTION:Our worship service lasts approximately 60 minutes and includes contemporary music\, prayer\, scripture reading\, frequent communion\, and a message.
URL:https://abundantgracechurchwh.org/event/sunday-worship-service/2025-12-21/
LOCATION:Abundant Grace Church West Hills\, 1798 Brodhead Road\, Crescent\, 15046\, United States
CATEGORIES:Worship Service
ORGANIZER;CN="Tracey Corso":MAILTO:pastortracey@abundantgracechurchwh.org
END:VEVENT
BEGIN:VEVENT
DTSTART;TZID=America/New_York:20251221T093000
DTEND;TZID=America/New_York:20251221T120000
DTSTAMP:20260423T195125
CREATED:20251121T191450Z
LAST-MODIFIED:20251203T213956Z
UID:10001636-1766309400-1766318400@abundantgracechurchwh.org
SUMMARY:Christmas Breakfast
DESCRIPTION:We will have a potluck breakfast and great fellowship. There will be a short message\, followed by a performance from the FLOCK kids.
URL:https://abundantgracechurchwh.org/event/christmas-breakfast/
LOCATION:Abundant Grace Church West Hills\, 1798 Brodhead Road\, Crescent\, 15046\, United States
CATEGORIES:Worship Service
ORGANIZER;CN="Tracey Corso":MAILTO:pastortracey@abundantgracechurchwh.org
END:VEVENT
BEGIN:VEVENT
DTSTART;TZID=America/New_York:20251219T180000
DTEND;TZID=America/New_York:20251219T203000
DTSTAMP:20260423T195125
CREATED:20251114T142325Z
LAST-MODIFIED:20251114T142325Z
UID:10001574-1766167200-1766176200@abundantgracechurchwh.org
SUMMARY:Light Your World (Third Friday)
DESCRIPTION:Light Your World is a ministry that provides food\, clothing\, and toiletries to the homeless near the Boulevard of the Allies bridge in Pittsburgh. In addition to physical necessities\, Light Your World provides fellowship by sharing the love\, hope\, and abundant grace of Jesus Christ.
URL:https://abundantgracechurchwh.org/event/light-your-world-third-friday/2025-12-19/
LOCATION:Abundant Grace Church West Hills\, 1798 Brodhead Road\, Crescent\, 15046\, United States
CATEGORIES:Ministry
ORGANIZER;CN="Tracey Corso":MAILTO:pastortracey@abundantgracechurchwh.org
END:VEVENT
BEGIN:VEVENT
DTSTART;TZID=America/New_York:20251217T090000
DTEND;TZID=America/New_York:20251217T100000
DTSTAMP:20260423T195125
CREATED:20251114T141209Z
LAST-MODIFIED:20251121T191131Z
UID:10000993-1765962000-1765965600@abundantgracechurchwh.org
SUMMARY:Morning Prayer Service
DESCRIPTION:Join us as we pray for our church\, neighborhoods\, cities\, state\, and our nation.
URL:https://abundantgracechurchwh.org/event/morning-prayer-service/2025-12-17/
LOCATION:Abundant Grace Church West Hills\, 1798 Brodhead Road\, Crescent\, 15046\, United States
CATEGORIES:Prayer Service
ORGANIZER;CN="Tracey Corso":MAILTO:pastortracey@abundantgracechurchwh.org
END:VEVENT
BEGIN:VEVENT
DTSTART;TZID=America/New_York:20251216T183000
DTEND;TZID=America/New_York:20251216T203000
DTSTAMP:20260423T195125
CREATED:20251114T140030Z
LAST-MODIFIED:20251114T140030Z
UID:10000930-1765909800-1765917000@abundantgracechurchwh.org
SUMMARY:Men's Bible Study (Third Tuesday)
DESCRIPTION:Join us to read and discuss the Bible to deepen our faith\, grow in our relationship with God\, and support one another.
URL:https://abundantgracechurchwh.org/event/mens-bible-study-third-tuesday/2025-12-16/
LOCATION:Abundant Grace Church West Hills\, 1798 Brodhead Road\, Crescent\, 15046\, United States
CATEGORIES:Ministry
ORGANIZER;CN="Tom Martz":MAILTO:kwmcontrols@gmail.com
END:VEVENT
BEGIN:VEVENT
DTSTART;TZID=America/New_York:20251215T180000
DTEND;TZID=America/New_York:20251215T200000
DTSTAMP:20260423T195125
CREATED:20251113T011933Z
LAST-MODIFIED:20251114T140508Z
UID:10000224-1765821600-1765828800@abundantgracechurchwh.org
SUMMARY:Student Ministry
DESCRIPTION:Join us for a time filled with energy\, games\, and genuine community. It’s a place to have lots of fun and feel like you belong. We take time to worship and explore who Jesus is and what He teaches.
URL:https://abundantgracechurchwh.org/event/student-ministry/2025-12-15/
LOCATION:Abundant Grace Church West Hills\, 1798 Brodhead Road\, Crescent\, 15046\, United States
CATEGORIES:Ministry
ATTACH;FMTTYPE=image/png:https://abundantgracechurchwh.org/wp-content/uploads/2025/11/Ignite-Thumbnail.png
ORGANIZER;CN="Nate Lesher":MAILTO:natelesheragcwh@gmail.com
END:VEVENT
BEGIN:VEVENT
DTSTART;TZID=America/New_York:20251214T100000
DTEND;TZID=America/New_York:20251214T113000
DTSTAMP:20260423T195125
CREATED:20251121T190920Z
LAST-MODIFIED:20251121T191642Z
UID:10001633-1765706400-1765711800@abundantgracechurchwh.org
SUMMARY:Lessons and Carols
DESCRIPTION:The story of Redemption told through scripture and song.
URL:https://abundantgracechurchwh.org/event/lessons-and-carols/
LOCATION:Abundant Grace Church West Hills\, 1798 Brodhead Road\, Crescent\, 15046\, United States
CATEGORIES:Worship Service
ATTACH;FMTTYPE=image/png:https://abundantgracechurchwh.org/wp-content/uploads/2025/11/Whimsical-Christmas-Tree-scaled.png
ORGANIZER;CN="Tracey Corso":MAILTO:pastortracey@abundantgracechurchwh.org
END:VEVENT
BEGIN:VEVENT
DTSTART;TZID=America/New_York:20251214T100000
DTEND;TZID=America/New_York:20251214T110000
DTSTAMP:20260423T195125
CREATED:20251114T141806Z
LAST-MODIFIED:20251114T141806Z
UID:10001255-1765706400-1765710000@abundantgracechurchwh.org
SUMMARY:Sunday Worship Service
DESCRIPTION:Our worship service lasts approximately 60 minutes and includes contemporary music\, prayer\, scripture reading\, frequent communion\, and a message.
URL:https://abundantgracechurchwh.org/event/sunday-worship-service/2025-12-14/
LOCATION:Abundant Grace Church West Hills\, 1798 Brodhead Road\, Crescent\, 15046\, United States
CATEGORIES:Worship Service
ORGANIZER;CN="Tracey Corso":MAILTO:pastortracey@abundantgracechurchwh.org
END:VEVENT
BEGIN:VEVENT
DTSTART;TZID=America/New_York:20251210T090000
DTEND;TZID=America/New_York:20251210T100000
DTSTAMP:20260423T195125
CREATED:20251114T141209Z
LAST-MODIFIED:20251121T191131Z
UID:10000992-1765357200-1765360800@abundantgracechurchwh.org
SUMMARY:Morning Prayer Service
DESCRIPTION:Join us as we pray for our church\, neighborhoods\, cities\, state\, and our nation.
URL:https://abundantgracechurchwh.org/event/morning-prayer-service/2025-12-10/
LOCATION:Abundant Grace Church West Hills\, 1798 Brodhead Road\, Crescent\, 15046\, United States
CATEGORIES:Prayer Service
ORGANIZER;CN="Tracey Corso":MAILTO:pastortracey@abundantgracechurchwh.org
END:VEVENT
BEGIN:VEVENT
DTSTART;TZID=America/New_York:20251209T181500
DTEND;TZID=America/New_York:20251209T200000
DTSTAMP:20260423T195125
CREATED:20251121T192343Z
LAST-MODIFIED:20251203T214021Z
UID:10001640-1765304100-1765310400@abundantgracechurchwh.org
SUMMARY:Women’s Evening Bible Study (Second Tuesday)
DESCRIPTION:
URL:https://abundantgracechurchwh.org/event/womens-evening-bible-study-second-tuesday/2025-12-09/
LOCATION:Abundant Grace Church West Hills\, 1798 Brodhead Road\, Crescent\, 15046\, United States
CATEGORIES:Ministry
ORGANIZER;CN="Tracey Corso":MAILTO:pastortracey@abundantgracechurchwh.org
END:VEVENT
BEGIN:VEVENT
DTSTART;TZID=America/New_York:20251208T180000
DTEND;TZID=America/New_York:20251208T200000
DTSTAMP:20260423T195125
CREATED:20251113T011933Z
LAST-MODIFIED:20251114T140508Z
UID:10000223-1765216800-1765224000@abundantgracechurchwh.org
SUMMARY:Student Ministry
DESCRIPTION:Join us for a time filled with energy\, games\, and genuine community. It’s a place to have lots of fun and feel like you belong. We take time to worship and explore who Jesus is and what He teaches.
URL:https://abundantgracechurchwh.org/event/student-ministry/2025-12-08/
LOCATION:Abundant Grace Church West Hills\, 1798 Brodhead Road\, Crescent\, 15046\, United States
CATEGORIES:Ministry
ATTACH;FMTTYPE=image/png:https://abundantgracechurchwh.org/wp-content/uploads/2025/11/Ignite-Thumbnail.png
ORGANIZER;CN="Nate Lesher":MAILTO:natelesheragcwh@gmail.com
END:VEVENT
BEGIN:VEVENT
DTSTART;TZID=America/New_York:20251207T100000
DTEND;TZID=America/New_York:20251207T113000
DTSTAMP:20260423T195125
CREATED:20251121T191301Z
LAST-MODIFIED:20251121T191649Z
UID:10001635-1765101600-1765107000@abundantgracechurchwh.org
SUMMARY:Bishop Visit/Confirmations/Reaffirmations
DESCRIPTION:
URL:https://abundantgracechurchwh.org/event/bishop-visit-confirmations-reaffirmations/
LOCATION:Abundant Grace Church West Hills\, 1798 Brodhead Road\, Crescent\, 15046\, United States
CATEGORIES:Worship Service
ORGANIZER;CN="Tracey Corso":MAILTO:pastortracey@abundantgracechurchwh.org
END:VEVENT
BEGIN:VEVENT
DTSTART;TZID=America/New_York:20251207T100000
DTEND;TZID=America/New_York:20251207T110000
DTSTAMP:20260423T195125
CREATED:20251114T141806Z
LAST-MODIFIED:20251114T141806Z
UID:10001254-1765101600-1765105200@abundantgracechurchwh.org
SUMMARY:Sunday Worship Service
DESCRIPTION:Our worship service lasts approximately 60 minutes and includes contemporary music\, prayer\, scripture reading\, frequent communion\, and a message.
URL:https://abundantgracechurchwh.org/event/sunday-worship-service/2025-12-07/
LOCATION:Abundant Grace Church West Hills\, 1798 Brodhead Road\, Crescent\, 15046\, United States
CATEGORIES:Worship Service
ORGANIZER;CN="Tracey Corso":MAILTO:pastortracey@abundantgracechurchwh.org
END:VEVENT
BEGIN:VEVENT
DTSTART;TZID=America/New_York:20251205T180000
DTEND;TZID=America/New_York:20251205T203000
DTSTAMP:20260423T195125
CREATED:20251114T142226Z
LAST-MODIFIED:20251114T142226Z
UID:10001513-1764957600-1764966600@abundantgracechurchwh.org
SUMMARY:Light Your World (First Friday)
DESCRIPTION:Light Your World is a ministry that provides food\, clothing\, and toiletries to the homeless near the Boulevard of the Allies bridge in Pittsburgh. In addition to physical necessities\, Light Your World provides fellowship by sharing the love\, hope\, and abundant grace of Jesus Christ.
URL:https://abundantgracechurchwh.org/event/light-your-world-first-friday/2025-12-05/
LOCATION:Abundant Grace Church West Hills\, 1798 Brodhead Road\, Crescent\, 15046\, United States
CATEGORIES:Ministry
ORGANIZER;CN="Tracey Corso":MAILTO:pastortracey@abundantgracechurchwh.org
END:VEVENT
BEGIN:VEVENT
DTSTART;TZID=America/New_York:20251203T090000
DTEND;TZID=America/New_York:20251203T100000
DTSTAMP:20260423T195125
CREATED:20251114T141209Z
LAST-MODIFIED:20251121T191131Z
UID:10000991-1764752400-1764756000@abundantgracechurchwh.org
SUMMARY:Morning Prayer Service
DESCRIPTION:Join us as we pray for our church\, neighborhoods\, cities\, state\, and our nation.
URL:https://abundantgracechurchwh.org/event/morning-prayer-service/2025-12-03/
LOCATION:Abundant Grace Church West Hills\, 1798 Brodhead Road\, Crescent\, 15046\, United States
CATEGORIES:Prayer Service
ORGANIZER;CN="Tracey Corso":MAILTO:pastortracey@abundantgracechurchwh.org
END:VEVENT
BEGIN:VEVENT
DTSTART;TZID=America/New_York:20251202T183000
DTEND;TZID=America/New_York:20251202T203000
DTSTAMP:20260423T195125
CREATED:20251114T135848Z
LAST-MODIFIED:20251114T140055Z
UID:10000869-1764700200-1764707400@abundantgracechurchwh.org
SUMMARY:Men's Bible Study (First Tuesday)
DESCRIPTION:Join us to read and discuss the Bible to deepen our faith\, grow in our relationship with God\, and support one another.
URL:https://abundantgracechurchwh.org/event/mens-bible-study-first-tuesday/2025-12-02/
LOCATION:Abundant Grace Church West Hills\, 1798 Brodhead Road\, Crescent\, 15046\, United States
CATEGORIES:Ministry
ORGANIZER;CN="Tom Martz":MAILTO:kwmcontrols@gmail.com
END:VEVENT
BEGIN:VEVENT
DTSTART;TZID=America/New_York:20251201T180000
DTEND;TZID=America/New_York:20251201T200000
DTSTAMP:20260423T195125
CREATED:20251113T011933Z
LAST-MODIFIED:20251114T140508Z
UID:10000222-1764612000-1764619200@abundantgracechurchwh.org
SUMMARY:Student Ministry
DESCRIPTION:Join us for a time filled with energy\, games\, and genuine community. It’s a place to have lots of fun and feel like you belong. We take time to worship and explore who Jesus is and what He teaches.
URL:https://abundantgracechurchwh.org/event/student-ministry/2025-12-01/
LOCATION:Abundant Grace Church West Hills\, 1798 Brodhead Road\, Crescent\, 15046\, United States
CATEGORIES:Ministry
ATTACH;FMTTYPE=image/png:https://abundantgracechurchwh.org/wp-content/uploads/2025/11/Ignite-Thumbnail.png
ORGANIZER;CN="Nate Lesher":MAILTO:natelesheragcwh@gmail.com
END:VEVENT
BEGIN:VEVENT
DTSTART;TZID=America/New_York:20251130T100000
DTEND;TZID=America/New_York:20251130T110000
DTSTAMP:20260423T195125
CREATED:20251114T141806Z
LAST-MODIFIED:20251114T141806Z
UID:10001253-1764496800-1764500400@abundantgracechurchwh.org
SUMMARY:Sunday Worship Service
DESCRIPTION:Our worship service lasts approximately 60 minutes and includes contemporary music\, prayer\, scripture reading\, frequent communion\, and a message.
URL:https://abundantgracechurchwh.org/event/sunday-worship-service/2025-11-30/
LOCATION:Abundant Grace Church West Hills\, 1798 Brodhead Road\, Crescent\, 15046\, United States
CATEGORIES:Worship Service
ORGANIZER;CN="Tracey Corso":MAILTO:pastortracey@abundantgracechurchwh.org
END:VEVENT
BEGIN:VEVENT
DTSTART;TZID=America/New_York:20251125T181500
DTEND;TZID=America/New_York:20251125T200000
DTSTAMP:20260423T195125
CREATED:20251121T192444Z
LAST-MODIFIED:20251203T214029Z
UID:10001700-1764094500-1764100800@abundantgracechurchwh.org
SUMMARY:Women's Evening Bible Study (Fourth Tuesday)
DESCRIPTION:
URL:https://abundantgracechurchwh.org/event/womens-evening-bible-study-fourth-tuesday/2025-11-25/
LOCATION:Abundant Grace Church West Hills\, 1798 Brodhead Road\, Crescent\, 15046\, United States
CATEGORIES:Ministry
ORGANIZER;CN="Tracey Corso":MAILTO:pastortracey@abundantgracechurchwh.org
END:VEVENT
END:VCALENDAR