BEGIN:VCALENDAR
VERSION:2.0
PRODID:-//Abundant Grace Church West Hills - ECPv6.15.13//NONSGML v1.0//EN
CALSCALE:GREGORIAN
METHOD:PUBLISH
X-WR-CALNAME:Abundant Grace Church West Hills
X-ORIGINAL-URL:https://abundantgracechurchwh.org
X-WR-CALDESC:Events for Abundant Grace Church West Hills
REFRESH-INTERVAL;VALUE=DURATION:PT1H
X-Robots-Tag:noindex
X-PUBLISHED-TTL:PT1H
BEGIN:VTIMEZONE
TZID:America/New_York
BEGIN:DAYLIGHT
TZOFFSETFROM:-0500
TZOFFSETTO:-0400
TZNAME:EDT
DTSTART:20260308T070000
END:DAYLIGHT
BEGIN:STANDARD
TZOFFSETFROM:-0400
TZOFFSETTO:-0500
TZNAME:EST
DTSTART:20261101T060000
END:STANDARD
BEGIN:DAYLIGHT
TZOFFSETFROM:-0500
TZOFFSETTO:-0400
TZNAME:EDT
DTSTART:20270314T070000
END:DAYLIGHT
BEGIN:STANDARD
TZOFFSETFROM:-0400
TZOFFSETTO:-0500
TZNAME:EST
DTSTART:20271107T060000
END:STANDARD
BEGIN:DAYLIGHT
TZOFFSETFROM:-0500
TZOFFSETTO:-0400
TZNAME:EDT
DTSTART:20280312T070000
END:DAYLIGHT
BEGIN:STANDARD
TZOFFSETFROM:-0400
TZOFFSETTO:-0500
TZNAME:EST
DTSTART:20281105T060000
END:STANDARD
END:VTIMEZONE
BEGIN:VEVENT
DTSTART;TZID=America/New_York:20270413T181500
DTEND;TZID=America/New_York:20270413T200000
DTSTAMP:20260425T115228
CREATED:20251121T192343Z
LAST-MODIFIED:20251203T214021Z
UID:10001656-1807640100-1807646400@abundantgracechurchwh.org
SUMMARY:Women’s Evening Bible Study (Second Tuesday)
DESCRIPTION:
URL:https://abundantgracechurchwh.org/event/womens-evening-bible-study-second-tuesday/2027-04-13/
LOCATION:Abundant Grace Church West Hills\, 1798 Brodhead Road\, Crescent\, 15046\, United States
CATEGORIES:Ministry
ORGANIZER;CN="Tracey Corso":MAILTO:pastortracey@abundantgracechurchwh.org
END:VEVENT
BEGIN:VEVENT
DTSTART;TZID=America/New_York:20270412T180000
DTEND;TZID=America/New_York:20270412T200000
DTSTAMP:20260425T115228
CREATED:20251113T011933Z
LAST-MODIFIED:20251114T140508Z
UID:10000293-1807552800-1807560000@abundantgracechurchwh.org
SUMMARY:Student Ministry
DESCRIPTION:Join us for a time filled with energy\, games\, and genuine community. It’s a place to have lots of fun and feel like you belong. We take time to worship and explore who Jesus is and what He teaches.
URL:https://abundantgracechurchwh.org/event/student-ministry/2027-04-12/
LOCATION:Abundant Grace Church West Hills\, 1798 Brodhead Road\, Crescent\, 15046\, United States
CATEGORIES:Ministry
ATTACH;FMTTYPE=image/png:https://abundantgracechurchwh.org/wp-content/uploads/2025/11/Ignite-Thumbnail.png
ORGANIZER;CN="Nate Lesher":MAILTO:natelesheragcwh@gmail.com
END:VEVENT
BEGIN:VEVENT
DTSTART;TZID=America/New_York:20270411T100000
DTEND;TZID=America/New_York:20270411T110000
DTSTAMP:20260425T115228
CREATED:20251114T141806Z
LAST-MODIFIED:20251114T141806Z
UID:10001324-1807437600-1807441200@abundantgracechurchwh.org
SUMMARY:Sunday Worship Service
DESCRIPTION:Our worship service lasts approximately 60 minutes and includes contemporary music\, prayer\, scripture reading\, frequent communion\, and a message.
URL:https://abundantgracechurchwh.org/event/sunday-worship-service/2027-04-11/
LOCATION:Abundant Grace Church West Hills\, 1798 Brodhead Road\, Crescent\, 15046\, United States
CATEGORIES:Worship Service
ORGANIZER;CN="Tracey Corso":MAILTO:pastortracey@abundantgracechurchwh.org
END:VEVENT
BEGIN:VEVENT
DTSTART;TZID=America/New_York:20270407T090000
DTEND;TZID=America/New_York:20270407T100000
DTSTAMP:20260425T115228
CREATED:20251114T141209Z
LAST-MODIFIED:20251121T191131Z
UID:10001061-1807088400-1807092000@abundantgracechurchwh.org
SUMMARY:Morning Prayer Service
DESCRIPTION:Join us as we pray for our church\, neighborhoods\, cities\, state\, and our nation.
URL:https://abundantgracechurchwh.org/event/morning-prayer-service/2027-04-07/
LOCATION:Abundant Grace Church West Hills\, 1798 Brodhead Road\, Crescent\, 15046\, United States
CATEGORIES:Prayer Service
ORGANIZER;CN="Tracey Corso":MAILTO:pastortracey@abundantgracechurchwh.org
END:VEVENT
BEGIN:VEVENT
DTSTART;TZID=America/New_York:20270406T183000
DTEND;TZID=America/New_York:20270406T203000
DTSTAMP:20260425T115228
CREATED:20251114T135848Z
LAST-MODIFIED:20251114T140055Z
UID:10000885-1807036200-1807043400@abundantgracechurchwh.org
SUMMARY:Men's Bible Study (First Tuesday)
DESCRIPTION:Join us to read and discuss the Bible to deepen our faith\, grow in our relationship with God\, and support one another.
URL:https://abundantgracechurchwh.org/event/mens-bible-study-first-tuesday/2027-04-06/
LOCATION:Abundant Grace Church West Hills\, 1798 Brodhead Road\, Crescent\, 15046\, United States
CATEGORIES:Ministry
ORGANIZER;CN="Tom Martz":MAILTO:kwmcontrols@gmail.com
END:VEVENT
BEGIN:VEVENT
DTSTART;TZID=America/New_York:20270405T180000
DTEND;TZID=America/New_York:20270405T200000
DTSTAMP:20260425T115228
CREATED:20251113T011933Z
LAST-MODIFIED:20251114T140508Z
UID:10000292-1806948000-1806955200@abundantgracechurchwh.org
SUMMARY:Student Ministry
DESCRIPTION:Join us for a time filled with energy\, games\, and genuine community. It’s a place to have lots of fun and feel like you belong. We take time to worship and explore who Jesus is and what He teaches.
URL:https://abundantgracechurchwh.org/event/student-ministry/2027-04-05/
LOCATION:Abundant Grace Church West Hills\, 1798 Brodhead Road\, Crescent\, 15046\, United States
CATEGORIES:Ministry
ATTACH;FMTTYPE=image/png:https://abundantgracechurchwh.org/wp-content/uploads/2025/11/Ignite-Thumbnail.png
ORGANIZER;CN="Nate Lesher":MAILTO:natelesheragcwh@gmail.com
END:VEVENT
BEGIN:VEVENT
DTSTART;TZID=America/New_York:20270404T100000
DTEND;TZID=America/New_York:20270404T110000
DTSTAMP:20260425T115228
CREATED:20251114T141806Z
LAST-MODIFIED:20251114T141806Z
UID:10001323-1806832800-1806836400@abundantgracechurchwh.org
SUMMARY:Sunday Worship Service
DESCRIPTION:Our worship service lasts approximately 60 minutes and includes contemporary music\, prayer\, scripture reading\, frequent communion\, and a message.
URL:https://abundantgracechurchwh.org/event/sunday-worship-service/2027-04-04/
LOCATION:Abundant Grace Church West Hills\, 1798 Brodhead Road\, Crescent\, 15046\, United States
CATEGORIES:Worship Service
ORGANIZER;CN="Tracey Corso":MAILTO:pastortracey@abundantgracechurchwh.org
END:VEVENT
BEGIN:VEVENT
DTSTART;TZID=America/New_York:20270402T180000
DTEND;TZID=America/New_York:20270402T203000
DTSTAMP:20260425T115228
CREATED:20251114T142226Z
LAST-MODIFIED:20251114T142226Z
UID:10001529-1806688800-1806697800@abundantgracechurchwh.org
SUMMARY:Light Your World (First Friday)
DESCRIPTION:Light Your World is a ministry that provides food\, clothing\, and toiletries to the homeless near the Boulevard of the Allies bridge in Pittsburgh. In addition to physical necessities\, Light Your World provides fellowship by sharing the love\, hope\, and abundant grace of Jesus Christ.
URL:https://abundantgracechurchwh.org/event/light-your-world-first-friday/2027-04-02/
LOCATION:Abundant Grace Church West Hills\, 1798 Brodhead Road\, Crescent\, 15046\, United States
CATEGORIES:Ministry
ORGANIZER;CN="Tracey Corso":MAILTO:pastortracey@abundantgracechurchwh.org
END:VEVENT
BEGIN:VEVENT
DTSTART;TZID=America/New_York:20270331T090000
DTEND;TZID=America/New_York:20270331T100000
DTSTAMP:20260425T115228
CREATED:20251114T141209Z
LAST-MODIFIED:20251121T191131Z
UID:10001060-1806483600-1806487200@abundantgracechurchwh.org
SUMMARY:Morning Prayer Service
DESCRIPTION:Join us as we pray for our church\, neighborhoods\, cities\, state\, and our nation.
URL:https://abundantgracechurchwh.org/event/morning-prayer-service/2027-03-31/
LOCATION:Abundant Grace Church West Hills\, 1798 Brodhead Road\, Crescent\, 15046\, United States
CATEGORIES:Prayer Service
ORGANIZER;CN="Tracey Corso":MAILTO:pastortracey@abundantgracechurchwh.org
END:VEVENT
BEGIN:VEVENT
DTSTART;TZID=America/New_York:20270329T180000
DTEND;TZID=America/New_York:20270329T200000
DTSTAMP:20260425T115228
CREATED:20251113T011933Z
LAST-MODIFIED:20251114T140508Z
UID:10000291-1806343200-1806350400@abundantgracechurchwh.org
SUMMARY:Student Ministry
DESCRIPTION:Join us for a time filled with energy\, games\, and genuine community. It’s a place to have lots of fun and feel like you belong. We take time to worship and explore who Jesus is and what He teaches.
URL:https://abundantgracechurchwh.org/event/student-ministry/2027-03-29/
LOCATION:Abundant Grace Church West Hills\, 1798 Brodhead Road\, Crescent\, 15046\, United States
CATEGORIES:Ministry
ATTACH;FMTTYPE=image/png:https://abundantgracechurchwh.org/wp-content/uploads/2025/11/Ignite-Thumbnail.png
ORGANIZER;CN="Nate Lesher":MAILTO:natelesheragcwh@gmail.com
END:VEVENT
BEGIN:VEVENT
DTSTART;TZID=America/New_York:20270328T100000
DTEND;TZID=America/New_York:20270328T110000
DTSTAMP:20260425T115228
CREATED:20251114T141806Z
LAST-MODIFIED:20251114T141806Z
UID:10001322-1806228000-1806231600@abundantgracechurchwh.org
SUMMARY:Sunday Worship Service
DESCRIPTION:Our worship service lasts approximately 60 minutes and includes contemporary music\, prayer\, scripture reading\, frequent communion\, and a message.
URL:https://abundantgracechurchwh.org/event/sunday-worship-service/2027-03-28/
LOCATION:Abundant Grace Church West Hills\, 1798 Brodhead Road\, Crescent\, 15046\, United States
CATEGORIES:Worship Service
ORGANIZER;CN="Tracey Corso":MAILTO:pastortracey@abundantgracechurchwh.org
END:VEVENT
BEGIN:VEVENT
DTSTART;TZID=America/New_York:20270324T090000
DTEND;TZID=America/New_York:20270324T100000
DTSTAMP:20260425T115228
CREATED:20251114T141209Z
LAST-MODIFIED:20251121T191131Z
UID:10001059-1805878800-1805882400@abundantgracechurchwh.org
SUMMARY:Morning Prayer Service
DESCRIPTION:Join us as we pray for our church\, neighborhoods\, cities\, state\, and our nation.
URL:https://abundantgracechurchwh.org/event/morning-prayer-service/2027-03-24/
LOCATION:Abundant Grace Church West Hills\, 1798 Brodhead Road\, Crescent\, 15046\, United States
CATEGORIES:Prayer Service
ORGANIZER;CN="Tracey Corso":MAILTO:pastortracey@abundantgracechurchwh.org
END:VEVENT
BEGIN:VEVENT
DTSTART;TZID=America/New_York:20270323T181500
DTEND;TZID=America/New_York:20270323T200000
DTSTAMP:20260425T115228
CREATED:20251121T192444Z
LAST-MODIFIED:20251203T214029Z
UID:10001716-1805825700-1805832000@abundantgracechurchwh.org
SUMMARY:Women's Evening Bible Study (Fourth Tuesday)
DESCRIPTION:
URL:https://abundantgracechurchwh.org/event/womens-evening-bible-study-fourth-tuesday/2027-03-23/
LOCATION:Abundant Grace Church West Hills\, 1798 Brodhead Road\, Crescent\, 15046\, United States
CATEGORIES:Ministry
ORGANIZER;CN="Tracey Corso":MAILTO:pastortracey@abundantgracechurchwh.org
END:VEVENT
BEGIN:VEVENT
DTSTART;TZID=America/New_York:20270322T180000
DTEND;TZID=America/New_York:20270322T200000
DTSTAMP:20260425T115228
CREATED:20251113T011933Z
LAST-MODIFIED:20251114T140508Z
UID:10000290-1805738400-1805745600@abundantgracechurchwh.org
SUMMARY:Student Ministry
DESCRIPTION:Join us for a time filled with energy\, games\, and genuine community. It’s a place to have lots of fun and feel like you belong. We take time to worship and explore who Jesus is and what He teaches.
URL:https://abundantgracechurchwh.org/event/student-ministry/2027-03-22/
LOCATION:Abundant Grace Church West Hills\, 1798 Brodhead Road\, Crescent\, 15046\, United States
CATEGORIES:Ministry
ATTACH;FMTTYPE=image/png:https://abundantgracechurchwh.org/wp-content/uploads/2025/11/Ignite-Thumbnail.png
ORGANIZER;CN="Nate Lesher":MAILTO:natelesheragcwh@gmail.com
END:VEVENT
BEGIN:VEVENT
DTSTART;TZID=America/New_York:20270321T100000
DTEND;TZID=America/New_York:20270321T110000
DTSTAMP:20260425T115228
CREATED:20251114T141806Z
LAST-MODIFIED:20251114T141806Z
UID:10001321-1805623200-1805626800@abundantgracechurchwh.org
SUMMARY:Sunday Worship Service
DESCRIPTION:Our worship service lasts approximately 60 minutes and includes contemporary music\, prayer\, scripture reading\, frequent communion\, and a message.
URL:https://abundantgracechurchwh.org/event/sunday-worship-service/2027-03-21/
LOCATION:Abundant Grace Church West Hills\, 1798 Brodhead Road\, Crescent\, 15046\, United States
CATEGORIES:Worship Service
ORGANIZER;CN="Tracey Corso":MAILTO:pastortracey@abundantgracechurchwh.org
END:VEVENT
BEGIN:VEVENT
DTSTART;TZID=America/New_York:20270319T180000
DTEND;TZID=America/New_York:20270319T203000
DTSTAMP:20260425T115228
CREATED:20251114T142325Z
LAST-MODIFIED:20251114T142325Z
UID:10001589-1805479200-1805488200@abundantgracechurchwh.org
SUMMARY:Light Your World (Third Friday)
DESCRIPTION:Light Your World is a ministry that provides food\, clothing\, and toiletries to the homeless near the Boulevard of the Allies bridge in Pittsburgh. In addition to physical necessities\, Light Your World provides fellowship by sharing the love\, hope\, and abundant grace of Jesus Christ.
URL:https://abundantgracechurchwh.org/event/light-your-world-third-friday/2027-03-19/
LOCATION:Abundant Grace Church West Hills\, 1798 Brodhead Road\, Crescent\, 15046\, United States
CATEGORIES:Ministry
ORGANIZER;CN="Tracey Corso":MAILTO:pastortracey@abundantgracechurchwh.org
END:VEVENT
BEGIN:VEVENT
DTSTART;TZID=America/New_York:20270317T090000
DTEND;TZID=America/New_York:20270317T100000
DTSTAMP:20260425T115228
CREATED:20251114T141209Z
LAST-MODIFIED:20251121T191131Z
UID:10001058-1805274000-1805277600@abundantgracechurchwh.org
SUMMARY:Morning Prayer Service
DESCRIPTION:Join us as we pray for our church\, neighborhoods\, cities\, state\, and our nation.
URL:https://abundantgracechurchwh.org/event/morning-prayer-service/2027-03-17/
LOCATION:Abundant Grace Church West Hills\, 1798 Brodhead Road\, Crescent\, 15046\, United States
CATEGORIES:Prayer Service
ORGANIZER;CN="Tracey Corso":MAILTO:pastortracey@abundantgracechurchwh.org
END:VEVENT
BEGIN:VEVENT
DTSTART;TZID=America/New_York:20270316T183000
DTEND;TZID=America/New_York:20270316T203000
DTSTAMP:20260425T115228
CREATED:20251114T140030Z
LAST-MODIFIED:20251114T140030Z
UID:10000945-1805221800-1805229000@abundantgracechurchwh.org
SUMMARY:Men's Bible Study (Third Tuesday)
DESCRIPTION:Join us to read and discuss the Bible to deepen our faith\, grow in our relationship with God\, and support one another.
URL:https://abundantgracechurchwh.org/event/mens-bible-study-third-tuesday/2027-03-16/
LOCATION:Abundant Grace Church West Hills\, 1798 Brodhead Road\, Crescent\, 15046\, United States
CATEGORIES:Ministry
ORGANIZER;CN="Tom Martz":MAILTO:kwmcontrols@gmail.com
END:VEVENT
BEGIN:VEVENT
DTSTART;TZID=America/New_York:20270315T180000
DTEND;TZID=America/New_York:20270315T200000
DTSTAMP:20260425T115228
CREATED:20251113T011933Z
LAST-MODIFIED:20251114T140508Z
UID:10000289-1805133600-1805140800@abundantgracechurchwh.org
SUMMARY:Student Ministry
DESCRIPTION:Join us for a time filled with energy\, games\, and genuine community. It’s a place to have lots of fun and feel like you belong. We take time to worship and explore who Jesus is and what He teaches.
URL:https://abundantgracechurchwh.org/event/student-ministry/2027-03-15/
LOCATION:Abundant Grace Church West Hills\, 1798 Brodhead Road\, Crescent\, 15046\, United States
CATEGORIES:Ministry
ATTACH;FMTTYPE=image/png:https://abundantgracechurchwh.org/wp-content/uploads/2025/11/Ignite-Thumbnail.png
ORGANIZER;CN="Nate Lesher":MAILTO:natelesheragcwh@gmail.com
END:VEVENT
BEGIN:VEVENT
DTSTART;TZID=America/New_York:20270314T100000
DTEND;TZID=America/New_York:20270314T110000
DTSTAMP:20260425T115228
CREATED:20251114T141806Z
LAST-MODIFIED:20251114T141806Z
UID:10001320-1805018400-1805022000@abundantgracechurchwh.org
SUMMARY:Sunday Worship Service
DESCRIPTION:Our worship service lasts approximately 60 minutes and includes contemporary music\, prayer\, scripture reading\, frequent communion\, and a message.
URL:https://abundantgracechurchwh.org/event/sunday-worship-service/2027-03-14/
LOCATION:Abundant Grace Church West Hills\, 1798 Brodhead Road\, Crescent\, 15046\, United States
CATEGORIES:Worship Service
ORGANIZER;CN="Tracey Corso":MAILTO:pastortracey@abundantgracechurchwh.org
END:VEVENT
BEGIN:VEVENT
DTSTART;TZID=America/New_York:20270310T090000
DTEND;TZID=America/New_York:20270310T100000
DTSTAMP:20260425T115228
CREATED:20251114T141209Z
LAST-MODIFIED:20251121T191131Z
UID:10001057-1804669200-1804672800@abundantgracechurchwh.org
SUMMARY:Morning Prayer Service
DESCRIPTION:Join us as we pray for our church\, neighborhoods\, cities\, state\, and our nation.
URL:https://abundantgracechurchwh.org/event/morning-prayer-service/2027-03-10/
LOCATION:Abundant Grace Church West Hills\, 1798 Brodhead Road\, Crescent\, 15046\, United States
CATEGORIES:Prayer Service
ORGANIZER;CN="Tracey Corso":MAILTO:pastortracey@abundantgracechurchwh.org
END:VEVENT
BEGIN:VEVENT
DTSTART;TZID=America/New_York:20270309T181500
DTEND;TZID=America/New_York:20270309T200000
DTSTAMP:20260425T115228
CREATED:20251121T192343Z
LAST-MODIFIED:20251203T214021Z
UID:10001655-1804616100-1804622400@abundantgracechurchwh.org
SUMMARY:Women’s Evening Bible Study (Second Tuesday)
DESCRIPTION:
URL:https://abundantgracechurchwh.org/event/womens-evening-bible-study-second-tuesday/2027-03-09/
LOCATION:Abundant Grace Church West Hills\, 1798 Brodhead Road\, Crescent\, 15046\, United States
CATEGORIES:Ministry
ORGANIZER;CN="Tracey Corso":MAILTO:pastortracey@abundantgracechurchwh.org
END:VEVENT
BEGIN:VEVENT
DTSTART;TZID=America/New_York:20270308T180000
DTEND;TZID=America/New_York:20270308T200000
DTSTAMP:20260425T115228
CREATED:20251113T011933Z
LAST-MODIFIED:20251114T140508Z
UID:10000288-1804528800-1804536000@abundantgracechurchwh.org
SUMMARY:Student Ministry
DESCRIPTION:Join us for a time filled with energy\, games\, and genuine community. It’s a place to have lots of fun and feel like you belong. We take time to worship and explore who Jesus is and what He teaches.
URL:https://abundantgracechurchwh.org/event/student-ministry/2027-03-08/
LOCATION:Abundant Grace Church West Hills\, 1798 Brodhead Road\, Crescent\, 15046\, United States
CATEGORIES:Ministry
ATTACH;FMTTYPE=image/png:https://abundantgracechurchwh.org/wp-content/uploads/2025/11/Ignite-Thumbnail.png
ORGANIZER;CN="Nate Lesher":MAILTO:natelesheragcwh@gmail.com
END:VEVENT
BEGIN:VEVENT
DTSTART;TZID=America/New_York:20270307T100000
DTEND;TZID=America/New_York:20270307T110000
DTSTAMP:20260425T115228
CREATED:20251114T141806Z
LAST-MODIFIED:20251114T141806Z
UID:10001319-1804413600-1804417200@abundantgracechurchwh.org
SUMMARY:Sunday Worship Service
DESCRIPTION:Our worship service lasts approximately 60 minutes and includes contemporary music\, prayer\, scripture reading\, frequent communion\, and a message.
URL:https://abundantgracechurchwh.org/event/sunday-worship-service/2027-03-07/
LOCATION:Abundant Grace Church West Hills\, 1798 Brodhead Road\, Crescent\, 15046\, United States
CATEGORIES:Worship Service
ORGANIZER;CN="Tracey Corso":MAILTO:pastortracey@abundantgracechurchwh.org
END:VEVENT
BEGIN:VEVENT
DTSTART;TZID=America/New_York:20270305T180000
DTEND;TZID=America/New_York:20270305T203000
DTSTAMP:20260425T115228
CREATED:20251114T142226Z
LAST-MODIFIED:20251114T142226Z
UID:10001528-1804269600-1804278600@abundantgracechurchwh.org
SUMMARY:Light Your World (First Friday)
DESCRIPTION:Light Your World is a ministry that provides food\, clothing\, and toiletries to the homeless near the Boulevard of the Allies bridge in Pittsburgh. In addition to physical necessities\, Light Your World provides fellowship by sharing the love\, hope\, and abundant grace of Jesus Christ.
URL:https://abundantgracechurchwh.org/event/light-your-world-first-friday/2027-03-05/
LOCATION:Abundant Grace Church West Hills\, 1798 Brodhead Road\, Crescent\, 15046\, United States
CATEGORIES:Ministry
ORGANIZER;CN="Tracey Corso":MAILTO:pastortracey@abundantgracechurchwh.org
END:VEVENT
BEGIN:VEVENT
DTSTART;TZID=America/New_York:20270303T090000
DTEND;TZID=America/New_York:20270303T100000
DTSTAMP:20260425T115228
CREATED:20251114T141209Z
LAST-MODIFIED:20251121T191131Z
UID:10001056-1804064400-1804068000@abundantgracechurchwh.org
SUMMARY:Morning Prayer Service
DESCRIPTION:Join us as we pray for our church\, neighborhoods\, cities\, state\, and our nation.
URL:https://abundantgracechurchwh.org/event/morning-prayer-service/2027-03-03/
LOCATION:Abundant Grace Church West Hills\, 1798 Brodhead Road\, Crescent\, 15046\, United States
CATEGORIES:Prayer Service
ORGANIZER;CN="Tracey Corso":MAILTO:pastortracey@abundantgracechurchwh.org
END:VEVENT
BEGIN:VEVENT
DTSTART;TZID=America/New_York:20270302T183000
DTEND;TZID=America/New_York:20270302T203000
DTSTAMP:20260425T115228
CREATED:20251114T135848Z
LAST-MODIFIED:20251114T140055Z
UID:10000884-1804012200-1804019400@abundantgracechurchwh.org
SUMMARY:Men's Bible Study (First Tuesday)
DESCRIPTION:Join us to read and discuss the Bible to deepen our faith\, grow in our relationship with God\, and support one another.
URL:https://abundantgracechurchwh.org/event/mens-bible-study-first-tuesday/2027-03-02/
LOCATION:Abundant Grace Church West Hills\, 1798 Brodhead Road\, Crescent\, 15046\, United States
CATEGORIES:Ministry
ORGANIZER;CN="Tom Martz":MAILTO:kwmcontrols@gmail.com
END:VEVENT
BEGIN:VEVENT
DTSTART;TZID=America/New_York:20270301T180000
DTEND;TZID=America/New_York:20270301T200000
DTSTAMP:20260425T115228
CREATED:20251113T011933Z
LAST-MODIFIED:20251114T140508Z
UID:10000287-1803924000-1803931200@abundantgracechurchwh.org
SUMMARY:Student Ministry
DESCRIPTION:Join us for a time filled with energy\, games\, and genuine community. It’s a place to have lots of fun and feel like you belong. We take time to worship and explore who Jesus is and what He teaches.
URL:https://abundantgracechurchwh.org/event/student-ministry/2027-03-01/
LOCATION:Abundant Grace Church West Hills\, 1798 Brodhead Road\, Crescent\, 15046\, United States
CATEGORIES:Ministry
ATTACH;FMTTYPE=image/png:https://abundantgracechurchwh.org/wp-content/uploads/2025/11/Ignite-Thumbnail.png
ORGANIZER;CN="Nate Lesher":MAILTO:natelesheragcwh@gmail.com
END:VEVENT
BEGIN:VEVENT
DTSTART;TZID=America/New_York:20270228T100000
DTEND;TZID=America/New_York:20270228T110000
DTSTAMP:20260425T115228
CREATED:20251114T141806Z
LAST-MODIFIED:20251114T141806Z
UID:10001318-1803808800-1803812400@abundantgracechurchwh.org
SUMMARY:Sunday Worship Service
DESCRIPTION:Our worship service lasts approximately 60 minutes and includes contemporary music\, prayer\, scripture reading\, frequent communion\, and a message.
URL:https://abundantgracechurchwh.org/event/sunday-worship-service/2027-02-28/
LOCATION:Abundant Grace Church West Hills\, 1798 Brodhead Road\, Crescent\, 15046\, United States
CATEGORIES:Worship Service
ORGANIZER;CN="Tracey Corso":MAILTO:pastortracey@abundantgracechurchwh.org
END:VEVENT
BEGIN:VEVENT
DTSTART;TZID=America/New_York:20270224T090000
DTEND;TZID=America/New_York:20270224T100000
DTSTAMP:20260425T115228
CREATED:20251114T141209Z
LAST-MODIFIED:20251121T191131Z
UID:10001055-1803459600-1803463200@abundantgracechurchwh.org
SUMMARY:Morning Prayer Service
DESCRIPTION:Join us as we pray for our church\, neighborhoods\, cities\, state\, and our nation.
URL:https://abundantgracechurchwh.org/event/morning-prayer-service/2027-02-24/
LOCATION:Abundant Grace Church West Hills\, 1798 Brodhead Road\, Crescent\, 15046\, United States
CATEGORIES:Prayer Service
ORGANIZER;CN="Tracey Corso":MAILTO:pastortracey@abundantgracechurchwh.org
END:VEVENT
END:VCALENDAR