BEGIN:VCALENDAR
VERSION:2.0
PRODID:-//Abundant Grace Church West Hills - ECPv6.15.13//NONSGML v1.0//EN
CALSCALE:GREGORIAN
METHOD:PUBLISH
X-WR-CALNAME:Abundant Grace Church West Hills
X-ORIGINAL-URL:https://abundantgracechurchwh.org
X-WR-CALDESC:Events for Abundant Grace Church West Hills
REFRESH-INTERVAL;VALUE=DURATION:PT1H
X-Robots-Tag:noindex
X-PUBLISHED-TTL:PT1H
BEGIN:VTIMEZONE
TZID:America/New_York
BEGIN:DAYLIGHT
TZOFFSETFROM:-0500
TZOFFSETTO:-0400
TZNAME:EDT
DTSTART:20250309T070000
END:DAYLIGHT
BEGIN:STANDARD
TZOFFSETFROM:-0400
TZOFFSETTO:-0500
TZNAME:EST
DTSTART:20251102T060000
END:STANDARD
BEGIN:DAYLIGHT
TZOFFSETFROM:-0500
TZOFFSETTO:-0400
TZNAME:EDT
DTSTART:20260308T070000
END:DAYLIGHT
BEGIN:STANDARD
TZOFFSETFROM:-0400
TZOFFSETTO:-0500
TZNAME:EST
DTSTART:20261101T060000
END:STANDARD
BEGIN:DAYLIGHT
TZOFFSETFROM:-0500
TZOFFSETTO:-0400
TZNAME:EDT
DTSTART:20270314T070000
END:DAYLIGHT
BEGIN:STANDARD
TZOFFSETFROM:-0400
TZOFFSETTO:-0500
TZNAME:EST
DTSTART:20271107T060000
END:STANDARD
BEGIN:DAYLIGHT
TZOFFSETFROM:-0500
TZOFFSETTO:-0400
TZNAME:EDT
DTSTART:20280312T070000
END:DAYLIGHT
BEGIN:STANDARD
TZOFFSETFROM:-0400
TZOFFSETTO:-0500
TZNAME:EST
DTSTART:20281105T060000
END:STANDARD
BEGIN:DAYLIGHT
TZOFFSETFROM:-0500
TZOFFSETTO:-0400
TZNAME:EDT
DTSTART:20290311T070000
END:DAYLIGHT
BEGIN:STANDARD
TZOFFSETFROM:-0400
TZOFFSETTO:-0500
TZNAME:EST
DTSTART:20291104T060000
END:STANDARD
END:VTIMEZONE
BEGIN:VEVENT
DTSTART;TZID=America/New_York:20260505T183000
DTEND;TZID=America/New_York:20260505T203000
DTSTAMP:20260423T120912
CREATED:20251114T135848Z
LAST-MODIFIED:20251114T140055Z
UID:10000874-1778005800-1778013000@abundantgracechurchwh.org
SUMMARY:Men's Bible Study (First Tuesday)
DESCRIPTION:Join us to read and discuss the Bible to deepen our faith\, grow in our relationship with God\, and support one another.
URL:https://abundantgracechurchwh.org/event/mens-bible-study-first-tuesday/2026-05-05/
LOCATION:Abundant Grace Church West Hills\, 1798 Brodhead Road\, Crescent\, 15046\, United States
CATEGORIES:Ministry
ORGANIZER;CN="Tom Martz":MAILTO:kwmcontrols@gmail.com
END:VEVENT
BEGIN:VEVENT
DTSTART;TZID=America/New_York:20260602T183000
DTEND;TZID=America/New_York:20260602T203000
DTSTAMP:20260423T120912
CREATED:20251114T135848Z
LAST-MODIFIED:20251114T140055Z
UID:10000875-1780425000-1780432200@abundantgracechurchwh.org
SUMMARY:Men's Bible Study (First Tuesday)
DESCRIPTION:Join us to read and discuss the Bible to deepen our faith\, grow in our relationship with God\, and support one another.
URL:https://abundantgracechurchwh.org/event/mens-bible-study-first-tuesday/2026-06-02/
LOCATION:Abundant Grace Church West Hills\, 1798 Brodhead Road\, Crescent\, 15046\, United States
CATEGORIES:Ministry
ORGANIZER;CN="Tom Martz":MAILTO:kwmcontrols@gmail.com
END:VEVENT
BEGIN:VEVENT
DTSTART;TZID=America/New_York:20260707T183000
DTEND;TZID=America/New_York:20260707T203000
DTSTAMP:20260423T120912
CREATED:20251114T135848Z
LAST-MODIFIED:20251114T140055Z
UID:10000876-1783449000-1783456200@abundantgracechurchwh.org
SUMMARY:Men's Bible Study (First Tuesday)
DESCRIPTION:Join us to read and discuss the Bible to deepen our faith\, grow in our relationship with God\, and support one another.
URL:https://abundantgracechurchwh.org/event/mens-bible-study-first-tuesday/2026-07-07/
LOCATION:Abundant Grace Church West Hills\, 1798 Brodhead Road\, Crescent\, 15046\, United States
CATEGORIES:Ministry
ORGANIZER;CN="Tom Martz":MAILTO:kwmcontrols@gmail.com
END:VEVENT
BEGIN:VEVENT
DTSTART;TZID=America/New_York:20260804T183000
DTEND;TZID=America/New_York:20260804T203000
DTSTAMP:20260423T120912
CREATED:20251114T135848Z
LAST-MODIFIED:20251114T140055Z
UID:10000877-1785868200-1785875400@abundantgracechurchwh.org
SUMMARY:Men's Bible Study (First Tuesday)
DESCRIPTION:Join us to read and discuss the Bible to deepen our faith\, grow in our relationship with God\, and support one another.
URL:https://abundantgracechurchwh.org/event/mens-bible-study-first-tuesday/2026-08-04/
LOCATION:Abundant Grace Church West Hills\, 1798 Brodhead Road\, Crescent\, 15046\, United States
CATEGORIES:Ministry
ORGANIZER;CN="Tom Martz":MAILTO:kwmcontrols@gmail.com
END:VEVENT
BEGIN:VEVENT
DTSTART;TZID=America/New_York:20260901T183000
DTEND;TZID=America/New_York:20260901T203000
DTSTAMP:20260423T120912
CREATED:20251114T135848Z
LAST-MODIFIED:20251114T140055Z
UID:10000878-1788287400-1788294600@abundantgracechurchwh.org
SUMMARY:Men's Bible Study (First Tuesday)
DESCRIPTION:Join us to read and discuss the Bible to deepen our faith\, grow in our relationship with God\, and support one another.
URL:https://abundantgracechurchwh.org/event/mens-bible-study-first-tuesday/2026-09-01/
LOCATION:Abundant Grace Church West Hills\, 1798 Brodhead Road\, Crescent\, 15046\, United States
CATEGORIES:Ministry
ORGANIZER;CN="Tom Martz":MAILTO:kwmcontrols@gmail.com
END:VEVENT
BEGIN:VEVENT
DTSTART;TZID=America/New_York:20261006T183000
DTEND;TZID=America/New_York:20261006T203000
DTSTAMP:20260423T120912
CREATED:20251114T135848Z
LAST-MODIFIED:20251114T140055Z
UID:10000879-1791311400-1791318600@abundantgracechurchwh.org
SUMMARY:Men's Bible Study (First Tuesday)
DESCRIPTION:Join us to read and discuss the Bible to deepen our faith\, grow in our relationship with God\, and support one another.
URL:https://abundantgracechurchwh.org/event/mens-bible-study-first-tuesday/2026-10-06/
LOCATION:Abundant Grace Church West Hills\, 1798 Brodhead Road\, Crescent\, 15046\, United States
CATEGORIES:Ministry
ORGANIZER;CN="Tom Martz":MAILTO:kwmcontrols@gmail.com
END:VEVENT
BEGIN:VEVENT
DTSTART;TZID=America/New_York:20261103T183000
DTEND;TZID=America/New_York:20261103T203000
DTSTAMP:20260423T120912
CREATED:20251114T135848Z
LAST-MODIFIED:20251114T140055Z
UID:10000880-1793730600-1793737800@abundantgracechurchwh.org
SUMMARY:Men's Bible Study (First Tuesday)
DESCRIPTION:Join us to read and discuss the Bible to deepen our faith\, grow in our relationship with God\, and support one another.
URL:https://abundantgracechurchwh.org/event/mens-bible-study-first-tuesday/2026-11-03/
LOCATION:Abundant Grace Church West Hills\, 1798 Brodhead Road\, Crescent\, 15046\, United States
CATEGORIES:Ministry
ORGANIZER;CN="Tom Martz":MAILTO:kwmcontrols@gmail.com
END:VEVENT
BEGIN:VEVENT
DTSTART;TZID=America/New_York:20261201T183000
DTEND;TZID=America/New_York:20261201T203000
DTSTAMP:20260423T120912
CREATED:20251114T135848Z
LAST-MODIFIED:20251114T140055Z
UID:10000881-1796149800-1796157000@abundantgracechurchwh.org
SUMMARY:Men's Bible Study (First Tuesday)
DESCRIPTION:Join us to read and discuss the Bible to deepen our faith\, grow in our relationship with God\, and support one another.
URL:https://abundantgracechurchwh.org/event/mens-bible-study-first-tuesday/2026-12-01/
LOCATION:Abundant Grace Church West Hills\, 1798 Brodhead Road\, Crescent\, 15046\, United States
CATEGORIES:Ministry
ORGANIZER;CN="Tom Martz":MAILTO:kwmcontrols@gmail.com
END:VEVENT
BEGIN:VEVENT
DTSTART;TZID=America/New_York:20270105T183000
DTEND;TZID=America/New_York:20270105T203000
DTSTAMP:20260423T120912
CREATED:20251114T135848Z
LAST-MODIFIED:20251114T140055Z
UID:10000882-1799173800-1799181000@abundantgracechurchwh.org
SUMMARY:Men's Bible Study (First Tuesday)
DESCRIPTION:Join us to read and discuss the Bible to deepen our faith\, grow in our relationship with God\, and support one another.
URL:https://abundantgracechurchwh.org/event/mens-bible-study-first-tuesday/2027-01-05/
LOCATION:Abundant Grace Church West Hills\, 1798 Brodhead Road\, Crescent\, 15046\, United States
CATEGORIES:Ministry
ORGANIZER;CN="Tom Martz":MAILTO:kwmcontrols@gmail.com
END:VEVENT
BEGIN:VEVENT
DTSTART;TZID=America/New_York:20270202T183000
DTEND;TZID=America/New_York:20270202T203000
DTSTAMP:20260423T120912
CREATED:20251114T135848Z
LAST-MODIFIED:20251114T140055Z
UID:10000883-1801593000-1801600200@abundantgracechurchwh.org
SUMMARY:Men's Bible Study (First Tuesday)
DESCRIPTION:Join us to read and discuss the Bible to deepen our faith\, grow in our relationship with God\, and support one another.
URL:https://abundantgracechurchwh.org/event/mens-bible-study-first-tuesday/2027-02-02/
LOCATION:Abundant Grace Church West Hills\, 1798 Brodhead Road\, Crescent\, 15046\, United States
CATEGORIES:Ministry
ORGANIZER;CN="Tom Martz":MAILTO:kwmcontrols@gmail.com
END:VEVENT
BEGIN:VEVENT
DTSTART;TZID=America/New_York:20270302T183000
DTEND;TZID=America/New_York:20270302T203000
DTSTAMP:20260423T120912
CREATED:20251114T135848Z
LAST-MODIFIED:20251114T140055Z
UID:10000884-1804012200-1804019400@abundantgracechurchwh.org
SUMMARY:Men's Bible Study (First Tuesday)
DESCRIPTION:Join us to read and discuss the Bible to deepen our faith\, grow in our relationship with God\, and support one another.
URL:https://abundantgracechurchwh.org/event/mens-bible-study-first-tuesday/2027-03-02/
LOCATION:Abundant Grace Church West Hills\, 1798 Brodhead Road\, Crescent\, 15046\, United States
CATEGORIES:Ministry
ORGANIZER;CN="Tom Martz":MAILTO:kwmcontrols@gmail.com
END:VEVENT
BEGIN:VEVENT
DTSTART;TZID=America/New_York:20270406T183000
DTEND;TZID=America/New_York:20270406T203000
DTSTAMP:20260423T120912
CREATED:20251114T135848Z
LAST-MODIFIED:20251114T140055Z
UID:10000885-1807036200-1807043400@abundantgracechurchwh.org
SUMMARY:Men's Bible Study (First Tuesday)
DESCRIPTION:Join us to read and discuss the Bible to deepen our faith\, grow in our relationship with God\, and support one another.
URL:https://abundantgracechurchwh.org/event/mens-bible-study-first-tuesday/2027-04-06/
LOCATION:Abundant Grace Church West Hills\, 1798 Brodhead Road\, Crescent\, 15046\, United States
CATEGORIES:Ministry
ORGANIZER;CN="Tom Martz":MAILTO:kwmcontrols@gmail.com
END:VEVENT
BEGIN:VEVENT
DTSTART;TZID=America/New_York:20270504T183000
DTEND;TZID=America/New_York:20270504T203000
DTSTAMP:20260423T120912
CREATED:20251114T135848Z
LAST-MODIFIED:20251114T140055Z
UID:10000886-1809455400-1809462600@abundantgracechurchwh.org
SUMMARY:Men's Bible Study (First Tuesday)
DESCRIPTION:Join us to read and discuss the Bible to deepen our faith\, grow in our relationship with God\, and support one another.
URL:https://abundantgracechurchwh.org/event/mens-bible-study-first-tuesday/2027-05-04/
LOCATION:Abundant Grace Church West Hills\, 1798 Brodhead Road\, Crescent\, 15046\, United States
CATEGORIES:Ministry
ORGANIZER;CN="Tom Martz":MAILTO:kwmcontrols@gmail.com
END:VEVENT
BEGIN:VEVENT
DTSTART;TZID=America/New_York:20270601T183000
DTEND;TZID=America/New_York:20270601T203000
DTSTAMP:20260423T120912
CREATED:20251114T135848Z
LAST-MODIFIED:20251114T140055Z
UID:10000887-1811874600-1811881800@abundantgracechurchwh.org
SUMMARY:Men's Bible Study (First Tuesday)
DESCRIPTION:Join us to read and discuss the Bible to deepen our faith\, grow in our relationship with God\, and support one another.
URL:https://abundantgracechurchwh.org/event/mens-bible-study-first-tuesday/2027-06-01/
LOCATION:Abundant Grace Church West Hills\, 1798 Brodhead Road\, Crescent\, 15046\, United States
CATEGORIES:Ministry
ORGANIZER;CN="Tom Martz":MAILTO:kwmcontrols@gmail.com
END:VEVENT
BEGIN:VEVENT
DTSTART;TZID=America/New_York:20270706T183000
DTEND;TZID=America/New_York:20270706T203000
DTSTAMP:20260423T120912
CREATED:20251114T135848Z
LAST-MODIFIED:20251114T140055Z
UID:10000888-1814898600-1814905800@abundantgracechurchwh.org
SUMMARY:Men's Bible Study (First Tuesday)
DESCRIPTION:Join us to read and discuss the Bible to deepen our faith\, grow in our relationship with God\, and support one another.
URL:https://abundantgracechurchwh.org/event/mens-bible-study-first-tuesday/2027-07-06/
LOCATION:Abundant Grace Church West Hills\, 1798 Brodhead Road\, Crescent\, 15046\, United States
CATEGORIES:Ministry
ORGANIZER;CN="Tom Martz":MAILTO:kwmcontrols@gmail.com
END:VEVENT
BEGIN:VEVENT
DTSTART;TZID=America/New_York:20270803T183000
DTEND;TZID=America/New_York:20270803T203000
DTSTAMP:20260423T120912
CREATED:20251114T135848Z
LAST-MODIFIED:20251114T140055Z
UID:10000889-1817317800-1817325000@abundantgracechurchwh.org
SUMMARY:Men's Bible Study (First Tuesday)
DESCRIPTION:Join us to read and discuss the Bible to deepen our faith\, grow in our relationship with God\, and support one another.
URL:https://abundantgracechurchwh.org/event/mens-bible-study-first-tuesday/2027-08-03/
LOCATION:Abundant Grace Church West Hills\, 1798 Brodhead Road\, Crescent\, 15046\, United States
CATEGORIES:Ministry
ORGANIZER;CN="Tom Martz":MAILTO:kwmcontrols@gmail.com
END:VEVENT
BEGIN:VEVENT
DTSTART;TZID=America/New_York:20270907T183000
DTEND;TZID=America/New_York:20270907T203000
DTSTAMP:20260423T120912
CREATED:20251114T135848Z
LAST-MODIFIED:20251114T140055Z
UID:10000890-1820341800-1820349000@abundantgracechurchwh.org
SUMMARY:Men's Bible Study (First Tuesday)
DESCRIPTION:Join us to read and discuss the Bible to deepen our faith\, grow in our relationship with God\, and support one another.
URL:https://abundantgracechurchwh.org/event/mens-bible-study-first-tuesday/2027-09-07/
LOCATION:Abundant Grace Church West Hills\, 1798 Brodhead Road\, Crescent\, 15046\, United States
CATEGORIES:Ministry
ORGANIZER;CN="Tom Martz":MAILTO:kwmcontrols@gmail.com
END:VEVENT
BEGIN:VEVENT
DTSTART;TZID=America/New_York:20271005T183000
DTEND;TZID=America/New_York:20271005T203000
DTSTAMP:20260423T120912
CREATED:20251114T135848Z
LAST-MODIFIED:20251114T140055Z
UID:10000891-1822761000-1822768200@abundantgracechurchwh.org
SUMMARY:Men's Bible Study (First Tuesday)
DESCRIPTION:Join us to read and discuss the Bible to deepen our faith\, grow in our relationship with God\, and support one another.
URL:https://abundantgracechurchwh.org/event/mens-bible-study-first-tuesday/2027-10-05/
LOCATION:Abundant Grace Church West Hills\, 1798 Brodhead Road\, Crescent\, 15046\, United States
CATEGORIES:Ministry
ORGANIZER;CN="Tom Martz":MAILTO:kwmcontrols@gmail.com
END:VEVENT
BEGIN:VEVENT
DTSTART;TZID=America/New_York:20271102T183000
DTEND;TZID=America/New_York:20271102T203000
DTSTAMP:20260423T120912
CREATED:20251114T135848Z
LAST-MODIFIED:20251114T140055Z
UID:10000892-1825180200-1825187400@abundantgracechurchwh.org
SUMMARY:Men's Bible Study (First Tuesday)
DESCRIPTION:Join us to read and discuss the Bible to deepen our faith\, grow in our relationship with God\, and support one another.
URL:https://abundantgracechurchwh.org/event/mens-bible-study-first-tuesday/2027-11-02/
LOCATION:Abundant Grace Church West Hills\, 1798 Brodhead Road\, Crescent\, 15046\, United States
CATEGORIES:Ministry
ORGANIZER;CN="Tom Martz":MAILTO:kwmcontrols@gmail.com
END:VEVENT
BEGIN:VEVENT
DTSTART;TZID=America/New_York:20271207T183000
DTEND;TZID=America/New_York:20271207T203000
DTSTAMP:20260423T120912
CREATED:20251114T135848Z
LAST-MODIFIED:20251114T140055Z
UID:10000893-1828204200-1828211400@abundantgracechurchwh.org
SUMMARY:Men's Bible Study (First Tuesday)
DESCRIPTION:Join us to read and discuss the Bible to deepen our faith\, grow in our relationship with God\, and support one another.
URL:https://abundantgracechurchwh.org/event/mens-bible-study-first-tuesday/2027-12-07/
LOCATION:Abundant Grace Church West Hills\, 1798 Brodhead Road\, Crescent\, 15046\, United States
CATEGORIES:Ministry
ORGANIZER;CN="Tom Martz":MAILTO:kwmcontrols@gmail.com
END:VEVENT
BEGIN:VEVENT
DTSTART;TZID=America/New_York:20280104T183000
DTEND;TZID=America/New_York:20280104T203000
DTSTAMP:20260423T120912
CREATED:20251114T135848Z
LAST-MODIFIED:20251114T140055Z
UID:10000894-1830623400-1830630600@abundantgracechurchwh.org
SUMMARY:Men's Bible Study (First Tuesday)
DESCRIPTION:Join us to read and discuss the Bible to deepen our faith\, grow in our relationship with God\, and support one another.
URL:https://abundantgracechurchwh.org/event/mens-bible-study-first-tuesday/2028-01-04/
LOCATION:Abundant Grace Church West Hills\, 1798 Brodhead Road\, Crescent\, 15046\, United States
CATEGORIES:Ministry
ORGANIZER;CN="Tom Martz":MAILTO:kwmcontrols@gmail.com
END:VEVENT
BEGIN:VEVENT
DTSTART;TZID=America/New_York:20280201T183000
DTEND;TZID=America/New_York:20280201T203000
DTSTAMP:20260423T120912
CREATED:20251114T135848Z
LAST-MODIFIED:20251114T140055Z
UID:10000895-1833042600-1833049800@abundantgracechurchwh.org
SUMMARY:Men's Bible Study (First Tuesday)
DESCRIPTION:Join us to read and discuss the Bible to deepen our faith\, grow in our relationship with God\, and support one another.
URL:https://abundantgracechurchwh.org/event/mens-bible-study-first-tuesday/2028-02-01/
LOCATION:Abundant Grace Church West Hills\, 1798 Brodhead Road\, Crescent\, 15046\, United States
CATEGORIES:Ministry
ORGANIZER;CN="Tom Martz":MAILTO:kwmcontrols@gmail.com
END:VEVENT
BEGIN:VEVENT
DTSTART;TZID=America/New_York:20280307T183000
DTEND;TZID=America/New_York:20280307T203000
DTSTAMP:20260423T120912
CREATED:20251114T135848Z
LAST-MODIFIED:20251114T140055Z
UID:10000896-1836066600-1836073800@abundantgracechurchwh.org
SUMMARY:Men's Bible Study (First Tuesday)
DESCRIPTION:Join us to read and discuss the Bible to deepen our faith\, grow in our relationship with God\, and support one another.
URL:https://abundantgracechurchwh.org/event/mens-bible-study-first-tuesday/2028-03-07/
LOCATION:Abundant Grace Church West Hills\, 1798 Brodhead Road\, Crescent\, 15046\, United States
CATEGORIES:Ministry
ORGANIZER;CN="Tom Martz":MAILTO:kwmcontrols@gmail.com
END:VEVENT
BEGIN:VEVENT
DTSTART;TZID=America/New_York:20280404T183000
DTEND;TZID=America/New_York:20280404T203000
DTSTAMP:20260423T120912
CREATED:20251114T135848Z
LAST-MODIFIED:20251114T140055Z
UID:10000897-1838485800-1838493000@abundantgracechurchwh.org
SUMMARY:Men's Bible Study (First Tuesday)
DESCRIPTION:Join us to read and discuss the Bible to deepen our faith\, grow in our relationship with God\, and support one another.
URL:https://abundantgracechurchwh.org/event/mens-bible-study-first-tuesday/2028-04-04/
LOCATION:Abundant Grace Church West Hills\, 1798 Brodhead Road\, Crescent\, 15046\, United States
CATEGORIES:Ministry
ORGANIZER;CN="Tom Martz":MAILTO:kwmcontrols@gmail.com
END:VEVENT
BEGIN:VEVENT
DTSTART;TZID=America/New_York:20280502T183000
DTEND;TZID=America/New_York:20280502T203000
DTSTAMP:20260423T120912
CREATED:20251114T135848Z
LAST-MODIFIED:20251114T140055Z
UID:10000898-1840905000-1840912200@abundantgracechurchwh.org
SUMMARY:Men's Bible Study (First Tuesday)
DESCRIPTION:Join us to read and discuss the Bible to deepen our faith\, grow in our relationship with God\, and support one another.
URL:https://abundantgracechurchwh.org/event/mens-bible-study-first-tuesday/2028-05-02/
LOCATION:Abundant Grace Church West Hills\, 1798 Brodhead Road\, Crescent\, 15046\, United States
CATEGORIES:Ministry
ORGANIZER;CN="Tom Martz":MAILTO:kwmcontrols@gmail.com
END:VEVENT
BEGIN:VEVENT
DTSTART;TZID=America/New_York:20280606T183000
DTEND;TZID=America/New_York:20280606T203000
DTSTAMP:20260423T120912
CREATED:20251114T135848Z
LAST-MODIFIED:20251114T140055Z
UID:10000899-1843929000-1843936200@abundantgracechurchwh.org
SUMMARY:Men's Bible Study (First Tuesday)
DESCRIPTION:Join us to read and discuss the Bible to deepen our faith\, grow in our relationship with God\, and support one another.
URL:https://abundantgracechurchwh.org/event/mens-bible-study-first-tuesday/2028-06-06/
LOCATION:Abundant Grace Church West Hills\, 1798 Brodhead Road\, Crescent\, 15046\, United States
CATEGORIES:Ministry
ORGANIZER;CN="Tom Martz":MAILTO:kwmcontrols@gmail.com
END:VEVENT
BEGIN:VEVENT
DTSTART;TZID=America/New_York:20280704T183000
DTEND;TZID=America/New_York:20280704T203000
DTSTAMP:20260423T120912
CREATED:20251114T135848Z
LAST-MODIFIED:20251114T140055Z
UID:10000900-1846348200-1846355400@abundantgracechurchwh.org
SUMMARY:Men's Bible Study (First Tuesday)
DESCRIPTION:Join us to read and discuss the Bible to deepen our faith\, grow in our relationship with God\, and support one another.
URL:https://abundantgracechurchwh.org/event/mens-bible-study-first-tuesday/2028-07-04/
LOCATION:Abundant Grace Church West Hills\, 1798 Brodhead Road\, Crescent\, 15046\, United States
CATEGORIES:Ministry
ORGANIZER;CN="Tom Martz":MAILTO:kwmcontrols@gmail.com
END:VEVENT
BEGIN:VEVENT
DTSTART;TZID=America/New_York:20280801T183000
DTEND;TZID=America/New_York:20280801T203000
DTSTAMP:20260423T120912
CREATED:20251114T135848Z
LAST-MODIFIED:20251114T140055Z
UID:10000901-1848767400-1848774600@abundantgracechurchwh.org
SUMMARY:Men's Bible Study (First Tuesday)
DESCRIPTION:Join us to read and discuss the Bible to deepen our faith\, grow in our relationship with God\, and support one another.
URL:https://abundantgracechurchwh.org/event/mens-bible-study-first-tuesday/2028-08-01/
LOCATION:Abundant Grace Church West Hills\, 1798 Brodhead Road\, Crescent\, 15046\, United States
CATEGORIES:Ministry
ORGANIZER;CN="Tom Martz":MAILTO:kwmcontrols@gmail.com
END:VEVENT
BEGIN:VEVENT
DTSTART;TZID=America/New_York:20280905T183000
DTEND;TZID=America/New_York:20280905T203000
DTSTAMP:20260423T120912
CREATED:20251114T135848Z
LAST-MODIFIED:20251114T140055Z
UID:10000902-1851791400-1851798600@abundantgracechurchwh.org
SUMMARY:Men's Bible Study (First Tuesday)
DESCRIPTION:Join us to read and discuss the Bible to deepen our faith\, grow in our relationship with God\, and support one another.
URL:https://abundantgracechurchwh.org/event/mens-bible-study-first-tuesday/2028-09-05/
LOCATION:Abundant Grace Church West Hills\, 1798 Brodhead Road\, Crescent\, 15046\, United States
CATEGORIES:Ministry
ORGANIZER;CN="Tom Martz":MAILTO:kwmcontrols@gmail.com
END:VEVENT
BEGIN:VEVENT
DTSTART;TZID=America/New_York:20281003T183000
DTEND;TZID=America/New_York:20281003T203000
DTSTAMP:20260423T120912
CREATED:20251114T135848Z
LAST-MODIFIED:20251114T140055Z
UID:10000903-1854210600-1854217800@abundantgracechurchwh.org
SUMMARY:Men's Bible Study (First Tuesday)
DESCRIPTION:Join us to read and discuss the Bible to deepen our faith\, grow in our relationship with God\, and support one another.
URL:https://abundantgracechurchwh.org/event/mens-bible-study-first-tuesday/2028-10-03/
LOCATION:Abundant Grace Church West Hills\, 1798 Brodhead Road\, Crescent\, 15046\, United States
CATEGORIES:Ministry
ORGANIZER;CN="Tom Martz":MAILTO:kwmcontrols@gmail.com
END:VEVENT
END:VCALENDAR