BEGIN:VCALENDAR
VERSION:2.0
PRODID:-//Abundant Grace Church West Hills - ECPv6.15.13//NONSGML v1.0//EN
CALSCALE:GREGORIAN
METHOD:PUBLISH
X-WR-CALNAME:Abundant Grace Church West Hills
X-ORIGINAL-URL:https://abundantgracechurchwh.org
X-WR-CALDESC:Events for Abundant Grace Church West Hills
REFRESH-INTERVAL;VALUE=DURATION:PT1H
X-Robots-Tag:noindex
X-PUBLISHED-TTL:PT1H
BEGIN:VTIMEZONE
TZID:America/New_York
BEGIN:DAYLIGHT
TZOFFSETFROM:-0500
TZOFFSETTO:-0400
TZNAME:EDT
DTSTART:20250309T070000
END:DAYLIGHT
BEGIN:STANDARD
TZOFFSETFROM:-0400
TZOFFSETTO:-0500
TZNAME:EST
DTSTART:20251102T060000
END:STANDARD
BEGIN:DAYLIGHT
TZOFFSETFROM:-0500
TZOFFSETTO:-0400
TZNAME:EDT
DTSTART:20260308T070000
END:DAYLIGHT
BEGIN:STANDARD
TZOFFSETFROM:-0400
TZOFFSETTO:-0500
TZNAME:EST
DTSTART:20261101T060000
END:STANDARD
BEGIN:DAYLIGHT
TZOFFSETFROM:-0500
TZOFFSETTO:-0400
TZNAME:EDT
DTSTART:20270314T070000
END:DAYLIGHT
BEGIN:STANDARD
TZOFFSETFROM:-0400
TZOFFSETTO:-0500
TZNAME:EST
DTSTART:20271107T060000
END:STANDARD
END:VTIMEZONE
BEGIN:VEVENT
DTSTART;TZID=America/New_York:20260426T100000
DTEND;TZID=America/New_York:20260426T110000
DTSTAMP:20260423T120837
CREATED:20251114T141806Z
LAST-MODIFIED:20251114T141806Z
UID:10001274-1777197600-1777201200@abundantgracechurchwh.org
SUMMARY:Sunday Worship Service
DESCRIPTION:Our worship service lasts approximately 60 minutes and includes contemporary music\, prayer\, scripture reading\, frequent communion\, and a message.
URL:https://abundantgracechurchwh.org/event/sunday-worship-service/2026-04-26/
LOCATION:Abundant Grace Church West Hills\, 1798 Brodhead Road\, Crescent\, 15046\, United States
CATEGORIES:Worship Service
ORGANIZER;CN="Tracey Corso":MAILTO:pastortracey@abundantgracechurchwh.org
END:VEVENT
BEGIN:VEVENT
DTSTART;TZID=America/New_York:20260503T100000
DTEND;TZID=America/New_York:20260503T110000
DTSTAMP:20260423T120837
CREATED:20251114T141806Z
LAST-MODIFIED:20251114T141806Z
UID:10001275-1777802400-1777806000@abundantgracechurchwh.org
SUMMARY:Sunday Worship Service
DESCRIPTION:Our worship service lasts approximately 60 minutes and includes contemporary music\, prayer\, scripture reading\, frequent communion\, and a message.
URL:https://abundantgracechurchwh.org/event/sunday-worship-service/2026-05-03/
LOCATION:Abundant Grace Church West Hills\, 1798 Brodhead Road\, Crescent\, 15046\, United States
CATEGORIES:Worship Service
ORGANIZER;CN="Tracey Corso":MAILTO:pastortracey@abundantgracechurchwh.org
END:VEVENT
BEGIN:VEVENT
DTSTART;TZID=America/New_York:20260510T100000
DTEND;TZID=America/New_York:20260510T110000
DTSTAMP:20260423T120837
CREATED:20251114T141806Z
LAST-MODIFIED:20251114T141806Z
UID:10001276-1778407200-1778410800@abundantgracechurchwh.org
SUMMARY:Sunday Worship Service
DESCRIPTION:Our worship service lasts approximately 60 minutes and includes contemporary music\, prayer\, scripture reading\, frequent communion\, and a message.
URL:https://abundantgracechurchwh.org/event/sunday-worship-service/2026-05-10/
LOCATION:Abundant Grace Church West Hills\, 1798 Brodhead Road\, Crescent\, 15046\, United States
CATEGORIES:Worship Service
ORGANIZER;CN="Tracey Corso":MAILTO:pastortracey@abundantgracechurchwh.org
END:VEVENT
BEGIN:VEVENT
DTSTART;TZID=America/New_York:20260517T100000
DTEND;TZID=America/New_York:20260517T110000
DTSTAMP:20260423T120837
CREATED:20251114T141806Z
LAST-MODIFIED:20251114T141806Z
UID:10001277-1779012000-1779015600@abundantgracechurchwh.org
SUMMARY:Sunday Worship Service
DESCRIPTION:Our worship service lasts approximately 60 minutes and includes contemporary music\, prayer\, scripture reading\, frequent communion\, and a message.
URL:https://abundantgracechurchwh.org/event/sunday-worship-service/2026-05-17/
LOCATION:Abundant Grace Church West Hills\, 1798 Brodhead Road\, Crescent\, 15046\, United States
CATEGORIES:Worship Service
ORGANIZER;CN="Tracey Corso":MAILTO:pastortracey@abundantgracechurchwh.org
END:VEVENT
BEGIN:VEVENT
DTSTART;TZID=America/New_York:20260524T100000
DTEND;TZID=America/New_York:20260524T110000
DTSTAMP:20260423T120837
CREATED:20251114T141806Z
LAST-MODIFIED:20251114T141806Z
UID:10001278-1779616800-1779620400@abundantgracechurchwh.org
SUMMARY:Sunday Worship Service
DESCRIPTION:Our worship service lasts approximately 60 minutes and includes contemporary music\, prayer\, scripture reading\, frequent communion\, and a message.
URL:https://abundantgracechurchwh.org/event/sunday-worship-service/2026-05-24/
LOCATION:Abundant Grace Church West Hills\, 1798 Brodhead Road\, Crescent\, 15046\, United States
CATEGORIES:Worship Service
ORGANIZER;CN="Tracey Corso":MAILTO:pastortracey@abundantgracechurchwh.org
END:VEVENT
BEGIN:VEVENT
DTSTART;TZID=America/New_York:20260531T100000
DTEND;TZID=America/New_York:20260531T110000
DTSTAMP:20260423T120837
CREATED:20251114T141806Z
LAST-MODIFIED:20251114T141806Z
UID:10001279-1780221600-1780225200@abundantgracechurchwh.org
SUMMARY:Sunday Worship Service
DESCRIPTION:Our worship service lasts approximately 60 minutes and includes contemporary music\, prayer\, scripture reading\, frequent communion\, and a message.
URL:https://abundantgracechurchwh.org/event/sunday-worship-service/2026-05-31/
LOCATION:Abundant Grace Church West Hills\, 1798 Brodhead Road\, Crescent\, 15046\, United States
CATEGORIES:Worship Service
ORGANIZER;CN="Tracey Corso":MAILTO:pastortracey@abundantgracechurchwh.org
END:VEVENT
BEGIN:VEVENT
DTSTART;TZID=America/New_York:20260607T100000
DTEND;TZID=America/New_York:20260607T110000
DTSTAMP:20260423T120837
CREATED:20251114T141806Z
LAST-MODIFIED:20251114T141806Z
UID:10001280-1780826400-1780830000@abundantgracechurchwh.org
SUMMARY:Sunday Worship Service
DESCRIPTION:Our worship service lasts approximately 60 minutes and includes contemporary music\, prayer\, scripture reading\, frequent communion\, and a message.
URL:https://abundantgracechurchwh.org/event/sunday-worship-service/2026-06-07/
LOCATION:Abundant Grace Church West Hills\, 1798 Brodhead Road\, Crescent\, 15046\, United States
CATEGORIES:Worship Service
ORGANIZER;CN="Tracey Corso":MAILTO:pastortracey@abundantgracechurchwh.org
END:VEVENT
BEGIN:VEVENT
DTSTART;TZID=America/New_York:20260614T100000
DTEND;TZID=America/New_York:20260614T110000
DTSTAMP:20260423T120837
CREATED:20251114T141806Z
LAST-MODIFIED:20251114T141806Z
UID:10001281-1781431200-1781434800@abundantgracechurchwh.org
SUMMARY:Sunday Worship Service
DESCRIPTION:Our worship service lasts approximately 60 minutes and includes contemporary music\, prayer\, scripture reading\, frequent communion\, and a message.
URL:https://abundantgracechurchwh.org/event/sunday-worship-service/2026-06-14/
LOCATION:Abundant Grace Church West Hills\, 1798 Brodhead Road\, Crescent\, 15046\, United States
CATEGORIES:Worship Service
ORGANIZER;CN="Tracey Corso":MAILTO:pastortracey@abundantgracechurchwh.org
END:VEVENT
BEGIN:VEVENT
DTSTART;TZID=America/New_York:20260621T100000
DTEND;TZID=America/New_York:20260621T110000
DTSTAMP:20260423T120837
CREATED:20251114T141806Z
LAST-MODIFIED:20251114T141806Z
UID:10001282-1782036000-1782039600@abundantgracechurchwh.org
SUMMARY:Sunday Worship Service
DESCRIPTION:Our worship service lasts approximately 60 minutes and includes contemporary music\, prayer\, scripture reading\, frequent communion\, and a message.
URL:https://abundantgracechurchwh.org/event/sunday-worship-service/2026-06-21/
LOCATION:Abundant Grace Church West Hills\, 1798 Brodhead Road\, Crescent\, 15046\, United States
CATEGORIES:Worship Service
ORGANIZER;CN="Tracey Corso":MAILTO:pastortracey@abundantgracechurchwh.org
END:VEVENT
BEGIN:VEVENT
DTSTART;TZID=America/New_York:20260628T100000
DTEND;TZID=America/New_York:20260628T110000
DTSTAMP:20260423T120837
CREATED:20251114T141806Z
LAST-MODIFIED:20251114T141806Z
UID:10001283-1782640800-1782644400@abundantgracechurchwh.org
SUMMARY:Sunday Worship Service
DESCRIPTION:Our worship service lasts approximately 60 minutes and includes contemporary music\, prayer\, scripture reading\, frequent communion\, and a message.
URL:https://abundantgracechurchwh.org/event/sunday-worship-service/2026-06-28/
LOCATION:Abundant Grace Church West Hills\, 1798 Brodhead Road\, Crescent\, 15046\, United States
CATEGORIES:Worship Service
ORGANIZER;CN="Tracey Corso":MAILTO:pastortracey@abundantgracechurchwh.org
END:VEVENT
BEGIN:VEVENT
DTSTART;TZID=America/New_York:20260705T100000
DTEND;TZID=America/New_York:20260705T110000
DTSTAMP:20260423T120837
CREATED:20251114T141806Z
LAST-MODIFIED:20251114T141806Z
UID:10001284-1783245600-1783249200@abundantgracechurchwh.org
SUMMARY:Sunday Worship Service
DESCRIPTION:Our worship service lasts approximately 60 minutes and includes contemporary music\, prayer\, scripture reading\, frequent communion\, and a message.
URL:https://abundantgracechurchwh.org/event/sunday-worship-service/2026-07-05/
LOCATION:Abundant Grace Church West Hills\, 1798 Brodhead Road\, Crescent\, 15046\, United States
CATEGORIES:Worship Service
ORGANIZER;CN="Tracey Corso":MAILTO:pastortracey@abundantgracechurchwh.org
END:VEVENT
BEGIN:VEVENT
DTSTART;TZID=America/New_York:20260712T100000
DTEND;TZID=America/New_York:20260712T110000
DTSTAMP:20260423T120837
CREATED:20251114T141806Z
LAST-MODIFIED:20251114T141806Z
UID:10001285-1783850400-1783854000@abundantgracechurchwh.org
SUMMARY:Sunday Worship Service
DESCRIPTION:Our worship service lasts approximately 60 minutes and includes contemporary music\, prayer\, scripture reading\, frequent communion\, and a message.
URL:https://abundantgracechurchwh.org/event/sunday-worship-service/2026-07-12/
LOCATION:Abundant Grace Church West Hills\, 1798 Brodhead Road\, Crescent\, 15046\, United States
CATEGORIES:Worship Service
ORGANIZER;CN="Tracey Corso":MAILTO:pastortracey@abundantgracechurchwh.org
END:VEVENT
BEGIN:VEVENT
DTSTART;TZID=America/New_York:20260719T100000
DTEND;TZID=America/New_York:20260719T110000
DTSTAMP:20260423T120837
CREATED:20251114T141806Z
LAST-MODIFIED:20251114T141806Z
UID:10001286-1784455200-1784458800@abundantgracechurchwh.org
SUMMARY:Sunday Worship Service
DESCRIPTION:Our worship service lasts approximately 60 minutes and includes contemporary music\, prayer\, scripture reading\, frequent communion\, and a message.
URL:https://abundantgracechurchwh.org/event/sunday-worship-service/2026-07-19/
LOCATION:Abundant Grace Church West Hills\, 1798 Brodhead Road\, Crescent\, 15046\, United States
CATEGORIES:Worship Service
ORGANIZER;CN="Tracey Corso":MAILTO:pastortracey@abundantgracechurchwh.org
END:VEVENT
BEGIN:VEVENT
DTSTART;TZID=America/New_York:20260726T100000
DTEND;TZID=America/New_York:20260726T110000
DTSTAMP:20260423T120837
CREATED:20251114T141806Z
LAST-MODIFIED:20251114T141806Z
UID:10001287-1785060000-1785063600@abundantgracechurchwh.org
SUMMARY:Sunday Worship Service
DESCRIPTION:Our worship service lasts approximately 60 minutes and includes contemporary music\, prayer\, scripture reading\, frequent communion\, and a message.
URL:https://abundantgracechurchwh.org/event/sunday-worship-service/2026-07-26/
LOCATION:Abundant Grace Church West Hills\, 1798 Brodhead Road\, Crescent\, 15046\, United States
CATEGORIES:Worship Service
ORGANIZER;CN="Tracey Corso":MAILTO:pastortracey@abundantgracechurchwh.org
END:VEVENT
BEGIN:VEVENT
DTSTART;TZID=America/New_York:20260802T100000
DTEND;TZID=America/New_York:20260802T110000
DTSTAMP:20260423T120837
CREATED:20251114T141806Z
LAST-MODIFIED:20251114T141806Z
UID:10001288-1785664800-1785668400@abundantgracechurchwh.org
SUMMARY:Sunday Worship Service
DESCRIPTION:Our worship service lasts approximately 60 minutes and includes contemporary music\, prayer\, scripture reading\, frequent communion\, and a message.
URL:https://abundantgracechurchwh.org/event/sunday-worship-service/2026-08-02/
LOCATION:Abundant Grace Church West Hills\, 1798 Brodhead Road\, Crescent\, 15046\, United States
CATEGORIES:Worship Service
ORGANIZER;CN="Tracey Corso":MAILTO:pastortracey@abundantgracechurchwh.org
END:VEVENT
BEGIN:VEVENT
DTSTART;TZID=America/New_York:20260809T100000
DTEND;TZID=America/New_York:20260809T110000
DTSTAMP:20260423T120837
CREATED:20251114T141806Z
LAST-MODIFIED:20251114T141806Z
UID:10001289-1786269600-1786273200@abundantgracechurchwh.org
SUMMARY:Sunday Worship Service
DESCRIPTION:Our worship service lasts approximately 60 minutes and includes contemporary music\, prayer\, scripture reading\, frequent communion\, and a message.
URL:https://abundantgracechurchwh.org/event/sunday-worship-service/2026-08-09/
LOCATION:Abundant Grace Church West Hills\, 1798 Brodhead Road\, Crescent\, 15046\, United States
CATEGORIES:Worship Service
ORGANIZER;CN="Tracey Corso":MAILTO:pastortracey@abundantgracechurchwh.org
END:VEVENT
BEGIN:VEVENT
DTSTART;TZID=America/New_York:20260816T100000
DTEND;TZID=America/New_York:20260816T110000
DTSTAMP:20260423T120837
CREATED:20251114T141806Z
LAST-MODIFIED:20251114T141806Z
UID:10001290-1786874400-1786878000@abundantgracechurchwh.org
SUMMARY:Sunday Worship Service
DESCRIPTION:Our worship service lasts approximately 60 minutes and includes contemporary music\, prayer\, scripture reading\, frequent communion\, and a message.
URL:https://abundantgracechurchwh.org/event/sunday-worship-service/2026-08-16/
LOCATION:Abundant Grace Church West Hills\, 1798 Brodhead Road\, Crescent\, 15046\, United States
CATEGORIES:Worship Service
ORGANIZER;CN="Tracey Corso":MAILTO:pastortracey@abundantgracechurchwh.org
END:VEVENT
BEGIN:VEVENT
DTSTART;TZID=America/New_York:20260823T100000
DTEND;TZID=America/New_York:20260823T110000
DTSTAMP:20260423T120837
CREATED:20251114T141806Z
LAST-MODIFIED:20251114T141806Z
UID:10001291-1787479200-1787482800@abundantgracechurchwh.org
SUMMARY:Sunday Worship Service
DESCRIPTION:Our worship service lasts approximately 60 minutes and includes contemporary music\, prayer\, scripture reading\, frequent communion\, and a message.
URL:https://abundantgracechurchwh.org/event/sunday-worship-service/2026-08-23/
LOCATION:Abundant Grace Church West Hills\, 1798 Brodhead Road\, Crescent\, 15046\, United States
CATEGORIES:Worship Service
ORGANIZER;CN="Tracey Corso":MAILTO:pastortracey@abundantgracechurchwh.org
END:VEVENT
BEGIN:VEVENT
DTSTART;TZID=America/New_York:20260830T100000
DTEND;TZID=America/New_York:20260830T110000
DTSTAMP:20260423T120837
CREATED:20251114T141806Z
LAST-MODIFIED:20251114T141806Z
UID:10001292-1788084000-1788087600@abundantgracechurchwh.org
SUMMARY:Sunday Worship Service
DESCRIPTION:Our worship service lasts approximately 60 minutes and includes contemporary music\, prayer\, scripture reading\, frequent communion\, and a message.
URL:https://abundantgracechurchwh.org/event/sunday-worship-service/2026-08-30/
LOCATION:Abundant Grace Church West Hills\, 1798 Brodhead Road\, Crescent\, 15046\, United States
CATEGORIES:Worship Service
ORGANIZER;CN="Tracey Corso":MAILTO:pastortracey@abundantgracechurchwh.org
END:VEVENT
BEGIN:VEVENT
DTSTART;TZID=America/New_York:20260906T100000
DTEND;TZID=America/New_York:20260906T110000
DTSTAMP:20260423T120837
CREATED:20251114T141806Z
LAST-MODIFIED:20251114T141806Z
UID:10001293-1788688800-1788692400@abundantgracechurchwh.org
SUMMARY:Sunday Worship Service
DESCRIPTION:Our worship service lasts approximately 60 minutes and includes contemporary music\, prayer\, scripture reading\, frequent communion\, and a message.
URL:https://abundantgracechurchwh.org/event/sunday-worship-service/2026-09-06/
LOCATION:Abundant Grace Church West Hills\, 1798 Brodhead Road\, Crescent\, 15046\, United States
CATEGORIES:Worship Service
ORGANIZER;CN="Tracey Corso":MAILTO:pastortracey@abundantgracechurchwh.org
END:VEVENT
BEGIN:VEVENT
DTSTART;TZID=America/New_York:20260913T100000
DTEND;TZID=America/New_York:20260913T110000
DTSTAMP:20260423T120837
CREATED:20251114T141806Z
LAST-MODIFIED:20251114T141806Z
UID:10001294-1789293600-1789297200@abundantgracechurchwh.org
SUMMARY:Sunday Worship Service
DESCRIPTION:Our worship service lasts approximately 60 minutes and includes contemporary music\, prayer\, scripture reading\, frequent communion\, and a message.
URL:https://abundantgracechurchwh.org/event/sunday-worship-service/2026-09-13/
LOCATION:Abundant Grace Church West Hills\, 1798 Brodhead Road\, Crescent\, 15046\, United States
CATEGORIES:Worship Service
ORGANIZER;CN="Tracey Corso":MAILTO:pastortracey@abundantgracechurchwh.org
END:VEVENT
BEGIN:VEVENT
DTSTART;TZID=America/New_York:20260920T100000
DTEND;TZID=America/New_York:20260920T110000
DTSTAMP:20260423T120837
CREATED:20251114T141806Z
LAST-MODIFIED:20251114T141806Z
UID:10001295-1789898400-1789902000@abundantgracechurchwh.org
SUMMARY:Sunday Worship Service
DESCRIPTION:Our worship service lasts approximately 60 minutes and includes contemporary music\, prayer\, scripture reading\, frequent communion\, and a message.
URL:https://abundantgracechurchwh.org/event/sunday-worship-service/2026-09-20/
LOCATION:Abundant Grace Church West Hills\, 1798 Brodhead Road\, Crescent\, 15046\, United States
CATEGORIES:Worship Service
ORGANIZER;CN="Tracey Corso":MAILTO:pastortracey@abundantgracechurchwh.org
END:VEVENT
BEGIN:VEVENT
DTSTART;TZID=America/New_York:20260927T100000
DTEND;TZID=America/New_York:20260927T110000
DTSTAMP:20260423T120837
CREATED:20251114T141806Z
LAST-MODIFIED:20251114T141806Z
UID:10001296-1790503200-1790506800@abundantgracechurchwh.org
SUMMARY:Sunday Worship Service
DESCRIPTION:Our worship service lasts approximately 60 minutes and includes contemporary music\, prayer\, scripture reading\, frequent communion\, and a message.
URL:https://abundantgracechurchwh.org/event/sunday-worship-service/2026-09-27/
LOCATION:Abundant Grace Church West Hills\, 1798 Brodhead Road\, Crescent\, 15046\, United States
CATEGORIES:Worship Service
ORGANIZER;CN="Tracey Corso":MAILTO:pastortracey@abundantgracechurchwh.org
END:VEVENT
BEGIN:VEVENT
DTSTART;TZID=America/New_York:20261004T100000
DTEND;TZID=America/New_York:20261004T110000
DTSTAMP:20260423T120837
CREATED:20251114T141806Z
LAST-MODIFIED:20251114T141806Z
UID:10001297-1791108000-1791111600@abundantgracechurchwh.org
SUMMARY:Sunday Worship Service
DESCRIPTION:Our worship service lasts approximately 60 minutes and includes contemporary music\, prayer\, scripture reading\, frequent communion\, and a message.
URL:https://abundantgracechurchwh.org/event/sunday-worship-service/2026-10-04/
LOCATION:Abundant Grace Church West Hills\, 1798 Brodhead Road\, Crescent\, 15046\, United States
CATEGORIES:Worship Service
ORGANIZER;CN="Tracey Corso":MAILTO:pastortracey@abundantgracechurchwh.org
END:VEVENT
BEGIN:VEVENT
DTSTART;TZID=America/New_York:20261011T100000
DTEND;TZID=America/New_York:20261011T110000
DTSTAMP:20260423T120837
CREATED:20251114T141806Z
LAST-MODIFIED:20251114T141806Z
UID:10001298-1791712800-1791716400@abundantgracechurchwh.org
SUMMARY:Sunday Worship Service
DESCRIPTION:Our worship service lasts approximately 60 minutes and includes contemporary music\, prayer\, scripture reading\, frequent communion\, and a message.
URL:https://abundantgracechurchwh.org/event/sunday-worship-service/2026-10-11/
LOCATION:Abundant Grace Church West Hills\, 1798 Brodhead Road\, Crescent\, 15046\, United States
CATEGORIES:Worship Service
ORGANIZER;CN="Tracey Corso":MAILTO:pastortracey@abundantgracechurchwh.org
END:VEVENT
BEGIN:VEVENT
DTSTART;TZID=America/New_York:20261018T100000
DTEND;TZID=America/New_York:20261018T110000
DTSTAMP:20260423T120837
CREATED:20251114T141806Z
LAST-MODIFIED:20251114T141806Z
UID:10001299-1792317600-1792321200@abundantgracechurchwh.org
SUMMARY:Sunday Worship Service
DESCRIPTION:Our worship service lasts approximately 60 minutes and includes contemporary music\, prayer\, scripture reading\, frequent communion\, and a message.
URL:https://abundantgracechurchwh.org/event/sunday-worship-service/2026-10-18/
LOCATION:Abundant Grace Church West Hills\, 1798 Brodhead Road\, Crescent\, 15046\, United States
CATEGORIES:Worship Service
ORGANIZER;CN="Tracey Corso":MAILTO:pastortracey@abundantgracechurchwh.org
END:VEVENT
BEGIN:VEVENT
DTSTART;TZID=America/New_York:20261025T100000
DTEND;TZID=America/New_York:20261025T110000
DTSTAMP:20260423T120837
CREATED:20251114T141806Z
LAST-MODIFIED:20251114T141806Z
UID:10001300-1792922400-1792926000@abundantgracechurchwh.org
SUMMARY:Sunday Worship Service
DESCRIPTION:Our worship service lasts approximately 60 minutes and includes contemporary music\, prayer\, scripture reading\, frequent communion\, and a message.
URL:https://abundantgracechurchwh.org/event/sunday-worship-service/2026-10-25/
LOCATION:Abundant Grace Church West Hills\, 1798 Brodhead Road\, Crescent\, 15046\, United States
CATEGORIES:Worship Service
ORGANIZER;CN="Tracey Corso":MAILTO:pastortracey@abundantgracechurchwh.org
END:VEVENT
BEGIN:VEVENT
DTSTART;TZID=America/New_York:20261101T100000
DTEND;TZID=America/New_York:20261101T110000
DTSTAMP:20260423T120837
CREATED:20251114T141806Z
LAST-MODIFIED:20251114T141806Z
UID:10001301-1793527200-1793530800@abundantgracechurchwh.org
SUMMARY:Sunday Worship Service
DESCRIPTION:Our worship service lasts approximately 60 minutes and includes contemporary music\, prayer\, scripture reading\, frequent communion\, and a message.
URL:https://abundantgracechurchwh.org/event/sunday-worship-service/2026-11-01/
LOCATION:Abundant Grace Church West Hills\, 1798 Brodhead Road\, Crescent\, 15046\, United States
CATEGORIES:Worship Service
ORGANIZER;CN="Tracey Corso":MAILTO:pastortracey@abundantgracechurchwh.org
END:VEVENT
BEGIN:VEVENT
DTSTART;TZID=America/New_York:20261108T100000
DTEND;TZID=America/New_York:20261108T110000
DTSTAMP:20260423T120837
CREATED:20251114T141806Z
LAST-MODIFIED:20251114T141806Z
UID:10001302-1794132000-1794135600@abundantgracechurchwh.org
SUMMARY:Sunday Worship Service
DESCRIPTION:Our worship service lasts approximately 60 minutes and includes contemporary music\, prayer\, scripture reading\, frequent communion\, and a message.
URL:https://abundantgracechurchwh.org/event/sunday-worship-service/2026-11-08/
LOCATION:Abundant Grace Church West Hills\, 1798 Brodhead Road\, Crescent\, 15046\, United States
CATEGORIES:Worship Service
ORGANIZER;CN="Tracey Corso":MAILTO:pastortracey@abundantgracechurchwh.org
END:VEVENT
BEGIN:VEVENT
DTSTART;TZID=America/New_York:20261115T100000
DTEND;TZID=America/New_York:20261115T110000
DTSTAMP:20260423T120837
CREATED:20251114T141806Z
LAST-MODIFIED:20251114T141806Z
UID:10001303-1794736800-1794740400@abundantgracechurchwh.org
SUMMARY:Sunday Worship Service
DESCRIPTION:Our worship service lasts approximately 60 minutes and includes contemporary music\, prayer\, scripture reading\, frequent communion\, and a message.
URL:https://abundantgracechurchwh.org/event/sunday-worship-service/2026-11-15/
LOCATION:Abundant Grace Church West Hills\, 1798 Brodhead Road\, Crescent\, 15046\, United States
CATEGORIES:Worship Service
ORGANIZER;CN="Tracey Corso":MAILTO:pastortracey@abundantgracechurchwh.org
END:VEVENT
END:VCALENDAR