BEGIN:VCALENDAR
VERSION:2.0
PRODID:-//Abundant Grace Church West Hills - ECPv6.15.13//NONSGML v1.0//EN
CALSCALE:GREGORIAN
METHOD:PUBLISH
X-WR-CALNAME:Abundant Grace Church West Hills
X-ORIGINAL-URL:https://abundantgracechurchwh.org
X-WR-CALDESC:Events for Abundant Grace Church West Hills
REFRESH-INTERVAL;VALUE=DURATION:PT1H
X-Robots-Tag:noindex
X-PUBLISHED-TTL:PT1H
BEGIN:VTIMEZONE
TZID:America/New_York
BEGIN:DAYLIGHT
TZOFFSETFROM:-0500
TZOFFSETTO:-0400
TZNAME:EDT
DTSTART:20280312T070000
END:DAYLIGHT
BEGIN:STANDARD
TZOFFSETFROM:-0400
TZOFFSETTO:-0500
TZNAME:EST
DTSTART:20281105T060000
END:STANDARD
BEGIN:DAYLIGHT
TZOFFSETFROM:-0500
TZOFFSETTO:-0400
TZNAME:EDT
DTSTART:20290311T070000
END:DAYLIGHT
BEGIN:STANDARD
TZOFFSETFROM:-0400
TZOFFSETTO:-0500
TZNAME:EST
DTSTART:20291104T060000
END:STANDARD
BEGIN:DAYLIGHT
TZOFFSETFROM:-0500
TZOFFSETTO:-0400
TZNAME:EDT
DTSTART:20300310T070000
END:DAYLIGHT
BEGIN:STANDARD
TZOFFSETFROM:-0400
TZOFFSETTO:-0500
TZNAME:EST
DTSTART:20301103T060000
END:STANDARD
END:VTIMEZONE
BEGIN:VEVENT
DTSTART;TZID=America/New_York:20290423T180000
DTEND;TZID=America/New_York:20290423T200000
DTSTAMP:20260424T094442
CREATED:20251113T011933Z
LAST-MODIFIED:20251114T140508Z
UID:10000399-1871661600-1871668800@abundantgracechurchwh.org
SUMMARY:Student Ministry
DESCRIPTION:Join us for a time filled with energy\, games\, and genuine community. It’s a place to have lots of fun and feel like you belong. We take time to worship and explore who Jesus is and what He teaches.
URL:https://abundantgracechurchwh.org/event/student-ministry/2029-04-23/
LOCATION:Abundant Grace Church West Hills\, 1798 Brodhead Road\, Crescent\, 15046\, United States
CATEGORIES:Ministry
ATTACH;FMTTYPE=image/png:https://abundantgracechurchwh.org/wp-content/uploads/2025/11/Ignite-Thumbnail.png
ORGANIZER;CN="Nate Lesher":MAILTO:natelesheragcwh@gmail.com
END:VEVENT
BEGIN:VEVENT
DTSTART;TZID=America/New_York:20290430T180000
DTEND;TZID=America/New_York:20290430T200000
DTSTAMP:20260424T094442
CREATED:20251113T011933Z
LAST-MODIFIED:20251114T140508Z
UID:10000400-1872266400-1872273600@abundantgracechurchwh.org
SUMMARY:Student Ministry
DESCRIPTION:Join us for a time filled with energy\, games\, and genuine community. It’s a place to have lots of fun and feel like you belong. We take time to worship and explore who Jesus is and what He teaches.
URL:https://abundantgracechurchwh.org/event/student-ministry/2029-04-30/
LOCATION:Abundant Grace Church West Hills\, 1798 Brodhead Road\, Crescent\, 15046\, United States
CATEGORIES:Ministry
ATTACH;FMTTYPE=image/png:https://abundantgracechurchwh.org/wp-content/uploads/2025/11/Ignite-Thumbnail.png
ORGANIZER;CN="Nate Lesher":MAILTO:natelesheragcwh@gmail.com
END:VEVENT
BEGIN:VEVENT
DTSTART;TZID=America/New_York:20290507T180000
DTEND;TZID=America/New_York:20290507T200000
DTSTAMP:20260424T094442
CREATED:20251113T011933Z
LAST-MODIFIED:20251114T140508Z
UID:10000401-1872871200-1872878400@abundantgracechurchwh.org
SUMMARY:Student Ministry
DESCRIPTION:Join us for a time filled with energy\, games\, and genuine community. It’s a place to have lots of fun and feel like you belong. We take time to worship and explore who Jesus is and what He teaches.
URL:https://abundantgracechurchwh.org/event/student-ministry/2029-05-07/
LOCATION:Abundant Grace Church West Hills\, 1798 Brodhead Road\, Crescent\, 15046\, United States
CATEGORIES:Ministry
ATTACH;FMTTYPE=image/png:https://abundantgracechurchwh.org/wp-content/uploads/2025/11/Ignite-Thumbnail.png
ORGANIZER;CN="Nate Lesher":MAILTO:natelesheragcwh@gmail.com
END:VEVENT
BEGIN:VEVENT
DTSTART;TZID=America/New_York:20290514T180000
DTEND;TZID=America/New_York:20290514T200000
DTSTAMP:20260424T094442
CREATED:20251113T011933Z
LAST-MODIFIED:20251114T140508Z
UID:10000402-1873476000-1873483200@abundantgracechurchwh.org
SUMMARY:Student Ministry
DESCRIPTION:Join us for a time filled with energy\, games\, and genuine community. It’s a place to have lots of fun and feel like you belong. We take time to worship and explore who Jesus is and what He teaches.
URL:https://abundantgracechurchwh.org/event/student-ministry/2029-05-14/
LOCATION:Abundant Grace Church West Hills\, 1798 Brodhead Road\, Crescent\, 15046\, United States
CATEGORIES:Ministry
ATTACH;FMTTYPE=image/png:https://abundantgracechurchwh.org/wp-content/uploads/2025/11/Ignite-Thumbnail.png
ORGANIZER;CN="Nate Lesher":MAILTO:natelesheragcwh@gmail.com
END:VEVENT
BEGIN:VEVENT
DTSTART;TZID=America/New_York:20290521T180000
DTEND;TZID=America/New_York:20290521T200000
DTSTAMP:20260424T094442
CREATED:20251113T011933Z
LAST-MODIFIED:20251114T140508Z
UID:10000403-1874080800-1874088000@abundantgracechurchwh.org
SUMMARY:Student Ministry
DESCRIPTION:Join us for a time filled with energy\, games\, and genuine community. It’s a place to have lots of fun and feel like you belong. We take time to worship and explore who Jesus is and what He teaches.
URL:https://abundantgracechurchwh.org/event/student-ministry/2029-05-21/
LOCATION:Abundant Grace Church West Hills\, 1798 Brodhead Road\, Crescent\, 15046\, United States
CATEGORIES:Ministry
ATTACH;FMTTYPE=image/png:https://abundantgracechurchwh.org/wp-content/uploads/2025/11/Ignite-Thumbnail.png
ORGANIZER;CN="Nate Lesher":MAILTO:natelesheragcwh@gmail.com
END:VEVENT
BEGIN:VEVENT
DTSTART;TZID=America/New_York:20290528T180000
DTEND;TZID=America/New_York:20290528T200000
DTSTAMP:20260424T094442
CREATED:20251113T011933Z
LAST-MODIFIED:20251114T140508Z
UID:10000404-1874685600-1874692800@abundantgracechurchwh.org
SUMMARY:Student Ministry
DESCRIPTION:Join us for a time filled with energy\, games\, and genuine community. It’s a place to have lots of fun and feel like you belong. We take time to worship and explore who Jesus is and what He teaches.
URL:https://abundantgracechurchwh.org/event/student-ministry/2029-05-28/
LOCATION:Abundant Grace Church West Hills\, 1798 Brodhead Road\, Crescent\, 15046\, United States
CATEGORIES:Ministry
ATTACH;FMTTYPE=image/png:https://abundantgracechurchwh.org/wp-content/uploads/2025/11/Ignite-Thumbnail.png
ORGANIZER;CN="Nate Lesher":MAILTO:natelesheragcwh@gmail.com
END:VEVENT
BEGIN:VEVENT
DTSTART;TZID=America/New_York:20290604T180000
DTEND;TZID=America/New_York:20290604T200000
DTSTAMP:20260424T094442
CREATED:20251113T011933Z
LAST-MODIFIED:20251114T140508Z
UID:10000405-1875290400-1875297600@abundantgracechurchwh.org
SUMMARY:Student Ministry
DESCRIPTION:Join us for a time filled with energy\, games\, and genuine community. It’s a place to have lots of fun and feel like you belong. We take time to worship and explore who Jesus is and what He teaches.
URL:https://abundantgracechurchwh.org/event/student-ministry/2029-06-04/
LOCATION:Abundant Grace Church West Hills\, 1798 Brodhead Road\, Crescent\, 15046\, United States
CATEGORIES:Ministry
ATTACH;FMTTYPE=image/png:https://abundantgracechurchwh.org/wp-content/uploads/2025/11/Ignite-Thumbnail.png
ORGANIZER;CN="Nate Lesher":MAILTO:natelesheragcwh@gmail.com
END:VEVENT
BEGIN:VEVENT
DTSTART;TZID=America/New_York:20290611T180000
DTEND;TZID=America/New_York:20290611T200000
DTSTAMP:20260424T094442
CREATED:20251113T011933Z
LAST-MODIFIED:20251114T140508Z
UID:10000406-1875895200-1875902400@abundantgracechurchwh.org
SUMMARY:Student Ministry
DESCRIPTION:Join us for a time filled with energy\, games\, and genuine community. It’s a place to have lots of fun and feel like you belong. We take time to worship and explore who Jesus is and what He teaches.
URL:https://abundantgracechurchwh.org/event/student-ministry/2029-06-11/
LOCATION:Abundant Grace Church West Hills\, 1798 Brodhead Road\, Crescent\, 15046\, United States
CATEGORIES:Ministry
ATTACH;FMTTYPE=image/png:https://abundantgracechurchwh.org/wp-content/uploads/2025/11/Ignite-Thumbnail.png
ORGANIZER;CN="Nate Lesher":MAILTO:natelesheragcwh@gmail.com
END:VEVENT
BEGIN:VEVENT
DTSTART;TZID=America/New_York:20290618T180000
DTEND;TZID=America/New_York:20290618T200000
DTSTAMP:20260424T094442
CREATED:20251113T011933Z
LAST-MODIFIED:20251114T140508Z
UID:10000407-1876500000-1876507200@abundantgracechurchwh.org
SUMMARY:Student Ministry
DESCRIPTION:Join us for a time filled with energy\, games\, and genuine community. It’s a place to have lots of fun and feel like you belong. We take time to worship and explore who Jesus is and what He teaches.
URL:https://abundantgracechurchwh.org/event/student-ministry/2029-06-18/
LOCATION:Abundant Grace Church West Hills\, 1798 Brodhead Road\, Crescent\, 15046\, United States
CATEGORIES:Ministry
ATTACH;FMTTYPE=image/png:https://abundantgracechurchwh.org/wp-content/uploads/2025/11/Ignite-Thumbnail.png
ORGANIZER;CN="Nate Lesher":MAILTO:natelesheragcwh@gmail.com
END:VEVENT
BEGIN:VEVENT
DTSTART;TZID=America/New_York:20290625T180000
DTEND;TZID=America/New_York:20290625T200000
DTSTAMP:20260424T094442
CREATED:20251113T011933Z
LAST-MODIFIED:20251114T140508Z
UID:10000408-1877104800-1877112000@abundantgracechurchwh.org
SUMMARY:Student Ministry
DESCRIPTION:Join us for a time filled with energy\, games\, and genuine community. It’s a place to have lots of fun and feel like you belong. We take time to worship and explore who Jesus is and what He teaches.
URL:https://abundantgracechurchwh.org/event/student-ministry/2029-06-25/
LOCATION:Abundant Grace Church West Hills\, 1798 Brodhead Road\, Crescent\, 15046\, United States
CATEGORIES:Ministry
ATTACH;FMTTYPE=image/png:https://abundantgracechurchwh.org/wp-content/uploads/2025/11/Ignite-Thumbnail.png
ORGANIZER;CN="Nate Lesher":MAILTO:natelesheragcwh@gmail.com
END:VEVENT
BEGIN:VEVENT
DTSTART;TZID=America/New_York:20290702T180000
DTEND;TZID=America/New_York:20290702T200000
DTSTAMP:20260424T094442
CREATED:20251113T011933Z
LAST-MODIFIED:20251114T140508Z
UID:10000409-1877709600-1877716800@abundantgracechurchwh.org
SUMMARY:Student Ministry
DESCRIPTION:Join us for a time filled with energy\, games\, and genuine community. It’s a place to have lots of fun and feel like you belong. We take time to worship and explore who Jesus is and what He teaches.
URL:https://abundantgracechurchwh.org/event/student-ministry/2029-07-02/
LOCATION:Abundant Grace Church West Hills\, 1798 Brodhead Road\, Crescent\, 15046\, United States
CATEGORIES:Ministry
ATTACH;FMTTYPE=image/png:https://abundantgracechurchwh.org/wp-content/uploads/2025/11/Ignite-Thumbnail.png
ORGANIZER;CN="Nate Lesher":MAILTO:natelesheragcwh@gmail.com
END:VEVENT
BEGIN:VEVENT
DTSTART;TZID=America/New_York:20290709T180000
DTEND;TZID=America/New_York:20290709T200000
DTSTAMP:20260424T094442
CREATED:20251113T011933Z
LAST-MODIFIED:20251114T140508Z
UID:10000410-1878314400-1878321600@abundantgracechurchwh.org
SUMMARY:Student Ministry
DESCRIPTION:Join us for a time filled with energy\, games\, and genuine community. It’s a place to have lots of fun and feel like you belong. We take time to worship and explore who Jesus is and what He teaches.
URL:https://abundantgracechurchwh.org/event/student-ministry/2029-07-09/
LOCATION:Abundant Grace Church West Hills\, 1798 Brodhead Road\, Crescent\, 15046\, United States
CATEGORIES:Ministry
ATTACH;FMTTYPE=image/png:https://abundantgracechurchwh.org/wp-content/uploads/2025/11/Ignite-Thumbnail.png
ORGANIZER;CN="Nate Lesher":MAILTO:natelesheragcwh@gmail.com
END:VEVENT
BEGIN:VEVENT
DTSTART;TZID=America/New_York:20290716T180000
DTEND;TZID=America/New_York:20290716T200000
DTSTAMP:20260424T094442
CREATED:20251113T011933Z
LAST-MODIFIED:20251114T140508Z
UID:10000411-1878919200-1878926400@abundantgracechurchwh.org
SUMMARY:Student Ministry
DESCRIPTION:Join us for a time filled with energy\, games\, and genuine community. It’s a place to have lots of fun and feel like you belong. We take time to worship and explore who Jesus is and what He teaches.
URL:https://abundantgracechurchwh.org/event/student-ministry/2029-07-16/
LOCATION:Abundant Grace Church West Hills\, 1798 Brodhead Road\, Crescent\, 15046\, United States
CATEGORIES:Ministry
ATTACH;FMTTYPE=image/png:https://abundantgracechurchwh.org/wp-content/uploads/2025/11/Ignite-Thumbnail.png
ORGANIZER;CN="Nate Lesher":MAILTO:natelesheragcwh@gmail.com
END:VEVENT
BEGIN:VEVENT
DTSTART;TZID=America/New_York:20290723T180000
DTEND;TZID=America/New_York:20290723T200000
DTSTAMP:20260424T094442
CREATED:20251113T011933Z
LAST-MODIFIED:20251114T140508Z
UID:10000412-1879524000-1879531200@abundantgracechurchwh.org
SUMMARY:Student Ministry
DESCRIPTION:Join us for a time filled with energy\, games\, and genuine community. It’s a place to have lots of fun and feel like you belong. We take time to worship and explore who Jesus is and what He teaches.
URL:https://abundantgracechurchwh.org/event/student-ministry/2029-07-23/
LOCATION:Abundant Grace Church West Hills\, 1798 Brodhead Road\, Crescent\, 15046\, United States
CATEGORIES:Ministry
ATTACH;FMTTYPE=image/png:https://abundantgracechurchwh.org/wp-content/uploads/2025/11/Ignite-Thumbnail.png
ORGANIZER;CN="Nate Lesher":MAILTO:natelesheragcwh@gmail.com
END:VEVENT
BEGIN:VEVENT
DTSTART;TZID=America/New_York:20290730T180000
DTEND;TZID=America/New_York:20290730T200000
DTSTAMP:20260424T094442
CREATED:20251113T011933Z
LAST-MODIFIED:20251114T140508Z
UID:10000413-1880128800-1880136000@abundantgracechurchwh.org
SUMMARY:Student Ministry
DESCRIPTION:Join us for a time filled with energy\, games\, and genuine community. It’s a place to have lots of fun and feel like you belong. We take time to worship and explore who Jesus is and what He teaches.
URL:https://abundantgracechurchwh.org/event/student-ministry/2029-07-30/
LOCATION:Abundant Grace Church West Hills\, 1798 Brodhead Road\, Crescent\, 15046\, United States
CATEGORIES:Ministry
ATTACH;FMTTYPE=image/png:https://abundantgracechurchwh.org/wp-content/uploads/2025/11/Ignite-Thumbnail.png
ORGANIZER;CN="Nate Lesher":MAILTO:natelesheragcwh@gmail.com
END:VEVENT
BEGIN:VEVENT
DTSTART;TZID=America/New_York:20290806T180000
DTEND;TZID=America/New_York:20290806T200000
DTSTAMP:20260424T094442
CREATED:20251113T011933Z
LAST-MODIFIED:20251114T140508Z
UID:10000414-1880733600-1880740800@abundantgracechurchwh.org
SUMMARY:Student Ministry
DESCRIPTION:Join us for a time filled with energy\, games\, and genuine community. It’s a place to have lots of fun and feel like you belong. We take time to worship and explore who Jesus is and what He teaches.
URL:https://abundantgracechurchwh.org/event/student-ministry/2029-08-06/
LOCATION:Abundant Grace Church West Hills\, 1798 Brodhead Road\, Crescent\, 15046\, United States
CATEGORIES:Ministry
ATTACH;FMTTYPE=image/png:https://abundantgracechurchwh.org/wp-content/uploads/2025/11/Ignite-Thumbnail.png
ORGANIZER;CN="Nate Lesher":MAILTO:natelesheragcwh@gmail.com
END:VEVENT
BEGIN:VEVENT
DTSTART;TZID=America/New_York:20290813T180000
DTEND;TZID=America/New_York:20290813T200000
DTSTAMP:20260424T094442
CREATED:20251113T011933Z
LAST-MODIFIED:20251114T140508Z
UID:10000415-1881338400-1881345600@abundantgracechurchwh.org
SUMMARY:Student Ministry
DESCRIPTION:Join us for a time filled with energy\, games\, and genuine community. It’s a place to have lots of fun and feel like you belong. We take time to worship and explore who Jesus is and what He teaches.
URL:https://abundantgracechurchwh.org/event/student-ministry/2029-08-13/
LOCATION:Abundant Grace Church West Hills\, 1798 Brodhead Road\, Crescent\, 15046\, United States
CATEGORIES:Ministry
ATTACH;FMTTYPE=image/png:https://abundantgracechurchwh.org/wp-content/uploads/2025/11/Ignite-Thumbnail.png
ORGANIZER;CN="Nate Lesher":MAILTO:natelesheragcwh@gmail.com
END:VEVENT
BEGIN:VEVENT
DTSTART;TZID=America/New_York:20290820T180000
DTEND;TZID=America/New_York:20290820T200000
DTSTAMP:20260424T094442
CREATED:20251113T011933Z
LAST-MODIFIED:20251114T140508Z
UID:10000416-1881943200-1881950400@abundantgracechurchwh.org
SUMMARY:Student Ministry
DESCRIPTION:Join us for a time filled with energy\, games\, and genuine community. It’s a place to have lots of fun and feel like you belong. We take time to worship and explore who Jesus is and what He teaches.
URL:https://abundantgracechurchwh.org/event/student-ministry/2029-08-20/
LOCATION:Abundant Grace Church West Hills\, 1798 Brodhead Road\, Crescent\, 15046\, United States
CATEGORIES:Ministry
ATTACH;FMTTYPE=image/png:https://abundantgracechurchwh.org/wp-content/uploads/2025/11/Ignite-Thumbnail.png
ORGANIZER;CN="Nate Lesher":MAILTO:natelesheragcwh@gmail.com
END:VEVENT
BEGIN:VEVENT
DTSTART;TZID=America/New_York:20290827T180000
DTEND;TZID=America/New_York:20290827T200000
DTSTAMP:20260424T094442
CREATED:20251113T011933Z
LAST-MODIFIED:20251114T140508Z
UID:10000417-1882548000-1882555200@abundantgracechurchwh.org
SUMMARY:Student Ministry
DESCRIPTION:Join us for a time filled with energy\, games\, and genuine community. It’s a place to have lots of fun and feel like you belong. We take time to worship and explore who Jesus is and what He teaches.
URL:https://abundantgracechurchwh.org/event/student-ministry/2029-08-27/
LOCATION:Abundant Grace Church West Hills\, 1798 Brodhead Road\, Crescent\, 15046\, United States
CATEGORIES:Ministry
ATTACH;FMTTYPE=image/png:https://abundantgracechurchwh.org/wp-content/uploads/2025/11/Ignite-Thumbnail.png
ORGANIZER;CN="Nate Lesher":MAILTO:natelesheragcwh@gmail.com
END:VEVENT
BEGIN:VEVENT
DTSTART;TZID=America/New_York:20290903T180000
DTEND;TZID=America/New_York:20290903T200000
DTSTAMP:20260424T094442
CREATED:20251113T011933Z
LAST-MODIFIED:20251114T140508Z
UID:10000418-1883152800-1883160000@abundantgracechurchwh.org
SUMMARY:Student Ministry
DESCRIPTION:Join us for a time filled with energy\, games\, and genuine community. It’s a place to have lots of fun and feel like you belong. We take time to worship and explore who Jesus is and what He teaches.
URL:https://abundantgracechurchwh.org/event/student-ministry/2029-09-03/
LOCATION:Abundant Grace Church West Hills\, 1798 Brodhead Road\, Crescent\, 15046\, United States
CATEGORIES:Ministry
ATTACH;FMTTYPE=image/png:https://abundantgracechurchwh.org/wp-content/uploads/2025/11/Ignite-Thumbnail.png
ORGANIZER;CN="Nate Lesher":MAILTO:natelesheragcwh@gmail.com
END:VEVENT
BEGIN:VEVENT
DTSTART;TZID=America/New_York:20290910T180000
DTEND;TZID=America/New_York:20290910T200000
DTSTAMP:20260424T094442
CREATED:20251113T011933Z
LAST-MODIFIED:20251114T140508Z
UID:10000419-1883757600-1883764800@abundantgracechurchwh.org
SUMMARY:Student Ministry
DESCRIPTION:Join us for a time filled with energy\, games\, and genuine community. It’s a place to have lots of fun and feel like you belong. We take time to worship and explore who Jesus is and what He teaches.
URL:https://abundantgracechurchwh.org/event/student-ministry/2029-09-10/
LOCATION:Abundant Grace Church West Hills\, 1798 Brodhead Road\, Crescent\, 15046\, United States
CATEGORIES:Ministry
ATTACH;FMTTYPE=image/png:https://abundantgracechurchwh.org/wp-content/uploads/2025/11/Ignite-Thumbnail.png
ORGANIZER;CN="Nate Lesher":MAILTO:natelesheragcwh@gmail.com
END:VEVENT
BEGIN:VEVENT
DTSTART;TZID=America/New_York:20290917T180000
DTEND;TZID=America/New_York:20290917T200000
DTSTAMP:20260424T094442
CREATED:20251113T011933Z
LAST-MODIFIED:20251114T140508Z
UID:10000420-1884362400-1884369600@abundantgracechurchwh.org
SUMMARY:Student Ministry
DESCRIPTION:Join us for a time filled with energy\, games\, and genuine community. It’s a place to have lots of fun and feel like you belong. We take time to worship and explore who Jesus is and what He teaches.
URL:https://abundantgracechurchwh.org/event/student-ministry/2029-09-17/
LOCATION:Abundant Grace Church West Hills\, 1798 Brodhead Road\, Crescent\, 15046\, United States
CATEGORIES:Ministry
ATTACH;FMTTYPE=image/png:https://abundantgracechurchwh.org/wp-content/uploads/2025/11/Ignite-Thumbnail.png
ORGANIZER;CN="Nate Lesher":MAILTO:natelesheragcwh@gmail.com
END:VEVENT
BEGIN:VEVENT
DTSTART;TZID=America/New_York:20290924T180000
DTEND;TZID=America/New_York:20290924T200000
DTSTAMP:20260424T094442
CREATED:20251113T011933Z
LAST-MODIFIED:20251114T140508Z
UID:10000421-1884967200-1884974400@abundantgracechurchwh.org
SUMMARY:Student Ministry
DESCRIPTION:Join us for a time filled with energy\, games\, and genuine community. It’s a place to have lots of fun and feel like you belong. We take time to worship and explore who Jesus is and what He teaches.
URL:https://abundantgracechurchwh.org/event/student-ministry/2029-09-24/
LOCATION:Abundant Grace Church West Hills\, 1798 Brodhead Road\, Crescent\, 15046\, United States
CATEGORIES:Ministry
ATTACH;FMTTYPE=image/png:https://abundantgracechurchwh.org/wp-content/uploads/2025/11/Ignite-Thumbnail.png
ORGANIZER;CN="Nate Lesher":MAILTO:natelesheragcwh@gmail.com
END:VEVENT
BEGIN:VEVENT
DTSTART;TZID=America/New_York:20291001T180000
DTEND;TZID=America/New_York:20291001T200000
DTSTAMP:20260424T094442
CREATED:20251113T011933Z
LAST-MODIFIED:20251114T140508Z
UID:10000422-1885572000-1885579200@abundantgracechurchwh.org
SUMMARY:Student Ministry
DESCRIPTION:Join us for a time filled with energy\, games\, and genuine community. It’s a place to have lots of fun and feel like you belong. We take time to worship and explore who Jesus is and what He teaches.
URL:https://abundantgracechurchwh.org/event/student-ministry/2029-10-01/
LOCATION:Abundant Grace Church West Hills\, 1798 Brodhead Road\, Crescent\, 15046\, United States
CATEGORIES:Ministry
ATTACH;FMTTYPE=image/png:https://abundantgracechurchwh.org/wp-content/uploads/2025/11/Ignite-Thumbnail.png
ORGANIZER;CN="Nate Lesher":MAILTO:natelesheragcwh@gmail.com
END:VEVENT
BEGIN:VEVENT
DTSTART;TZID=America/New_York:20291008T180000
DTEND;TZID=America/New_York:20291008T200000
DTSTAMP:20260424T094442
CREATED:20251113T011933Z
LAST-MODIFIED:20251114T140508Z
UID:10000423-1886176800-1886184000@abundantgracechurchwh.org
SUMMARY:Student Ministry
DESCRIPTION:Join us for a time filled with energy\, games\, and genuine community. It’s a place to have lots of fun and feel like you belong. We take time to worship and explore who Jesus is and what He teaches.
URL:https://abundantgracechurchwh.org/event/student-ministry/2029-10-08/
LOCATION:Abundant Grace Church West Hills\, 1798 Brodhead Road\, Crescent\, 15046\, United States
CATEGORIES:Ministry
ATTACH;FMTTYPE=image/png:https://abundantgracechurchwh.org/wp-content/uploads/2025/11/Ignite-Thumbnail.png
ORGANIZER;CN="Nate Lesher":MAILTO:natelesheragcwh@gmail.com
END:VEVENT
BEGIN:VEVENT
DTSTART;TZID=America/New_York:20291015T180000
DTEND;TZID=America/New_York:20291015T200000
DTSTAMP:20260424T094442
CREATED:20251113T011933Z
LAST-MODIFIED:20251114T140508Z
UID:10000424-1886781600-1886788800@abundantgracechurchwh.org
SUMMARY:Student Ministry
DESCRIPTION:Join us for a time filled with energy\, games\, and genuine community. It’s a place to have lots of fun and feel like you belong. We take time to worship and explore who Jesus is and what He teaches.
URL:https://abundantgracechurchwh.org/event/student-ministry/2029-10-15/
LOCATION:Abundant Grace Church West Hills\, 1798 Brodhead Road\, Crescent\, 15046\, United States
CATEGORIES:Ministry
ATTACH;FMTTYPE=image/png:https://abundantgracechurchwh.org/wp-content/uploads/2025/11/Ignite-Thumbnail.png
ORGANIZER;CN="Nate Lesher":MAILTO:natelesheragcwh@gmail.com
END:VEVENT
BEGIN:VEVENT
DTSTART;TZID=America/New_York:20291022T180000
DTEND;TZID=America/New_York:20291022T200000
DTSTAMP:20260424T094442
CREATED:20251113T011933Z
LAST-MODIFIED:20251114T140508Z
UID:10000425-1887386400-1887393600@abundantgracechurchwh.org
SUMMARY:Student Ministry
DESCRIPTION:Join us for a time filled with energy\, games\, and genuine community. It’s a place to have lots of fun and feel like you belong. We take time to worship and explore who Jesus is and what He teaches.
URL:https://abundantgracechurchwh.org/event/student-ministry/2029-10-22/
LOCATION:Abundant Grace Church West Hills\, 1798 Brodhead Road\, Crescent\, 15046\, United States
CATEGORIES:Ministry
ATTACH;FMTTYPE=image/png:https://abundantgracechurchwh.org/wp-content/uploads/2025/11/Ignite-Thumbnail.png
ORGANIZER;CN="Nate Lesher":MAILTO:natelesheragcwh@gmail.com
END:VEVENT
BEGIN:VEVENT
DTSTART;TZID=America/New_York:20291029T180000
DTEND;TZID=America/New_York:20291029T200000
DTSTAMP:20260424T094442
CREATED:20251113T011933Z
LAST-MODIFIED:20251114T140508Z
UID:10000426-1887991200-1887998400@abundantgracechurchwh.org
SUMMARY:Student Ministry
DESCRIPTION:Join us for a time filled with energy\, games\, and genuine community. It’s a place to have lots of fun and feel like you belong. We take time to worship and explore who Jesus is and what He teaches.
URL:https://abundantgracechurchwh.org/event/student-ministry/2029-10-29/
LOCATION:Abundant Grace Church West Hills\, 1798 Brodhead Road\, Crescent\, 15046\, United States
CATEGORIES:Ministry
ATTACH;FMTTYPE=image/png:https://abundantgracechurchwh.org/wp-content/uploads/2025/11/Ignite-Thumbnail.png
ORGANIZER;CN="Nate Lesher":MAILTO:natelesheragcwh@gmail.com
END:VEVENT
BEGIN:VEVENT
DTSTART;TZID=America/New_York:20291105T180000
DTEND;TZID=America/New_York:20291105T200000
DTSTAMP:20260424T094442
CREATED:20251113T011933Z
LAST-MODIFIED:20251114T140508Z
UID:10000427-1888596000-1888603200@abundantgracechurchwh.org
SUMMARY:Student Ministry
DESCRIPTION:Join us for a time filled with energy\, games\, and genuine community. It’s a place to have lots of fun and feel like you belong. We take time to worship and explore who Jesus is and what He teaches.
URL:https://abundantgracechurchwh.org/event/student-ministry/2029-11-05/
LOCATION:Abundant Grace Church West Hills\, 1798 Brodhead Road\, Crescent\, 15046\, United States
CATEGORIES:Ministry
ATTACH;FMTTYPE=image/png:https://abundantgracechurchwh.org/wp-content/uploads/2025/11/Ignite-Thumbnail.png
ORGANIZER;CN="Nate Lesher":MAILTO:natelesheragcwh@gmail.com
END:VEVENT
BEGIN:VEVENT
DTSTART;TZID=America/New_York:20291112T180000
DTEND;TZID=America/New_York:20291112T200000
DTSTAMP:20260424T094442
CREATED:20251113T011933Z
LAST-MODIFIED:20251114T140508Z
UID:10000428-1889200800-1889208000@abundantgracechurchwh.org
SUMMARY:Student Ministry
DESCRIPTION:Join us for a time filled with energy\, games\, and genuine community. It’s a place to have lots of fun and feel like you belong. We take time to worship and explore who Jesus is and what He teaches.
URL:https://abundantgracechurchwh.org/event/student-ministry/2029-11-12/
LOCATION:Abundant Grace Church West Hills\, 1798 Brodhead Road\, Crescent\, 15046\, United States
CATEGORIES:Ministry
ATTACH;FMTTYPE=image/png:https://abundantgracechurchwh.org/wp-content/uploads/2025/11/Ignite-Thumbnail.png
ORGANIZER;CN="Nate Lesher":MAILTO:natelesheragcwh@gmail.com
END:VEVENT
END:VCALENDAR