BEGIN:VCALENDAR
VERSION:2.0
PRODID:-//Abundant Grace Church West Hills - ECPv6.15.13//NONSGML v1.0//EN
CALSCALE:GREGORIAN
METHOD:PUBLISH
X-ORIGINAL-URL:https://abundantgracechurchwh.org
X-WR-CALDESC:Events for Abundant Grace Church West Hills
REFRESH-INTERVAL;VALUE=DURATION:PT1H
X-Robots-Tag:noindex
X-PUBLISHED-TTL:PT1H
BEGIN:VTIMEZONE
TZID:America/New_York
BEGIN:DAYLIGHT
TZOFFSETFROM:-0500
TZOFFSETTO:-0400
TZNAME:EDT
DTSTART:20290311T070000
END:DAYLIGHT
BEGIN:STANDARD
TZOFFSETFROM:-0400
TZOFFSETTO:-0500
TZNAME:EST
DTSTART:20291104T060000
END:STANDARD
BEGIN:DAYLIGHT
TZOFFSETFROM:-0500
TZOFFSETTO:-0400
TZNAME:EDT
DTSTART:20300310T070000
END:DAYLIGHT
BEGIN:STANDARD
TZOFFSETFROM:-0400
TZOFFSETTO:-0500
TZNAME:EST
DTSTART:20301103T060000
END:STANDARD
BEGIN:DAYLIGHT
TZOFFSETFROM:-0500
TZOFFSETTO:-0400
TZNAME:EDT
DTSTART:20310309T070000
END:DAYLIGHT
BEGIN:STANDARD
TZOFFSETFROM:-0400
TZOFFSETTO:-0500
TZNAME:EST
DTSTART:20311102T060000
END:STANDARD
END:VTIMEZONE
BEGIN:VEVENT
DTSTART;TZID=America/New_York:20300909T180000
DTEND;TZID=America/New_York:20300909T200000
DTSTAMP:20260424T183848
CREATED:20251113T011933Z
LAST-MODIFIED:20251114T140508Z
UID:10000471-1915207200-1915214400@abundantgracechurchwh.org
SUMMARY:Student Ministry
DESCRIPTION:Join us for a time filled with energy\, games\, and genuine community. It’s a place to have lots of fun and feel like you belong. We take time to worship and explore who Jesus is and what He teaches.
URL:https://abundantgracechurchwh.org/event/student-ministry/2030-09-09/
LOCATION:Abundant Grace Church West Hills\, 1798 Brodhead Road\, Crescent\, 15046\, United States
CATEGORIES:Ministry
ATTACH;FMTTYPE=image/png:https://abundantgracechurchwh.org/wp-content/uploads/2025/11/Ignite-Thumbnail.png
ORGANIZER;CN="Nate Lesher":MAILTO:natelesheragcwh@gmail.com
END:VEVENT
BEGIN:VEVENT
DTSTART;TZID=America/New_York:20300916T180000
DTEND;TZID=America/New_York:20300916T200000
DTSTAMP:20260424T183848
CREATED:20251113T011933Z
LAST-MODIFIED:20251114T140508Z
UID:10000472-1915812000-1915819200@abundantgracechurchwh.org
SUMMARY:Student Ministry
DESCRIPTION:Join us for a time filled with energy\, games\, and genuine community. It’s a place to have lots of fun and feel like you belong. We take time to worship and explore who Jesus is and what He teaches.
URL:https://abundantgracechurchwh.org/event/student-ministry/2030-09-16/
LOCATION:Abundant Grace Church West Hills\, 1798 Brodhead Road\, Crescent\, 15046\, United States
CATEGORIES:Ministry
ATTACH;FMTTYPE=image/png:https://abundantgracechurchwh.org/wp-content/uploads/2025/11/Ignite-Thumbnail.png
ORGANIZER;CN="Nate Lesher":MAILTO:natelesheragcwh@gmail.com
END:VEVENT
BEGIN:VEVENT
DTSTART;TZID=America/New_York:20300923T180000
DTEND;TZID=America/New_York:20300923T200000
DTSTAMP:20260424T183848
CREATED:20251113T011933Z
LAST-MODIFIED:20251114T140508Z
UID:10000473-1916416800-1916424000@abundantgracechurchwh.org
SUMMARY:Student Ministry
DESCRIPTION:Join us for a time filled with energy\, games\, and genuine community. It’s a place to have lots of fun and feel like you belong. We take time to worship and explore who Jesus is and what He teaches.
URL:https://abundantgracechurchwh.org/event/student-ministry/2030-09-23/
LOCATION:Abundant Grace Church West Hills\, 1798 Brodhead Road\, Crescent\, 15046\, United States
CATEGORIES:Ministry
ATTACH;FMTTYPE=image/png:https://abundantgracechurchwh.org/wp-content/uploads/2025/11/Ignite-Thumbnail.png
ORGANIZER;CN="Nate Lesher":MAILTO:natelesheragcwh@gmail.com
END:VEVENT
BEGIN:VEVENT
DTSTART;TZID=America/New_York:20300930T180000
DTEND;TZID=America/New_York:20300930T200000
DTSTAMP:20260424T183848
CREATED:20251113T011933Z
LAST-MODIFIED:20251114T140508Z
UID:10000474-1917021600-1917028800@abundantgracechurchwh.org
SUMMARY:Student Ministry
DESCRIPTION:Join us for a time filled with energy\, games\, and genuine community. It’s a place to have lots of fun and feel like you belong. We take time to worship and explore who Jesus is and what He teaches.
URL:https://abundantgracechurchwh.org/event/student-ministry/2030-09-30/
LOCATION:Abundant Grace Church West Hills\, 1798 Brodhead Road\, Crescent\, 15046\, United States
CATEGORIES:Ministry
ATTACH;FMTTYPE=image/png:https://abundantgracechurchwh.org/wp-content/uploads/2025/11/Ignite-Thumbnail.png
ORGANIZER;CN="Nate Lesher":MAILTO:natelesheragcwh@gmail.com
END:VEVENT
BEGIN:VEVENT
DTSTART;TZID=America/New_York:20301007T180000
DTEND;TZID=America/New_York:20301007T200000
DTSTAMP:20260424T183848
CREATED:20251113T011933Z
LAST-MODIFIED:20251114T140508Z
UID:10000475-1917626400-1917633600@abundantgracechurchwh.org
SUMMARY:Student Ministry
DESCRIPTION:Join us for a time filled with energy\, games\, and genuine community. It’s a place to have lots of fun and feel like you belong. We take time to worship and explore who Jesus is and what He teaches.
URL:https://abundantgracechurchwh.org/event/student-ministry/2030-10-07/
LOCATION:Abundant Grace Church West Hills\, 1798 Brodhead Road\, Crescent\, 15046\, United States
CATEGORIES:Ministry
ATTACH;FMTTYPE=image/png:https://abundantgracechurchwh.org/wp-content/uploads/2025/11/Ignite-Thumbnail.png
ORGANIZER;CN="Nate Lesher":MAILTO:natelesheragcwh@gmail.com
END:VEVENT
BEGIN:VEVENT
DTSTART;TZID=America/New_York:20301014T180000
DTEND;TZID=America/New_York:20301014T200000
DTSTAMP:20260424T183848
CREATED:20251113T011933Z
LAST-MODIFIED:20251114T140508Z
UID:10000476-1918231200-1918238400@abundantgracechurchwh.org
SUMMARY:Student Ministry
DESCRIPTION:Join us for a time filled with energy\, games\, and genuine community. It’s a place to have lots of fun and feel like you belong. We take time to worship and explore who Jesus is and what He teaches.
URL:https://abundantgracechurchwh.org/event/student-ministry/2030-10-14/
LOCATION:Abundant Grace Church West Hills\, 1798 Brodhead Road\, Crescent\, 15046\, United States
CATEGORIES:Ministry
ATTACH;FMTTYPE=image/png:https://abundantgracechurchwh.org/wp-content/uploads/2025/11/Ignite-Thumbnail.png
ORGANIZER;CN="Nate Lesher":MAILTO:natelesheragcwh@gmail.com
END:VEVENT
BEGIN:VEVENT
DTSTART;TZID=America/New_York:20301021T180000
DTEND;TZID=America/New_York:20301021T200000
DTSTAMP:20260424T183848
CREATED:20251113T011933Z
LAST-MODIFIED:20251114T140508Z
UID:10000477-1918836000-1918843200@abundantgracechurchwh.org
SUMMARY:Student Ministry
DESCRIPTION:Join us for a time filled with energy\, games\, and genuine community. It’s a place to have lots of fun and feel like you belong. We take time to worship and explore who Jesus is and what He teaches.
URL:https://abundantgracechurchwh.org/event/student-ministry/2030-10-21/
LOCATION:Abundant Grace Church West Hills\, 1798 Brodhead Road\, Crescent\, 15046\, United States
CATEGORIES:Ministry
ATTACH;FMTTYPE=image/png:https://abundantgracechurchwh.org/wp-content/uploads/2025/11/Ignite-Thumbnail.png
ORGANIZER;CN="Nate Lesher":MAILTO:natelesheragcwh@gmail.com
END:VEVENT
BEGIN:VEVENT
DTSTART;TZID=America/New_York:20301028T180000
DTEND;TZID=America/New_York:20301028T200000
DTSTAMP:20260424T183848
CREATED:20251113T011933Z
LAST-MODIFIED:20251114T140508Z
UID:10000478-1919440800-1919448000@abundantgracechurchwh.org
SUMMARY:Student Ministry
DESCRIPTION:Join us for a time filled with energy\, games\, and genuine community. It’s a place to have lots of fun and feel like you belong. We take time to worship and explore who Jesus is and what He teaches.
URL:https://abundantgracechurchwh.org/event/student-ministry/2030-10-28/
LOCATION:Abundant Grace Church West Hills\, 1798 Brodhead Road\, Crescent\, 15046\, United States
CATEGORIES:Ministry
ATTACH;FMTTYPE=image/png:https://abundantgracechurchwh.org/wp-content/uploads/2025/11/Ignite-Thumbnail.png
ORGANIZER;CN="Nate Lesher":MAILTO:natelesheragcwh@gmail.com
END:VEVENT
BEGIN:VEVENT
DTSTART;TZID=America/New_York:20301104T180000
DTEND;TZID=America/New_York:20301104T200000
DTSTAMP:20260424T183848
CREATED:20251113T011933Z
LAST-MODIFIED:20251114T140508Z
UID:10000479-1920045600-1920052800@abundantgracechurchwh.org
SUMMARY:Student Ministry
DESCRIPTION:Join us for a time filled with energy\, games\, and genuine community. It’s a place to have lots of fun and feel like you belong. We take time to worship and explore who Jesus is and what He teaches.
URL:https://abundantgracechurchwh.org/event/student-ministry/2030-11-04/
LOCATION:Abundant Grace Church West Hills\, 1798 Brodhead Road\, Crescent\, 15046\, United States
CATEGORIES:Ministry
ATTACH;FMTTYPE=image/png:https://abundantgracechurchwh.org/wp-content/uploads/2025/11/Ignite-Thumbnail.png
ORGANIZER;CN="Nate Lesher":MAILTO:natelesheragcwh@gmail.com
END:VEVENT
BEGIN:VEVENT
DTSTART;TZID=America/New_York:20301111T180000
DTEND;TZID=America/New_York:20301111T200000
DTSTAMP:20260424T183848
CREATED:20251113T011933Z
LAST-MODIFIED:20251114T140508Z
UID:10000480-1920650400-1920657600@abundantgracechurchwh.org
SUMMARY:Student Ministry
DESCRIPTION:Join us for a time filled with energy\, games\, and genuine community. It’s a place to have lots of fun and feel like you belong. We take time to worship and explore who Jesus is and what He teaches.
URL:https://abundantgracechurchwh.org/event/student-ministry/2030-11-11/
LOCATION:Abundant Grace Church West Hills\, 1798 Brodhead Road\, Crescent\, 15046\, United States
CATEGORIES:Ministry
ATTACH;FMTTYPE=image/png:https://abundantgracechurchwh.org/wp-content/uploads/2025/11/Ignite-Thumbnail.png
ORGANIZER;CN="Nate Lesher":MAILTO:natelesheragcwh@gmail.com
END:VEVENT
END:VCALENDAR