BEGIN:VCALENDAR
VERSION:2.0
PRODID:-//Abundant Grace Church West Hills - ECPv6.15.13//NONSGML v1.0//EN
CALSCALE:GREGORIAN
METHOD:PUBLISH
X-ORIGINAL-URL:https://abundantgracechurchwh.org
X-WR-CALDESC:Events for Abundant Grace Church West Hills
REFRESH-INTERVAL;VALUE=DURATION:PT1H
X-Robots-Tag:noindex
X-PUBLISHED-TTL:PT1H
BEGIN:VTIMEZONE
TZID:America/New_York
BEGIN:DAYLIGHT
TZOFFSETFROM:-0500
TZOFFSETTO:-0400
TZNAME:EDT
DTSTART:20270314T070000
END:DAYLIGHT
BEGIN:STANDARD
TZOFFSETFROM:-0400
TZOFFSETTO:-0500
TZNAME:EST
DTSTART:20271107T060000
END:STANDARD
BEGIN:DAYLIGHT
TZOFFSETFROM:-0500
TZOFFSETTO:-0400
TZNAME:EDT
DTSTART:20280312T070000
END:DAYLIGHT
BEGIN:STANDARD
TZOFFSETFROM:-0400
TZOFFSETTO:-0500
TZNAME:EST
DTSTART:20281105T060000
END:STANDARD
BEGIN:DAYLIGHT
TZOFFSETFROM:-0500
TZOFFSETTO:-0400
TZNAME:EDT
DTSTART:20290311T070000
END:DAYLIGHT
BEGIN:STANDARD
TZOFFSETFROM:-0400
TZOFFSETTO:-0500
TZNAME:EST
DTSTART:20291104T060000
END:STANDARD
END:VTIMEZONE
BEGIN:VEVENT
DTSTART;TZID=America/New_York:20280228T180000
DTEND;TZID=America/New_York:20280228T200000
DTSTAMP:20260424T020254
CREATED:20251113T011933Z
LAST-MODIFIED:20251114T140508Z
UID:10000339-1835373600-1835380800@abundantgracechurchwh.org
SUMMARY:Student Ministry
DESCRIPTION:Join us for a time filled with energy\, games\, and genuine community. It’s a place to have lots of fun and feel like you belong. We take time to worship and explore who Jesus is and what He teaches.
URL:https://abundantgracechurchwh.org/event/student-ministry/2028-02-28/
LOCATION:Abundant Grace Church West Hills\, 1798 Brodhead Road\, Crescent\, 15046\, United States
CATEGORIES:Ministry
ATTACH;FMTTYPE=image/png:https://abundantgracechurchwh.org/wp-content/uploads/2025/11/Ignite-Thumbnail.png
ORGANIZER;CN="Nate Lesher":MAILTO:natelesheragcwh@gmail.com
END:VEVENT
BEGIN:VEVENT
DTSTART;TZID=America/New_York:20280306T180000
DTEND;TZID=America/New_York:20280306T200000
DTSTAMP:20260424T020254
CREATED:20251113T011933Z
LAST-MODIFIED:20251114T140508Z
UID:10000340-1835978400-1835985600@abundantgracechurchwh.org
SUMMARY:Student Ministry
DESCRIPTION:Join us for a time filled with energy\, games\, and genuine community. It’s a place to have lots of fun and feel like you belong. We take time to worship and explore who Jesus is and what He teaches.
URL:https://abundantgracechurchwh.org/event/student-ministry/2028-03-06/
LOCATION:Abundant Grace Church West Hills\, 1798 Brodhead Road\, Crescent\, 15046\, United States
CATEGORIES:Ministry
ATTACH;FMTTYPE=image/png:https://abundantgracechurchwh.org/wp-content/uploads/2025/11/Ignite-Thumbnail.png
ORGANIZER;CN="Nate Lesher":MAILTO:natelesheragcwh@gmail.com
END:VEVENT
BEGIN:VEVENT
DTSTART;TZID=America/New_York:20280313T180000
DTEND;TZID=America/New_York:20280313T200000
DTSTAMP:20260424T020254
CREATED:20251113T011933Z
LAST-MODIFIED:20251114T140508Z
UID:10000341-1836583200-1836590400@abundantgracechurchwh.org
SUMMARY:Student Ministry
DESCRIPTION:Join us for a time filled with energy\, games\, and genuine community. It’s a place to have lots of fun and feel like you belong. We take time to worship and explore who Jesus is and what He teaches.
URL:https://abundantgracechurchwh.org/event/student-ministry/2028-03-13/
LOCATION:Abundant Grace Church West Hills\, 1798 Brodhead Road\, Crescent\, 15046\, United States
CATEGORIES:Ministry
ATTACH;FMTTYPE=image/png:https://abundantgracechurchwh.org/wp-content/uploads/2025/11/Ignite-Thumbnail.png
ORGANIZER;CN="Nate Lesher":MAILTO:natelesheragcwh@gmail.com
END:VEVENT
BEGIN:VEVENT
DTSTART;TZID=America/New_York:20280320T180000
DTEND;TZID=America/New_York:20280320T200000
DTSTAMP:20260424T020254
CREATED:20251113T011933Z
LAST-MODIFIED:20251114T140508Z
UID:10000342-1837188000-1837195200@abundantgracechurchwh.org
SUMMARY:Student Ministry
DESCRIPTION:Join us for a time filled with energy\, games\, and genuine community. It’s a place to have lots of fun and feel like you belong. We take time to worship and explore who Jesus is and what He teaches.
URL:https://abundantgracechurchwh.org/event/student-ministry/2028-03-20/
LOCATION:Abundant Grace Church West Hills\, 1798 Brodhead Road\, Crescent\, 15046\, United States
CATEGORIES:Ministry
ATTACH;FMTTYPE=image/png:https://abundantgracechurchwh.org/wp-content/uploads/2025/11/Ignite-Thumbnail.png
ORGANIZER;CN="Nate Lesher":MAILTO:natelesheragcwh@gmail.com
END:VEVENT
BEGIN:VEVENT
DTSTART;TZID=America/New_York:20280327T180000
DTEND;TZID=America/New_York:20280327T200000
DTSTAMP:20260424T020254
CREATED:20251113T011933Z
LAST-MODIFIED:20251114T140508Z
UID:10000343-1837792800-1837800000@abundantgracechurchwh.org
SUMMARY:Student Ministry
DESCRIPTION:Join us for a time filled with energy\, games\, and genuine community. It’s a place to have lots of fun and feel like you belong. We take time to worship and explore who Jesus is and what He teaches.
URL:https://abundantgracechurchwh.org/event/student-ministry/2028-03-27/
LOCATION:Abundant Grace Church West Hills\, 1798 Brodhead Road\, Crescent\, 15046\, United States
CATEGORIES:Ministry
ATTACH;FMTTYPE=image/png:https://abundantgracechurchwh.org/wp-content/uploads/2025/11/Ignite-Thumbnail.png
ORGANIZER;CN="Nate Lesher":MAILTO:natelesheragcwh@gmail.com
END:VEVENT
BEGIN:VEVENT
DTSTART;TZID=America/New_York:20280403T180000
DTEND;TZID=America/New_York:20280403T200000
DTSTAMP:20260424T020254
CREATED:20251113T011933Z
LAST-MODIFIED:20251114T140508Z
UID:10000344-1838397600-1838404800@abundantgracechurchwh.org
SUMMARY:Student Ministry
DESCRIPTION:Join us for a time filled with energy\, games\, and genuine community. It’s a place to have lots of fun and feel like you belong. We take time to worship and explore who Jesus is and what He teaches.
URL:https://abundantgracechurchwh.org/event/student-ministry/2028-04-03/
LOCATION:Abundant Grace Church West Hills\, 1798 Brodhead Road\, Crescent\, 15046\, United States
CATEGORIES:Ministry
ATTACH;FMTTYPE=image/png:https://abundantgracechurchwh.org/wp-content/uploads/2025/11/Ignite-Thumbnail.png
ORGANIZER;CN="Nate Lesher":MAILTO:natelesheragcwh@gmail.com
END:VEVENT
BEGIN:VEVENT
DTSTART;TZID=America/New_York:20280410T180000
DTEND;TZID=America/New_York:20280410T200000
DTSTAMP:20260424T020254
CREATED:20251113T011933Z
LAST-MODIFIED:20251114T140508Z
UID:10000345-1839002400-1839009600@abundantgracechurchwh.org
SUMMARY:Student Ministry
DESCRIPTION:Join us for a time filled with energy\, games\, and genuine community. It’s a place to have lots of fun and feel like you belong. We take time to worship and explore who Jesus is and what He teaches.
URL:https://abundantgracechurchwh.org/event/student-ministry/2028-04-10/
LOCATION:Abundant Grace Church West Hills\, 1798 Brodhead Road\, Crescent\, 15046\, United States
CATEGORIES:Ministry
ATTACH;FMTTYPE=image/png:https://abundantgracechurchwh.org/wp-content/uploads/2025/11/Ignite-Thumbnail.png
ORGANIZER;CN="Nate Lesher":MAILTO:natelesheragcwh@gmail.com
END:VEVENT
BEGIN:VEVENT
DTSTART;TZID=America/New_York:20280417T180000
DTEND;TZID=America/New_York:20280417T200000
DTSTAMP:20260424T020254
CREATED:20251113T011933Z
LAST-MODIFIED:20251114T140508Z
UID:10000346-1839607200-1839614400@abundantgracechurchwh.org
SUMMARY:Student Ministry
DESCRIPTION:Join us for a time filled with energy\, games\, and genuine community. It’s a place to have lots of fun and feel like you belong. We take time to worship and explore who Jesus is and what He teaches.
URL:https://abundantgracechurchwh.org/event/student-ministry/2028-04-17/
LOCATION:Abundant Grace Church West Hills\, 1798 Brodhead Road\, Crescent\, 15046\, United States
CATEGORIES:Ministry
ATTACH;FMTTYPE=image/png:https://abundantgracechurchwh.org/wp-content/uploads/2025/11/Ignite-Thumbnail.png
ORGANIZER;CN="Nate Lesher":MAILTO:natelesheragcwh@gmail.com
END:VEVENT
BEGIN:VEVENT
DTSTART;TZID=America/New_York:20280424T180000
DTEND;TZID=America/New_York:20280424T200000
DTSTAMP:20260424T020254
CREATED:20251113T011933Z
LAST-MODIFIED:20251114T140508Z
UID:10000347-1840212000-1840219200@abundantgracechurchwh.org
SUMMARY:Student Ministry
DESCRIPTION:Join us for a time filled with energy\, games\, and genuine community. It’s a place to have lots of fun and feel like you belong. We take time to worship and explore who Jesus is and what He teaches.
URL:https://abundantgracechurchwh.org/event/student-ministry/2028-04-24/
LOCATION:Abundant Grace Church West Hills\, 1798 Brodhead Road\, Crescent\, 15046\, United States
CATEGORIES:Ministry
ATTACH;FMTTYPE=image/png:https://abundantgracechurchwh.org/wp-content/uploads/2025/11/Ignite-Thumbnail.png
ORGANIZER;CN="Nate Lesher":MAILTO:natelesheragcwh@gmail.com
END:VEVENT
BEGIN:VEVENT
DTSTART;TZID=America/New_York:20280501T180000
DTEND;TZID=America/New_York:20280501T200000
DTSTAMP:20260424T020254
CREATED:20251113T011933Z
LAST-MODIFIED:20251114T140508Z
UID:10000348-1840816800-1840824000@abundantgracechurchwh.org
SUMMARY:Student Ministry
DESCRIPTION:Join us for a time filled with energy\, games\, and genuine community. It’s a place to have lots of fun and feel like you belong. We take time to worship and explore who Jesus is and what He teaches.
URL:https://abundantgracechurchwh.org/event/student-ministry/2028-05-01/
LOCATION:Abundant Grace Church West Hills\, 1798 Brodhead Road\, Crescent\, 15046\, United States
CATEGORIES:Ministry
ATTACH;FMTTYPE=image/png:https://abundantgracechurchwh.org/wp-content/uploads/2025/11/Ignite-Thumbnail.png
ORGANIZER;CN="Nate Lesher":MAILTO:natelesheragcwh@gmail.com
END:VEVENT
BEGIN:VEVENT
DTSTART;TZID=America/New_York:20280508T180000
DTEND;TZID=America/New_York:20280508T200000
DTSTAMP:20260424T020254
CREATED:20251113T011933Z
LAST-MODIFIED:20251114T140508Z
UID:10000349-1841421600-1841428800@abundantgracechurchwh.org
SUMMARY:Student Ministry
DESCRIPTION:Join us for a time filled with energy\, games\, and genuine community. It’s a place to have lots of fun and feel like you belong. We take time to worship and explore who Jesus is and what He teaches.
URL:https://abundantgracechurchwh.org/event/student-ministry/2028-05-08/
LOCATION:Abundant Grace Church West Hills\, 1798 Brodhead Road\, Crescent\, 15046\, United States
CATEGORIES:Ministry
ATTACH;FMTTYPE=image/png:https://abundantgracechurchwh.org/wp-content/uploads/2025/11/Ignite-Thumbnail.png
ORGANIZER;CN="Nate Lesher":MAILTO:natelesheragcwh@gmail.com
END:VEVENT
BEGIN:VEVENT
DTSTART;TZID=America/New_York:20280515T180000
DTEND;TZID=America/New_York:20280515T200000
DTSTAMP:20260424T020254
CREATED:20251113T011933Z
LAST-MODIFIED:20251114T140508Z
UID:10000350-1842026400-1842033600@abundantgracechurchwh.org
SUMMARY:Student Ministry
DESCRIPTION:Join us for a time filled with energy\, games\, and genuine community. It’s a place to have lots of fun and feel like you belong. We take time to worship and explore who Jesus is and what He teaches.
URL:https://abundantgracechurchwh.org/event/student-ministry/2028-05-15/
LOCATION:Abundant Grace Church West Hills\, 1798 Brodhead Road\, Crescent\, 15046\, United States
CATEGORIES:Ministry
ATTACH;FMTTYPE=image/png:https://abundantgracechurchwh.org/wp-content/uploads/2025/11/Ignite-Thumbnail.png
ORGANIZER;CN="Nate Lesher":MAILTO:natelesheragcwh@gmail.com
END:VEVENT
BEGIN:VEVENT
DTSTART;TZID=America/New_York:20280522T180000
DTEND;TZID=America/New_York:20280522T200000
DTSTAMP:20260424T020254
CREATED:20251113T011933Z
LAST-MODIFIED:20251114T140508Z
UID:10000351-1842631200-1842638400@abundantgracechurchwh.org
SUMMARY:Student Ministry
DESCRIPTION:Join us for a time filled with energy\, games\, and genuine community. It’s a place to have lots of fun and feel like you belong. We take time to worship and explore who Jesus is and what He teaches.
URL:https://abundantgracechurchwh.org/event/student-ministry/2028-05-22/
LOCATION:Abundant Grace Church West Hills\, 1798 Brodhead Road\, Crescent\, 15046\, United States
CATEGORIES:Ministry
ATTACH;FMTTYPE=image/png:https://abundantgracechurchwh.org/wp-content/uploads/2025/11/Ignite-Thumbnail.png
ORGANIZER;CN="Nate Lesher":MAILTO:natelesheragcwh@gmail.com
END:VEVENT
BEGIN:VEVENT
DTSTART;TZID=America/New_York:20280529T180000
DTEND;TZID=America/New_York:20280529T200000
DTSTAMP:20260424T020254
CREATED:20251113T011933Z
LAST-MODIFIED:20251114T140508Z
UID:10000352-1843236000-1843243200@abundantgracechurchwh.org
SUMMARY:Student Ministry
DESCRIPTION:Join us for a time filled with energy\, games\, and genuine community. It’s a place to have lots of fun and feel like you belong. We take time to worship and explore who Jesus is and what He teaches.
URL:https://abundantgracechurchwh.org/event/student-ministry/2028-05-29/
LOCATION:Abundant Grace Church West Hills\, 1798 Brodhead Road\, Crescent\, 15046\, United States
CATEGORIES:Ministry
ATTACH;FMTTYPE=image/png:https://abundantgracechurchwh.org/wp-content/uploads/2025/11/Ignite-Thumbnail.png
ORGANIZER;CN="Nate Lesher":MAILTO:natelesheragcwh@gmail.com
END:VEVENT
BEGIN:VEVENT
DTSTART;TZID=America/New_York:20280605T180000
DTEND;TZID=America/New_York:20280605T200000
DTSTAMP:20260424T020254
CREATED:20251113T011933Z
LAST-MODIFIED:20251114T140508Z
UID:10000353-1843840800-1843848000@abundantgracechurchwh.org
SUMMARY:Student Ministry
DESCRIPTION:Join us for a time filled with energy\, games\, and genuine community. It’s a place to have lots of fun and feel like you belong. We take time to worship and explore who Jesus is and what He teaches.
URL:https://abundantgracechurchwh.org/event/student-ministry/2028-06-05/
LOCATION:Abundant Grace Church West Hills\, 1798 Brodhead Road\, Crescent\, 15046\, United States
CATEGORIES:Ministry
ATTACH;FMTTYPE=image/png:https://abundantgracechurchwh.org/wp-content/uploads/2025/11/Ignite-Thumbnail.png
ORGANIZER;CN="Nate Lesher":MAILTO:natelesheragcwh@gmail.com
END:VEVENT
BEGIN:VEVENT
DTSTART;TZID=America/New_York:20280612T180000
DTEND;TZID=America/New_York:20280612T200000
DTSTAMP:20260424T020254
CREATED:20251113T011933Z
LAST-MODIFIED:20251114T140508Z
UID:10000354-1844445600-1844452800@abundantgracechurchwh.org
SUMMARY:Student Ministry
DESCRIPTION:Join us for a time filled with energy\, games\, and genuine community. It’s a place to have lots of fun and feel like you belong. We take time to worship and explore who Jesus is and what He teaches.
URL:https://abundantgracechurchwh.org/event/student-ministry/2028-06-12/
LOCATION:Abundant Grace Church West Hills\, 1798 Brodhead Road\, Crescent\, 15046\, United States
CATEGORIES:Ministry
ATTACH;FMTTYPE=image/png:https://abundantgracechurchwh.org/wp-content/uploads/2025/11/Ignite-Thumbnail.png
ORGANIZER;CN="Nate Lesher":MAILTO:natelesheragcwh@gmail.com
END:VEVENT
BEGIN:VEVENT
DTSTART;TZID=America/New_York:20280619T180000
DTEND;TZID=America/New_York:20280619T200000
DTSTAMP:20260424T020254
CREATED:20251113T011933Z
LAST-MODIFIED:20251114T140508Z
UID:10000355-1845050400-1845057600@abundantgracechurchwh.org
SUMMARY:Student Ministry
DESCRIPTION:Join us for a time filled with energy\, games\, and genuine community. It’s a place to have lots of fun and feel like you belong. We take time to worship and explore who Jesus is and what He teaches.
URL:https://abundantgracechurchwh.org/event/student-ministry/2028-06-19/
LOCATION:Abundant Grace Church West Hills\, 1798 Brodhead Road\, Crescent\, 15046\, United States
CATEGORIES:Ministry
ATTACH;FMTTYPE=image/png:https://abundantgracechurchwh.org/wp-content/uploads/2025/11/Ignite-Thumbnail.png
ORGANIZER;CN="Nate Lesher":MAILTO:natelesheragcwh@gmail.com
END:VEVENT
BEGIN:VEVENT
DTSTART;TZID=America/New_York:20280626T180000
DTEND;TZID=America/New_York:20280626T200000
DTSTAMP:20260424T020254
CREATED:20251113T011933Z
LAST-MODIFIED:20251114T140508Z
UID:10000356-1845655200-1845662400@abundantgracechurchwh.org
SUMMARY:Student Ministry
DESCRIPTION:Join us for a time filled with energy\, games\, and genuine community. It’s a place to have lots of fun and feel like you belong. We take time to worship and explore who Jesus is and what He teaches.
URL:https://abundantgracechurchwh.org/event/student-ministry/2028-06-26/
LOCATION:Abundant Grace Church West Hills\, 1798 Brodhead Road\, Crescent\, 15046\, United States
CATEGORIES:Ministry
ATTACH;FMTTYPE=image/png:https://abundantgracechurchwh.org/wp-content/uploads/2025/11/Ignite-Thumbnail.png
ORGANIZER;CN="Nate Lesher":MAILTO:natelesheragcwh@gmail.com
END:VEVENT
BEGIN:VEVENT
DTSTART;TZID=America/New_York:20280703T180000
DTEND;TZID=America/New_York:20280703T200000
DTSTAMP:20260424T020254
CREATED:20251113T011933Z
LAST-MODIFIED:20251114T140508Z
UID:10000357-1846260000-1846267200@abundantgracechurchwh.org
SUMMARY:Student Ministry
DESCRIPTION:Join us for a time filled with energy\, games\, and genuine community. It’s a place to have lots of fun and feel like you belong. We take time to worship and explore who Jesus is and what He teaches.
URL:https://abundantgracechurchwh.org/event/student-ministry/2028-07-03/
LOCATION:Abundant Grace Church West Hills\, 1798 Brodhead Road\, Crescent\, 15046\, United States
CATEGORIES:Ministry
ATTACH;FMTTYPE=image/png:https://abundantgracechurchwh.org/wp-content/uploads/2025/11/Ignite-Thumbnail.png
ORGANIZER;CN="Nate Lesher":MAILTO:natelesheragcwh@gmail.com
END:VEVENT
BEGIN:VEVENT
DTSTART;TZID=America/New_York:20280710T180000
DTEND;TZID=America/New_York:20280710T200000
DTSTAMP:20260424T020254
CREATED:20251113T011933Z
LAST-MODIFIED:20251114T140508Z
UID:10000358-1846864800-1846872000@abundantgracechurchwh.org
SUMMARY:Student Ministry
DESCRIPTION:Join us for a time filled with energy\, games\, and genuine community. It’s a place to have lots of fun and feel like you belong. We take time to worship and explore who Jesus is and what He teaches.
URL:https://abundantgracechurchwh.org/event/student-ministry/2028-07-10/
LOCATION:Abundant Grace Church West Hills\, 1798 Brodhead Road\, Crescent\, 15046\, United States
CATEGORIES:Ministry
ATTACH;FMTTYPE=image/png:https://abundantgracechurchwh.org/wp-content/uploads/2025/11/Ignite-Thumbnail.png
ORGANIZER;CN="Nate Lesher":MAILTO:natelesheragcwh@gmail.com
END:VEVENT
BEGIN:VEVENT
DTSTART;TZID=America/New_York:20280717T180000
DTEND;TZID=America/New_York:20280717T200000
DTSTAMP:20260424T020254
CREATED:20251113T011933Z
LAST-MODIFIED:20251114T140508Z
UID:10000359-1847469600-1847476800@abundantgracechurchwh.org
SUMMARY:Student Ministry
DESCRIPTION:Join us for a time filled with energy\, games\, and genuine community. It’s a place to have lots of fun and feel like you belong. We take time to worship and explore who Jesus is and what He teaches.
URL:https://abundantgracechurchwh.org/event/student-ministry/2028-07-17/
LOCATION:Abundant Grace Church West Hills\, 1798 Brodhead Road\, Crescent\, 15046\, United States
CATEGORIES:Ministry
ATTACH;FMTTYPE=image/png:https://abundantgracechurchwh.org/wp-content/uploads/2025/11/Ignite-Thumbnail.png
ORGANIZER;CN="Nate Lesher":MAILTO:natelesheragcwh@gmail.com
END:VEVENT
BEGIN:VEVENT
DTSTART;TZID=America/New_York:20280724T180000
DTEND;TZID=America/New_York:20280724T200000
DTSTAMP:20260424T020254
CREATED:20251113T011933Z
LAST-MODIFIED:20251114T140508Z
UID:10000360-1848074400-1848081600@abundantgracechurchwh.org
SUMMARY:Student Ministry
DESCRIPTION:Join us for a time filled with energy\, games\, and genuine community. It’s a place to have lots of fun and feel like you belong. We take time to worship and explore who Jesus is and what He teaches.
URL:https://abundantgracechurchwh.org/event/student-ministry/2028-07-24/
LOCATION:Abundant Grace Church West Hills\, 1798 Brodhead Road\, Crescent\, 15046\, United States
CATEGORIES:Ministry
ATTACH;FMTTYPE=image/png:https://abundantgracechurchwh.org/wp-content/uploads/2025/11/Ignite-Thumbnail.png
ORGANIZER;CN="Nate Lesher":MAILTO:natelesheragcwh@gmail.com
END:VEVENT
BEGIN:VEVENT
DTSTART;TZID=America/New_York:20280731T180000
DTEND;TZID=America/New_York:20280731T200000
DTSTAMP:20260424T020254
CREATED:20251113T011933Z
LAST-MODIFIED:20251114T140508Z
UID:10000361-1848679200-1848686400@abundantgracechurchwh.org
SUMMARY:Student Ministry
DESCRIPTION:Join us for a time filled with energy\, games\, and genuine community. It’s a place to have lots of fun and feel like you belong. We take time to worship and explore who Jesus is and what He teaches.
URL:https://abundantgracechurchwh.org/event/student-ministry/2028-07-31/
LOCATION:Abundant Grace Church West Hills\, 1798 Brodhead Road\, Crescent\, 15046\, United States
CATEGORIES:Ministry
ATTACH;FMTTYPE=image/png:https://abundantgracechurchwh.org/wp-content/uploads/2025/11/Ignite-Thumbnail.png
ORGANIZER;CN="Nate Lesher":MAILTO:natelesheragcwh@gmail.com
END:VEVENT
BEGIN:VEVENT
DTSTART;TZID=America/New_York:20280807T180000
DTEND;TZID=America/New_York:20280807T200000
DTSTAMP:20260424T020254
CREATED:20251113T011933Z
LAST-MODIFIED:20251114T140508Z
UID:10000362-1849284000-1849291200@abundantgracechurchwh.org
SUMMARY:Student Ministry
DESCRIPTION:Join us for a time filled with energy\, games\, and genuine community. It’s a place to have lots of fun and feel like you belong. We take time to worship and explore who Jesus is and what He teaches.
URL:https://abundantgracechurchwh.org/event/student-ministry/2028-08-07/
LOCATION:Abundant Grace Church West Hills\, 1798 Brodhead Road\, Crescent\, 15046\, United States
CATEGORIES:Ministry
ATTACH;FMTTYPE=image/png:https://abundantgracechurchwh.org/wp-content/uploads/2025/11/Ignite-Thumbnail.png
ORGANIZER;CN="Nate Lesher":MAILTO:natelesheragcwh@gmail.com
END:VEVENT
BEGIN:VEVENT
DTSTART;TZID=America/New_York:20280814T180000
DTEND;TZID=America/New_York:20280814T200000
DTSTAMP:20260424T020255
CREATED:20251113T011933Z
LAST-MODIFIED:20251114T140508Z
UID:10000363-1849888800-1849896000@abundantgracechurchwh.org
SUMMARY:Student Ministry
DESCRIPTION:Join us for a time filled with energy\, games\, and genuine community. It’s a place to have lots of fun and feel like you belong. We take time to worship and explore who Jesus is and what He teaches.
URL:https://abundantgracechurchwh.org/event/student-ministry/2028-08-14/
LOCATION:Abundant Grace Church West Hills\, 1798 Brodhead Road\, Crescent\, 15046\, United States
CATEGORIES:Ministry
ATTACH;FMTTYPE=image/png:https://abundantgracechurchwh.org/wp-content/uploads/2025/11/Ignite-Thumbnail.png
ORGANIZER;CN="Nate Lesher":MAILTO:natelesheragcwh@gmail.com
END:VEVENT
BEGIN:VEVENT
DTSTART;TZID=America/New_York:20280821T180000
DTEND;TZID=America/New_York:20280821T200000
DTSTAMP:20260424T020255
CREATED:20251113T011933Z
LAST-MODIFIED:20251114T140508Z
UID:10000364-1850493600-1850500800@abundantgracechurchwh.org
SUMMARY:Student Ministry
DESCRIPTION:Join us for a time filled with energy\, games\, and genuine community. It’s a place to have lots of fun and feel like you belong. We take time to worship and explore who Jesus is and what He teaches.
URL:https://abundantgracechurchwh.org/event/student-ministry/2028-08-21/
LOCATION:Abundant Grace Church West Hills\, 1798 Brodhead Road\, Crescent\, 15046\, United States
CATEGORIES:Ministry
ATTACH;FMTTYPE=image/png:https://abundantgracechurchwh.org/wp-content/uploads/2025/11/Ignite-Thumbnail.png
ORGANIZER;CN="Nate Lesher":MAILTO:natelesheragcwh@gmail.com
END:VEVENT
BEGIN:VEVENT
DTSTART;TZID=America/New_York:20280828T180000
DTEND;TZID=America/New_York:20280828T200000
DTSTAMP:20260424T020255
CREATED:20251113T011933Z
LAST-MODIFIED:20251114T140508Z
UID:10000365-1851098400-1851105600@abundantgracechurchwh.org
SUMMARY:Student Ministry
DESCRIPTION:Join us for a time filled with energy\, games\, and genuine community. It’s a place to have lots of fun and feel like you belong. We take time to worship and explore who Jesus is and what He teaches.
URL:https://abundantgracechurchwh.org/event/student-ministry/2028-08-28/
LOCATION:Abundant Grace Church West Hills\, 1798 Brodhead Road\, Crescent\, 15046\, United States
CATEGORIES:Ministry
ATTACH;FMTTYPE=image/png:https://abundantgracechurchwh.org/wp-content/uploads/2025/11/Ignite-Thumbnail.png
ORGANIZER;CN="Nate Lesher":MAILTO:natelesheragcwh@gmail.com
END:VEVENT
BEGIN:VEVENT
DTSTART;TZID=America/New_York:20280904T180000
DTEND;TZID=America/New_York:20280904T200000
DTSTAMP:20260424T020255
CREATED:20251113T011933Z
LAST-MODIFIED:20251114T140508Z
UID:10000366-1851703200-1851710400@abundantgracechurchwh.org
SUMMARY:Student Ministry
DESCRIPTION:Join us for a time filled with energy\, games\, and genuine community. It’s a place to have lots of fun and feel like you belong. We take time to worship and explore who Jesus is and what He teaches.
URL:https://abundantgracechurchwh.org/event/student-ministry/2028-09-04/
LOCATION:Abundant Grace Church West Hills\, 1798 Brodhead Road\, Crescent\, 15046\, United States
CATEGORIES:Ministry
ATTACH;FMTTYPE=image/png:https://abundantgracechurchwh.org/wp-content/uploads/2025/11/Ignite-Thumbnail.png
ORGANIZER;CN="Nate Lesher":MAILTO:natelesheragcwh@gmail.com
END:VEVENT
BEGIN:VEVENT
DTSTART;TZID=America/New_York:20280911T180000
DTEND;TZID=America/New_York:20280911T200000
DTSTAMP:20260424T020255
CREATED:20251113T011933Z
LAST-MODIFIED:20251114T140508Z
UID:10000367-1852308000-1852315200@abundantgracechurchwh.org
SUMMARY:Student Ministry
DESCRIPTION:Join us for a time filled with energy\, games\, and genuine community. It’s a place to have lots of fun and feel like you belong. We take time to worship and explore who Jesus is and what He teaches.
URL:https://abundantgracechurchwh.org/event/student-ministry/2028-09-11/
LOCATION:Abundant Grace Church West Hills\, 1798 Brodhead Road\, Crescent\, 15046\, United States
CATEGORIES:Ministry
ATTACH;FMTTYPE=image/png:https://abundantgracechurchwh.org/wp-content/uploads/2025/11/Ignite-Thumbnail.png
ORGANIZER;CN="Nate Lesher":MAILTO:natelesheragcwh@gmail.com
END:VEVENT
BEGIN:VEVENT
DTSTART;TZID=America/New_York:20280918T180000
DTEND;TZID=America/New_York:20280918T200000
DTSTAMP:20260424T020255
CREATED:20251113T011933Z
LAST-MODIFIED:20251114T140508Z
UID:10000368-1852912800-1852920000@abundantgracechurchwh.org
SUMMARY:Student Ministry
DESCRIPTION:Join us for a time filled with energy\, games\, and genuine community. It’s a place to have lots of fun and feel like you belong. We take time to worship and explore who Jesus is and what He teaches.
URL:https://abundantgracechurchwh.org/event/student-ministry/2028-09-18/
LOCATION:Abundant Grace Church West Hills\, 1798 Brodhead Road\, Crescent\, 15046\, United States
CATEGORIES:Ministry
ATTACH;FMTTYPE=image/png:https://abundantgracechurchwh.org/wp-content/uploads/2025/11/Ignite-Thumbnail.png
ORGANIZER;CN="Nate Lesher":MAILTO:natelesheragcwh@gmail.com
END:VEVENT
END:VCALENDAR