BEGIN:VCALENDAR
VERSION:2.0
PRODID:-//Abundant Grace Church West Hills - ECPv6.15.13//NONSGML v1.0//EN
CALSCALE:GREGORIAN
METHOD:PUBLISH
X-ORIGINAL-URL:https://abundantgracechurchwh.org
X-WR-CALDESC:Events for Abundant Grace Church West Hills
REFRESH-INTERVAL;VALUE=DURATION:PT1H
X-Robots-Tag:noindex
X-PUBLISHED-TTL:PT1H
BEGIN:VTIMEZONE
TZID:America/New_York
BEGIN:DAYLIGHT
TZOFFSETFROM:-0500
TZOFFSETTO:-0400
TZNAME:EDT
DTSTART:20280312T070000
END:DAYLIGHT
BEGIN:STANDARD
TZOFFSETFROM:-0400
TZOFFSETTO:-0500
TZNAME:EST
DTSTART:20281105T060000
END:STANDARD
BEGIN:DAYLIGHT
TZOFFSETFROM:-0500
TZOFFSETTO:-0400
TZNAME:EDT
DTSTART:20290311T070000
END:DAYLIGHT
BEGIN:STANDARD
TZOFFSETFROM:-0400
TZOFFSETTO:-0500
TZNAME:EST
DTSTART:20291104T060000
END:STANDARD
BEGIN:DAYLIGHT
TZOFFSETFROM:-0500
TZOFFSETTO:-0400
TZNAME:EDT
DTSTART:20300310T070000
END:DAYLIGHT
BEGIN:STANDARD
TZOFFSETFROM:-0400
TZOFFSETTO:-0500
TZNAME:EST
DTSTART:20301103T060000
END:STANDARD
BEGIN:DAYLIGHT
TZOFFSETFROM:-0500
TZOFFSETTO:-0400
TZNAME:EDT
DTSTART:20310309T070000
END:DAYLIGHT
BEGIN:STANDARD
TZOFFSETFROM:-0400
TZOFFSETTO:-0500
TZNAME:EST
DTSTART:20311102T060000
END:STANDARD
END:VTIMEZONE
BEGIN:VEVENT
DTSTART;TZID=America/New_York:20290501T183000
DTEND;TZID=America/New_York:20290501T203000
DTSTAMP:20260423T224931
CREATED:20251114T135848Z
LAST-MODIFIED:20251114T140055Z
UID:10000910-1872354600-1872361800@abundantgracechurchwh.org
SUMMARY:Men's Bible Study (First Tuesday)
DESCRIPTION:Join us to read and discuss the Bible to deepen our faith\, grow in our relationship with God\, and support one another.
URL:https://abundantgracechurchwh.org/event/mens-bible-study-first-tuesday/2029-05-01/
LOCATION:Abundant Grace Church West Hills\, 1798 Brodhead Road\, Crescent\, 15046\, United States
CATEGORIES:Ministry
ORGANIZER;CN="Tom Martz":MAILTO:kwmcontrols@gmail.com
END:VEVENT
BEGIN:VEVENT
DTSTART;TZID=America/New_York:20290515T183000
DTEND;TZID=America/New_York:20290515T203000
DTSTAMP:20260423T224931
CREATED:20251114T140030Z
LAST-MODIFIED:20251114T140030Z
UID:10000971-1873564200-1873571400@abundantgracechurchwh.org
SUMMARY:Men's Bible Study (Third Tuesday)
DESCRIPTION:Join us to read and discuss the Bible to deepen our faith\, grow in our relationship with God\, and support one another.
URL:https://abundantgracechurchwh.org/event/mens-bible-study-third-tuesday/2029-05-15/
LOCATION:Abundant Grace Church West Hills\, 1798 Brodhead Road\, Crescent\, 15046\, United States
CATEGORIES:Ministry
ORGANIZER;CN="Tom Martz":MAILTO:kwmcontrols@gmail.com
END:VEVENT
BEGIN:VEVENT
DTSTART;TZID=America/New_York:20290605T183000
DTEND;TZID=America/New_York:20290605T203000
DTSTAMP:20260423T224931
CREATED:20251114T135848Z
LAST-MODIFIED:20251114T140055Z
UID:10000911-1875378600-1875385800@abundantgracechurchwh.org
SUMMARY:Men's Bible Study (First Tuesday)
DESCRIPTION:Join us to read and discuss the Bible to deepen our faith\, grow in our relationship with God\, and support one another.
URL:https://abundantgracechurchwh.org/event/mens-bible-study-first-tuesday/2029-06-05/
LOCATION:Abundant Grace Church West Hills\, 1798 Brodhead Road\, Crescent\, 15046\, United States
CATEGORIES:Ministry
ORGANIZER;CN="Tom Martz":MAILTO:kwmcontrols@gmail.com
END:VEVENT
BEGIN:VEVENT
DTSTART;TZID=America/New_York:20290619T183000
DTEND;TZID=America/New_York:20290619T203000
DTSTAMP:20260423T224931
CREATED:20251114T140030Z
LAST-MODIFIED:20251114T140030Z
UID:10000972-1876588200-1876595400@abundantgracechurchwh.org
SUMMARY:Men's Bible Study (Third Tuesday)
DESCRIPTION:Join us to read and discuss the Bible to deepen our faith\, grow in our relationship with God\, and support one another.
URL:https://abundantgracechurchwh.org/event/mens-bible-study-third-tuesday/2029-06-19/
LOCATION:Abundant Grace Church West Hills\, 1798 Brodhead Road\, Crescent\, 15046\, United States
CATEGORIES:Ministry
ORGANIZER;CN="Tom Martz":MAILTO:kwmcontrols@gmail.com
END:VEVENT
BEGIN:VEVENT
DTSTART;TZID=America/New_York:20290703T183000
DTEND;TZID=America/New_York:20290703T203000
DTSTAMP:20260423T224931
CREATED:20251114T135848Z
LAST-MODIFIED:20251114T140055Z
UID:10000912-1877797800-1877805000@abundantgracechurchwh.org
SUMMARY:Men's Bible Study (First Tuesday)
DESCRIPTION:Join us to read and discuss the Bible to deepen our faith\, grow in our relationship with God\, and support one another.
URL:https://abundantgracechurchwh.org/event/mens-bible-study-first-tuesday/2029-07-03/
LOCATION:Abundant Grace Church West Hills\, 1798 Brodhead Road\, Crescent\, 15046\, United States
CATEGORIES:Ministry
ORGANIZER;CN="Tom Martz":MAILTO:kwmcontrols@gmail.com
END:VEVENT
BEGIN:VEVENT
DTSTART;TZID=America/New_York:20290717T183000
DTEND;TZID=America/New_York:20290717T203000
DTSTAMP:20260423T224931
CREATED:20251114T140030Z
LAST-MODIFIED:20251114T140030Z
UID:10000973-1879007400-1879014600@abundantgracechurchwh.org
SUMMARY:Men's Bible Study (Third Tuesday)
DESCRIPTION:Join us to read and discuss the Bible to deepen our faith\, grow in our relationship with God\, and support one another.
URL:https://abundantgracechurchwh.org/event/mens-bible-study-third-tuesday/2029-07-17/
LOCATION:Abundant Grace Church West Hills\, 1798 Brodhead Road\, Crescent\, 15046\, United States
CATEGORIES:Ministry
ORGANIZER;CN="Tom Martz":MAILTO:kwmcontrols@gmail.com
END:VEVENT
BEGIN:VEVENT
DTSTART;TZID=America/New_York:20290807T183000
DTEND;TZID=America/New_York:20290807T203000
DTSTAMP:20260423T224931
CREATED:20251114T135848Z
LAST-MODIFIED:20251114T140055Z
UID:10000913-1880821800-1880829000@abundantgracechurchwh.org
SUMMARY:Men's Bible Study (First Tuesday)
DESCRIPTION:Join us to read and discuss the Bible to deepen our faith\, grow in our relationship with God\, and support one another.
URL:https://abundantgracechurchwh.org/event/mens-bible-study-first-tuesday/2029-08-07/
LOCATION:Abundant Grace Church West Hills\, 1798 Brodhead Road\, Crescent\, 15046\, United States
CATEGORIES:Ministry
ORGANIZER;CN="Tom Martz":MAILTO:kwmcontrols@gmail.com
END:VEVENT
BEGIN:VEVENT
DTSTART;TZID=America/New_York:20290821T183000
DTEND;TZID=America/New_York:20290821T203000
DTSTAMP:20260423T224931
CREATED:20251114T140030Z
LAST-MODIFIED:20251114T140030Z
UID:10000974-1882031400-1882038600@abundantgracechurchwh.org
SUMMARY:Men's Bible Study (Third Tuesday)
DESCRIPTION:Join us to read and discuss the Bible to deepen our faith\, grow in our relationship with God\, and support one another.
URL:https://abundantgracechurchwh.org/event/mens-bible-study-third-tuesday/2029-08-21/
LOCATION:Abundant Grace Church West Hills\, 1798 Brodhead Road\, Crescent\, 15046\, United States
CATEGORIES:Ministry
ORGANIZER;CN="Tom Martz":MAILTO:kwmcontrols@gmail.com
END:VEVENT
BEGIN:VEVENT
DTSTART;TZID=America/New_York:20290904T183000
DTEND;TZID=America/New_York:20290904T203000
DTSTAMP:20260423T224931
CREATED:20251114T135848Z
LAST-MODIFIED:20251114T140055Z
UID:10000914-1883241000-1883248200@abundantgracechurchwh.org
SUMMARY:Men's Bible Study (First Tuesday)
DESCRIPTION:Join us to read and discuss the Bible to deepen our faith\, grow in our relationship with God\, and support one another.
URL:https://abundantgracechurchwh.org/event/mens-bible-study-first-tuesday/2029-09-04/
LOCATION:Abundant Grace Church West Hills\, 1798 Brodhead Road\, Crescent\, 15046\, United States
CATEGORIES:Ministry
ORGANIZER;CN="Tom Martz":MAILTO:kwmcontrols@gmail.com
END:VEVENT
BEGIN:VEVENT
DTSTART;TZID=America/New_York:20290918T183000
DTEND;TZID=America/New_York:20290918T203000
DTSTAMP:20260423T224931
CREATED:20251114T140030Z
LAST-MODIFIED:20251114T140030Z
UID:10000975-1884450600-1884457800@abundantgracechurchwh.org
SUMMARY:Men's Bible Study (Third Tuesday)
DESCRIPTION:Join us to read and discuss the Bible to deepen our faith\, grow in our relationship with God\, and support one another.
URL:https://abundantgracechurchwh.org/event/mens-bible-study-third-tuesday/2029-09-18/
LOCATION:Abundant Grace Church West Hills\, 1798 Brodhead Road\, Crescent\, 15046\, United States
CATEGORIES:Ministry
ORGANIZER;CN="Tom Martz":MAILTO:kwmcontrols@gmail.com
END:VEVENT
BEGIN:VEVENT
DTSTART;TZID=America/New_York:20291002T183000
DTEND;TZID=America/New_York:20291002T203000
DTSTAMP:20260423T224931
CREATED:20251114T135848Z
LAST-MODIFIED:20251114T140055Z
UID:10000915-1885660200-1885667400@abundantgracechurchwh.org
SUMMARY:Men's Bible Study (First Tuesday)
DESCRIPTION:Join us to read and discuss the Bible to deepen our faith\, grow in our relationship with God\, and support one another.
URL:https://abundantgracechurchwh.org/event/mens-bible-study-first-tuesday/2029-10-02/
LOCATION:Abundant Grace Church West Hills\, 1798 Brodhead Road\, Crescent\, 15046\, United States
CATEGORIES:Ministry
ORGANIZER;CN="Tom Martz":MAILTO:kwmcontrols@gmail.com
END:VEVENT
BEGIN:VEVENT
DTSTART;TZID=America/New_York:20291016T183000
DTEND;TZID=America/New_York:20291016T203000
DTSTAMP:20260423T224931
CREATED:20251114T140030Z
LAST-MODIFIED:20251114T140030Z
UID:10000976-1886869800-1886877000@abundantgracechurchwh.org
SUMMARY:Men's Bible Study (Third Tuesday)
DESCRIPTION:Join us to read and discuss the Bible to deepen our faith\, grow in our relationship with God\, and support one another.
URL:https://abundantgracechurchwh.org/event/mens-bible-study-third-tuesday/2029-10-16/
LOCATION:Abundant Grace Church West Hills\, 1798 Brodhead Road\, Crescent\, 15046\, United States
CATEGORIES:Ministry
ORGANIZER;CN="Tom Martz":MAILTO:kwmcontrols@gmail.com
END:VEVENT
BEGIN:VEVENT
DTSTART;TZID=America/New_York:20291106T183000
DTEND;TZID=America/New_York:20291106T203000
DTSTAMP:20260423T224931
CREATED:20251114T135848Z
LAST-MODIFIED:20251114T140055Z
UID:10000916-1888684200-1888691400@abundantgracechurchwh.org
SUMMARY:Men's Bible Study (First Tuesday)
DESCRIPTION:Join us to read and discuss the Bible to deepen our faith\, grow in our relationship with God\, and support one another.
URL:https://abundantgracechurchwh.org/event/mens-bible-study-first-tuesday/2029-11-06/
LOCATION:Abundant Grace Church West Hills\, 1798 Brodhead Road\, Crescent\, 15046\, United States
CATEGORIES:Ministry
ORGANIZER;CN="Tom Martz":MAILTO:kwmcontrols@gmail.com
END:VEVENT
BEGIN:VEVENT
DTSTART;TZID=America/New_York:20291120T183000
DTEND;TZID=America/New_York:20291120T203000
DTSTAMP:20260423T224931
CREATED:20251114T140030Z
LAST-MODIFIED:20251114T140030Z
UID:10000977-1889893800-1889901000@abundantgracechurchwh.org
SUMMARY:Men's Bible Study (Third Tuesday)
DESCRIPTION:Join us to read and discuss the Bible to deepen our faith\, grow in our relationship with God\, and support one another.
URL:https://abundantgracechurchwh.org/event/mens-bible-study-third-tuesday/2029-11-20/
LOCATION:Abundant Grace Church West Hills\, 1798 Brodhead Road\, Crescent\, 15046\, United States
CATEGORIES:Ministry
ORGANIZER;CN="Tom Martz":MAILTO:kwmcontrols@gmail.com
END:VEVENT
BEGIN:VEVENT
DTSTART;TZID=America/New_York:20291204T183000
DTEND;TZID=America/New_York:20291204T203000
DTSTAMP:20260423T224931
CREATED:20251114T135848Z
LAST-MODIFIED:20251114T140055Z
UID:10000917-1891103400-1891110600@abundantgracechurchwh.org
SUMMARY:Men's Bible Study (First Tuesday)
DESCRIPTION:Join us to read and discuss the Bible to deepen our faith\, grow in our relationship with God\, and support one another.
URL:https://abundantgracechurchwh.org/event/mens-bible-study-first-tuesday/2029-12-04/
LOCATION:Abundant Grace Church West Hills\, 1798 Brodhead Road\, Crescent\, 15046\, United States
CATEGORIES:Ministry
ORGANIZER;CN="Tom Martz":MAILTO:kwmcontrols@gmail.com
END:VEVENT
BEGIN:VEVENT
DTSTART;TZID=America/New_York:20291218T183000
DTEND;TZID=America/New_York:20291218T203000
DTSTAMP:20260423T224931
CREATED:20251114T140030Z
LAST-MODIFIED:20251114T140030Z
UID:10000978-1892313000-1892320200@abundantgracechurchwh.org
SUMMARY:Men's Bible Study (Third Tuesday)
DESCRIPTION:Join us to read and discuss the Bible to deepen our faith\, grow in our relationship with God\, and support one another.
URL:https://abundantgracechurchwh.org/event/mens-bible-study-third-tuesday/2029-12-18/
LOCATION:Abundant Grace Church West Hills\, 1798 Brodhead Road\, Crescent\, 15046\, United States
CATEGORIES:Ministry
ORGANIZER;CN="Tom Martz":MAILTO:kwmcontrols@gmail.com
END:VEVENT
BEGIN:VEVENT
DTSTART;TZID=America/New_York:20300101T183000
DTEND;TZID=America/New_York:20300101T203000
DTSTAMP:20260423T224931
CREATED:20251114T135848Z
LAST-MODIFIED:20251114T140055Z
UID:10000918-1893522600-1893529800@abundantgracechurchwh.org
SUMMARY:Men's Bible Study (First Tuesday)
DESCRIPTION:Join us to read and discuss the Bible to deepen our faith\, grow in our relationship with God\, and support one another.
URL:https://abundantgracechurchwh.org/event/mens-bible-study-first-tuesday/2030-01-01/
LOCATION:Abundant Grace Church West Hills\, 1798 Brodhead Road\, Crescent\, 15046\, United States
CATEGORIES:Ministry
ORGANIZER;CN="Tom Martz":MAILTO:kwmcontrols@gmail.com
END:VEVENT
BEGIN:VEVENT
DTSTART;TZID=America/New_York:20300115T183000
DTEND;TZID=America/New_York:20300115T203000
DTSTAMP:20260423T224931
CREATED:20251114T140030Z
LAST-MODIFIED:20251114T140030Z
UID:10000979-1894732200-1894739400@abundantgracechurchwh.org
SUMMARY:Men's Bible Study (Third Tuesday)
DESCRIPTION:Join us to read and discuss the Bible to deepen our faith\, grow in our relationship with God\, and support one another.
URL:https://abundantgracechurchwh.org/event/mens-bible-study-third-tuesday/2030-01-15/
LOCATION:Abundant Grace Church West Hills\, 1798 Brodhead Road\, Crescent\, 15046\, United States
CATEGORIES:Ministry
ORGANIZER;CN="Tom Martz":MAILTO:kwmcontrols@gmail.com
END:VEVENT
BEGIN:VEVENT
DTSTART;TZID=America/New_York:20300205T183000
DTEND;TZID=America/New_York:20300205T203000
DTSTAMP:20260423T224931
CREATED:20251114T135848Z
LAST-MODIFIED:20251114T140055Z
UID:10000919-1896546600-1896553800@abundantgracechurchwh.org
SUMMARY:Men's Bible Study (First Tuesday)
DESCRIPTION:Join us to read and discuss the Bible to deepen our faith\, grow in our relationship with God\, and support one another.
URL:https://abundantgracechurchwh.org/event/mens-bible-study-first-tuesday/2030-02-05/
LOCATION:Abundant Grace Church West Hills\, 1798 Brodhead Road\, Crescent\, 15046\, United States
CATEGORIES:Ministry
ORGANIZER;CN="Tom Martz":MAILTO:kwmcontrols@gmail.com
END:VEVENT
BEGIN:VEVENT
DTSTART;TZID=America/New_York:20300219T183000
DTEND;TZID=America/New_York:20300219T203000
DTSTAMP:20260423T224931
CREATED:20251114T140030Z
LAST-MODIFIED:20251114T140030Z
UID:10000980-1897756200-1897763400@abundantgracechurchwh.org
SUMMARY:Men's Bible Study (Third Tuesday)
DESCRIPTION:Join us to read and discuss the Bible to deepen our faith\, grow in our relationship with God\, and support one another.
URL:https://abundantgracechurchwh.org/event/mens-bible-study-third-tuesday/2030-02-19/
LOCATION:Abundant Grace Church West Hills\, 1798 Brodhead Road\, Crescent\, 15046\, United States
CATEGORIES:Ministry
ORGANIZER;CN="Tom Martz":MAILTO:kwmcontrols@gmail.com
END:VEVENT
BEGIN:VEVENT
DTSTART;TZID=America/New_York:20300305T183000
DTEND;TZID=America/New_York:20300305T203000
DTSTAMP:20260423T224931
CREATED:20251114T135848Z
LAST-MODIFIED:20251114T140055Z
UID:10000920-1898965800-1898973000@abundantgracechurchwh.org
SUMMARY:Men's Bible Study (First Tuesday)
DESCRIPTION:Join us to read and discuss the Bible to deepen our faith\, grow in our relationship with God\, and support one another.
URL:https://abundantgracechurchwh.org/event/mens-bible-study-first-tuesday/2030-03-05/
LOCATION:Abundant Grace Church West Hills\, 1798 Brodhead Road\, Crescent\, 15046\, United States
CATEGORIES:Ministry
ORGANIZER;CN="Tom Martz":MAILTO:kwmcontrols@gmail.com
END:VEVENT
BEGIN:VEVENT
DTSTART;TZID=America/New_York:20300319T183000
DTEND;TZID=America/New_York:20300319T203000
DTSTAMP:20260423T224931
CREATED:20251114T140030Z
LAST-MODIFIED:20251114T140030Z
UID:10000981-1900175400-1900182600@abundantgracechurchwh.org
SUMMARY:Men's Bible Study (Third Tuesday)
DESCRIPTION:Join us to read and discuss the Bible to deepen our faith\, grow in our relationship with God\, and support one another.
URL:https://abundantgracechurchwh.org/event/mens-bible-study-third-tuesday/2030-03-19/
LOCATION:Abundant Grace Church West Hills\, 1798 Brodhead Road\, Crescent\, 15046\, United States
CATEGORIES:Ministry
ORGANIZER;CN="Tom Martz":MAILTO:kwmcontrols@gmail.com
END:VEVENT
BEGIN:VEVENT
DTSTART;TZID=America/New_York:20300402T183000
DTEND;TZID=America/New_York:20300402T203000
DTSTAMP:20260423T224931
CREATED:20251114T135848Z
LAST-MODIFIED:20251114T140055Z
UID:10000921-1901385000-1901392200@abundantgracechurchwh.org
SUMMARY:Men's Bible Study (First Tuesday)
DESCRIPTION:Join us to read and discuss the Bible to deepen our faith\, grow in our relationship with God\, and support one another.
URL:https://abundantgracechurchwh.org/event/mens-bible-study-first-tuesday/2030-04-02/
LOCATION:Abundant Grace Church West Hills\, 1798 Brodhead Road\, Crescent\, 15046\, United States
CATEGORIES:Ministry
ORGANIZER;CN="Tom Martz":MAILTO:kwmcontrols@gmail.com
END:VEVENT
BEGIN:VEVENT
DTSTART;TZID=America/New_York:20300416T183000
DTEND;TZID=America/New_York:20300416T203000
DTSTAMP:20260423T224931
CREATED:20251114T140030Z
LAST-MODIFIED:20251114T140030Z
UID:10000982-1902594600-1902601800@abundantgracechurchwh.org
SUMMARY:Men's Bible Study (Third Tuesday)
DESCRIPTION:Join us to read and discuss the Bible to deepen our faith\, grow in our relationship with God\, and support one another.
URL:https://abundantgracechurchwh.org/event/mens-bible-study-third-tuesday/2030-04-16/
LOCATION:Abundant Grace Church West Hills\, 1798 Brodhead Road\, Crescent\, 15046\, United States
CATEGORIES:Ministry
ORGANIZER;CN="Tom Martz":MAILTO:kwmcontrols@gmail.com
END:VEVENT
BEGIN:VEVENT
DTSTART;TZID=America/New_York:20300507T183000
DTEND;TZID=America/New_York:20300507T203000
DTSTAMP:20260423T224931
CREATED:20251114T135848Z
LAST-MODIFIED:20251114T140055Z
UID:10000922-1904409000-1904416200@abundantgracechurchwh.org
SUMMARY:Men's Bible Study (First Tuesday)
DESCRIPTION:Join us to read and discuss the Bible to deepen our faith\, grow in our relationship with God\, and support one another.
URL:https://abundantgracechurchwh.org/event/mens-bible-study-first-tuesday/2030-05-07/
LOCATION:Abundant Grace Church West Hills\, 1798 Brodhead Road\, Crescent\, 15046\, United States
CATEGORIES:Ministry
ORGANIZER;CN="Tom Martz":MAILTO:kwmcontrols@gmail.com
END:VEVENT
BEGIN:VEVENT
DTSTART;TZID=America/New_York:20300521T183000
DTEND;TZID=America/New_York:20300521T203000
DTSTAMP:20260423T224931
CREATED:20251114T140030Z
LAST-MODIFIED:20251114T140030Z
UID:10000983-1905618600-1905625800@abundantgracechurchwh.org
SUMMARY:Men's Bible Study (Third Tuesday)
DESCRIPTION:Join us to read and discuss the Bible to deepen our faith\, grow in our relationship with God\, and support one another.
URL:https://abundantgracechurchwh.org/event/mens-bible-study-third-tuesday/2030-05-21/
LOCATION:Abundant Grace Church West Hills\, 1798 Brodhead Road\, Crescent\, 15046\, United States
CATEGORIES:Ministry
ORGANIZER;CN="Tom Martz":MAILTO:kwmcontrols@gmail.com
END:VEVENT
BEGIN:VEVENT
DTSTART;TZID=America/New_York:20300604T183000
DTEND;TZID=America/New_York:20300604T203000
DTSTAMP:20260423T224931
CREATED:20251114T135848Z
LAST-MODIFIED:20251114T140055Z
UID:10000923-1906828200-1906835400@abundantgracechurchwh.org
SUMMARY:Men's Bible Study (First Tuesday)
DESCRIPTION:Join us to read and discuss the Bible to deepen our faith\, grow in our relationship with God\, and support one another.
URL:https://abundantgracechurchwh.org/event/mens-bible-study-first-tuesday/2030-06-04/
LOCATION:Abundant Grace Church West Hills\, 1798 Brodhead Road\, Crescent\, 15046\, United States
CATEGORIES:Ministry
ORGANIZER;CN="Tom Martz":MAILTO:kwmcontrols@gmail.com
END:VEVENT
BEGIN:VEVENT
DTSTART;TZID=America/New_York:20300618T183000
DTEND;TZID=America/New_York:20300618T203000
DTSTAMP:20260423T224931
CREATED:20251114T140030Z
LAST-MODIFIED:20251114T140030Z
UID:10000984-1908037800-1908045000@abundantgracechurchwh.org
SUMMARY:Men's Bible Study (Third Tuesday)
DESCRIPTION:Join us to read and discuss the Bible to deepen our faith\, grow in our relationship with God\, and support one another.
URL:https://abundantgracechurchwh.org/event/mens-bible-study-third-tuesday/2030-06-18/
LOCATION:Abundant Grace Church West Hills\, 1798 Brodhead Road\, Crescent\, 15046\, United States
CATEGORIES:Ministry
ORGANIZER;CN="Tom Martz":MAILTO:kwmcontrols@gmail.com
END:VEVENT
BEGIN:VEVENT
DTSTART;TZID=America/New_York:20300702T183000
DTEND;TZID=America/New_York:20300702T203000
DTSTAMP:20260423T224931
CREATED:20251114T135848Z
LAST-MODIFIED:20251114T140055Z
UID:10000924-1909247400-1909254600@abundantgracechurchwh.org
SUMMARY:Men's Bible Study (First Tuesday)
DESCRIPTION:Join us to read and discuss the Bible to deepen our faith\, grow in our relationship with God\, and support one another.
URL:https://abundantgracechurchwh.org/event/mens-bible-study-first-tuesday/2030-07-02/
LOCATION:Abundant Grace Church West Hills\, 1798 Brodhead Road\, Crescent\, 15046\, United States
CATEGORIES:Ministry
ORGANIZER;CN="Tom Martz":MAILTO:kwmcontrols@gmail.com
END:VEVENT
BEGIN:VEVENT
DTSTART;TZID=America/New_York:20300716T183000
DTEND;TZID=America/New_York:20300716T203000
DTSTAMP:20260423T224931
CREATED:20251114T140030Z
LAST-MODIFIED:20251114T140030Z
UID:10000985-1910457000-1910464200@abundantgracechurchwh.org
SUMMARY:Men's Bible Study (Third Tuesday)
DESCRIPTION:Join us to read and discuss the Bible to deepen our faith\, grow in our relationship with God\, and support one another.
URL:https://abundantgracechurchwh.org/event/mens-bible-study-third-tuesday/2030-07-16/
LOCATION:Abundant Grace Church West Hills\, 1798 Brodhead Road\, Crescent\, 15046\, United States
CATEGORIES:Ministry
ORGANIZER;CN="Tom Martz":MAILTO:kwmcontrols@gmail.com
END:VEVENT
END:VCALENDAR