BEGIN:VCALENDAR
VERSION:2.0
PRODID:-//Abundant Grace Church West Hills - ECPv6.15.13//NONSGML v1.0//EN
CALSCALE:GREGORIAN
METHOD:PUBLISH
X-ORIGINAL-URL:https://abundantgracechurchwh.org
X-WR-CALDESC:Events for Abundant Grace Church West Hills
REFRESH-INTERVAL;VALUE=DURATION:PT1H
X-Robots-Tag:noindex
X-PUBLISHED-TTL:PT1H
BEGIN:VTIMEZONE
TZID:America/New_York
BEGIN:DAYLIGHT
TZOFFSETFROM:-0500
TZOFFSETTO:-0400
TZNAME:EDT
DTSTART:20240310T070000
END:DAYLIGHT
BEGIN:STANDARD
TZOFFSETFROM:-0400
TZOFFSETTO:-0500
TZNAME:EST
DTSTART:20241103T060000
END:STANDARD
BEGIN:DAYLIGHT
TZOFFSETFROM:-0500
TZOFFSETTO:-0400
TZNAME:EDT
DTSTART:20250309T070000
END:DAYLIGHT
BEGIN:STANDARD
TZOFFSETFROM:-0400
TZOFFSETTO:-0500
TZNAME:EST
DTSTART:20251102T060000
END:STANDARD
BEGIN:DAYLIGHT
TZOFFSETFROM:-0500
TZOFFSETTO:-0400
TZNAME:EDT
DTSTART:20260308T070000
END:DAYLIGHT
BEGIN:STANDARD
TZOFFSETFROM:-0400
TZOFFSETTO:-0500
TZNAME:EST
DTSTART:20261101T060000
END:STANDARD
END:VTIMEZONE
BEGIN:VEVENT
DTSTART;TZID=America/New_York:20251210T090000
DTEND;TZID=America/New_York:20251210T100000
DTSTAMP:20260423T223953
CREATED:20251114T141209Z
LAST-MODIFIED:20251121T191131Z
UID:10000992-1765357200-1765360800@abundantgracechurchwh.org
SUMMARY:Morning Prayer Service
DESCRIPTION:Join us as we pray for our church\, neighborhoods\, cities\, state\, and our nation.
URL:https://abundantgracechurchwh.org/event/morning-prayer-service/2025-12-10/
LOCATION:Abundant Grace Church West Hills\, 1798 Brodhead Road\, Crescent\, 15046\, United States
CATEGORIES:Prayer Service
ORGANIZER;CN="Tracey Corso":MAILTO:pastortracey@abundantgracechurchwh.org
END:VEVENT
BEGIN:VEVENT
DTSTART;TZID=America/New_York:20251209T181500
DTEND;TZID=America/New_York:20251209T200000
DTSTAMP:20260423T223953
CREATED:20251121T192343Z
LAST-MODIFIED:20251203T214021Z
UID:10001640-1765304100-1765310400@abundantgracechurchwh.org
SUMMARY:Women’s Evening Bible Study (Second Tuesday)
DESCRIPTION:
URL:https://abundantgracechurchwh.org/event/womens-evening-bible-study-second-tuesday/2025-12-09/
LOCATION:Abundant Grace Church West Hills\, 1798 Brodhead Road\, Crescent\, 15046\, United States
CATEGORIES:Ministry
ORGANIZER;CN="Tracey Corso":MAILTO:pastortracey@abundantgracechurchwh.org
END:VEVENT
BEGIN:VEVENT
DTSTART;TZID=America/New_York:20251207T100000
DTEND;TZID=America/New_York:20251207T113000
DTSTAMP:20260423T223953
CREATED:20251121T191301Z
LAST-MODIFIED:20251121T191649Z
UID:10001635-1765101600-1765107000@abundantgracechurchwh.org
SUMMARY:Bishop Visit/Confirmations/Reaffirmations
DESCRIPTION:
URL:https://abundantgracechurchwh.org/event/bishop-visit-confirmations-reaffirmations/
LOCATION:Abundant Grace Church West Hills\, 1798 Brodhead Road\, Crescent\, 15046\, United States
CATEGORIES:Worship Service
ORGANIZER;CN="Tracey Corso":MAILTO:pastortracey@abundantgracechurchwh.org
END:VEVENT
BEGIN:VEVENT
DTSTART;TZID=America/New_York:20251207T100000
DTEND;TZID=America/New_York:20251207T110000
DTSTAMP:20260423T223953
CREATED:20251114T141806Z
LAST-MODIFIED:20251114T141806Z
UID:10001254-1765101600-1765105200@abundantgracechurchwh.org
SUMMARY:Sunday Worship Service
DESCRIPTION:Our worship service lasts approximately 60 minutes and includes contemporary music\, prayer\, scripture reading\, frequent communion\, and a message.
URL:https://abundantgracechurchwh.org/event/sunday-worship-service/2025-12-07/
LOCATION:Abundant Grace Church West Hills\, 1798 Brodhead Road\, Crescent\, 15046\, United States
CATEGORIES:Worship Service
ORGANIZER;CN="Tracey Corso":MAILTO:pastortracey@abundantgracechurchwh.org
END:VEVENT
BEGIN:VEVENT
DTSTART;TZID=America/New_York:20251205T180000
DTEND;TZID=America/New_York:20251205T203000
DTSTAMP:20260423T223953
CREATED:20251114T142226Z
LAST-MODIFIED:20251114T142226Z
UID:10001513-1764957600-1764966600@abundantgracechurchwh.org
SUMMARY:Light Your World (First Friday)
DESCRIPTION:Light Your World is a ministry that provides food\, clothing\, and toiletries to the homeless near the Boulevard of the Allies bridge in Pittsburgh. In addition to physical necessities\, Light Your World provides fellowship by sharing the love\, hope\, and abundant grace of Jesus Christ.
URL:https://abundantgracechurchwh.org/event/light-your-world-first-friday/2025-12-05/
LOCATION:Abundant Grace Church West Hills\, 1798 Brodhead Road\, Crescent\, 15046\, United States
CATEGORIES:Ministry
ORGANIZER;CN="Tracey Corso":MAILTO:pastortracey@abundantgracechurchwh.org
END:VEVENT
BEGIN:VEVENT
DTSTART;TZID=America/New_York:20251203T090000
DTEND;TZID=America/New_York:20251203T100000
DTSTAMP:20260423T223953
CREATED:20251114T141209Z
LAST-MODIFIED:20251121T191131Z
UID:10000991-1764752400-1764756000@abundantgracechurchwh.org
SUMMARY:Morning Prayer Service
DESCRIPTION:Join us as we pray for our church\, neighborhoods\, cities\, state\, and our nation.
URL:https://abundantgracechurchwh.org/event/morning-prayer-service/2025-12-03/
LOCATION:Abundant Grace Church West Hills\, 1798 Brodhead Road\, Crescent\, 15046\, United States
CATEGORIES:Prayer Service
ORGANIZER;CN="Tracey Corso":MAILTO:pastortracey@abundantgracechurchwh.org
END:VEVENT
BEGIN:VEVENT
DTSTART;TZID=America/New_York:20251130T100000
DTEND;TZID=America/New_York:20251130T110000
DTSTAMP:20260423T223953
CREATED:20251114T141806Z
LAST-MODIFIED:20251114T141806Z
UID:10001253-1764496800-1764500400@abundantgracechurchwh.org
SUMMARY:Sunday Worship Service
DESCRIPTION:Our worship service lasts approximately 60 minutes and includes contemporary music\, prayer\, scripture reading\, frequent communion\, and a message.
URL:https://abundantgracechurchwh.org/event/sunday-worship-service/2025-11-30/
LOCATION:Abundant Grace Church West Hills\, 1798 Brodhead Road\, Crescent\, 15046\, United States
CATEGORIES:Worship Service
ORGANIZER;CN="Tracey Corso":MAILTO:pastortracey@abundantgracechurchwh.org
END:VEVENT
BEGIN:VEVENT
DTSTART;TZID=America/New_York:20251125T181500
DTEND;TZID=America/New_York:20251125T200000
DTSTAMP:20260423T223953
CREATED:20251121T192444Z
LAST-MODIFIED:20251203T214029Z
UID:10001700-1764094500-1764100800@abundantgracechurchwh.org
SUMMARY:Women's Evening Bible Study (Fourth Tuesday)
DESCRIPTION:
URL:https://abundantgracechurchwh.org/event/womens-evening-bible-study-fourth-tuesday/2025-11-25/
LOCATION:Abundant Grace Church West Hills\, 1798 Brodhead Road\, Crescent\, 15046\, United States
CATEGORIES:Ministry
ORGANIZER;CN="Tracey Corso":MAILTO:pastortracey@abundantgracechurchwh.org
END:VEVENT
BEGIN:VEVENT
DTSTART;TZID=America/New_York:20251123T100000
DTEND;TZID=America/New_York:20251123T110000
DTSTAMP:20260423T223953
CREATED:20251114T141806Z
LAST-MODIFIED:20251114T141806Z
UID:10001252-1763892000-1763895600@abundantgracechurchwh.org
SUMMARY:Sunday Worship Service
DESCRIPTION:Our worship service lasts approximately 60 minutes and includes contemporary music\, prayer\, scripture reading\, frequent communion\, and a message.
URL:https://abundantgracechurchwh.org/event/sunday-worship-service/2025-11-23/
LOCATION:Abundant Grace Church West Hills\, 1798 Brodhead Road\, Crescent\, 15046\, United States
CATEGORIES:Worship Service
ORGANIZER;CN="Tracey Corso":MAILTO:pastortracey@abundantgracechurchwh.org
END:VEVENT
BEGIN:VEVENT
DTSTART;TZID=America/New_York:20251121T180000
DTEND;TZID=America/New_York:20251121T203000
DTSTAMP:20260423T223953
CREATED:20251114T142325Z
LAST-MODIFIED:20251114T142325Z
UID:10001573-1763748000-1763757000@abundantgracechurchwh.org
SUMMARY:Light Your World (Third Friday)
DESCRIPTION:Light Your World is a ministry that provides food\, clothing\, and toiletries to the homeless near the Boulevard of the Allies bridge in Pittsburgh. In addition to physical necessities\, Light Your World provides fellowship by sharing the love\, hope\, and abundant grace of Jesus Christ.
URL:https://abundantgracechurchwh.org/event/light-your-world-third-friday/2025-11-21/
LOCATION:Abundant Grace Church West Hills\, 1798 Brodhead Road\, Crescent\, 15046\, United States
CATEGORIES:Ministry
ORGANIZER;CN="Tracey Corso":MAILTO:pastortracey@abundantgracechurchwh.org
END:VEVENT
BEGIN:VEVENT
DTSTART;TZID=America/New_York:20251119T090000
DTEND;TZID=America/New_York:20251119T100000
DTSTAMP:20260423T223953
CREATED:20251114T141209Z
LAST-MODIFIED:20251121T191131Z
UID:10000989-1763542800-1763546400@abundantgracechurchwh.org
SUMMARY:Morning Prayer Service
DESCRIPTION:Join us as we pray for our church\, neighborhoods\, cities\, state\, and our nation.
URL:https://abundantgracechurchwh.org/event/morning-prayer-service/2025-11-19/
LOCATION:Abundant Grace Church West Hills\, 1798 Brodhead Road\, Crescent\, 15046\, United States
CATEGORIES:Prayer Service
ORGANIZER;CN="Tracey Corso":MAILTO:pastortracey@abundantgracechurchwh.org
END:VEVENT
BEGIN:VEVENT
DTSTART;TZID=America/New_York:20251116T100000
DTEND;TZID=America/New_York:20251116T110000
DTSTAMP:20260423T223953
CREATED:20251114T141806Z
LAST-MODIFIED:20251114T141806Z
UID:10001251-1763287200-1763290800@abundantgracechurchwh.org
SUMMARY:Sunday Worship Service
DESCRIPTION:Our worship service lasts approximately 60 minutes and includes contemporary music\, prayer\, scripture reading\, frequent communion\, and a message.
URL:https://abundantgracechurchwh.org/event/sunday-worship-service/2025-11-16/
LOCATION:Abundant Grace Church West Hills\, 1798 Brodhead Road\, Crescent\, 15046\, United States
CATEGORIES:Worship Service
ORGANIZER;CN="Tracey Corso":MAILTO:pastortracey@abundantgracechurchwh.org
END:VEVENT
END:VCALENDAR